Back
From: metabase:user:30f4dfbe-2aae-11df-837a-5e0a49663a4f
Subject: PASS Text-Balanced-2.02 v5.8.8 GNU/Linux
Date: 2014-08-21T02:43:23Z
This distribution has been tested as part of the CPAN Testers
project, supporting the Perl programming language. See
http://wiki.cpantesters.org/ for more information or email
questions to cpan-testers-discuss@perl.org
--
Dear Adam Kennedy,
This is a computer-generated report for Text-Balanced-2.02
on perl 5.8.8, created by CPAN-Reporter-1.2011.
Thank you for uploading your work to CPAN. Congratulations!
All tests were successful.
Sections of this report:
* Tester comments
* Program output
* Prerequisites
* Environment and other context
------------------------------
TESTER COMMENTS
------------------------------
Additional comments from tester:
this report is from an automated smoke testing program
and was not reviewed by a human for accuracy
------------------------------
PROGRAM OUTPUT
------------------------------
Output from '/usr/bin/make test':
PERL_DL_NONLAZY=1 /home/njh/perl5/perlbrew/perls/perl-5.8.8/bin/perl "-MExtUtils::Command::MM" "-MTest::Harness" "-e" "undef *Test::Harness::Switches; test_harness(0, 'blib/lib', 'blib/arch')" t/*.t
t/01_compile.t .. ok
t/02_extbrk.t ... ok
t/03_extcbk.t ... ok
t/04_extdel.t ... ok
t/05_extmul.t ... ok
t/06_extqlk.t ... ok
t/07_exttag.t ... ok
t/08_extvar.t ... ok
t/09_gentag.t ... ok
t/97_meta.t ..... skipped: Test::CPAN::Meta 0.12 not available for testing
t/98_pod.t ...... ok
t/99_pmv.t ...... skipped: Perl::MinimumVersion 1.20 not available for testing
All tests successful.
Files=12, Tests=561, 10 wallclock secs ( 1.56 usr 0.33 sys + 7.12 cusr 0.51 csys = 9.52 CPU)
Result: PASS
------------------------------
PREREQUISITES
------------------------------
Prerequisite modules loaded:
requires:
Module Need Have
------------------- ---- --------
Test::More 0.47 1.001002
build_requires:
Module Need Have
------------------- ---- --------
ExtUtils::MakeMaker 0 6.94
configure_requires:
Module Need Have
------------------- ---- --------
ExtUtils::MakeMaker 0 6.94
------------------------------
ENVIRONMENT AND OTHER CONTEXT
------------------------------
Environment variables:
AUTOMATED_TESTING = 1
LANG = en_GB.UTF-8
LD_LIBRARY_PATH = /usr/local/lib:
PATH = /home/njh/perl5/perlbrew/bin:/home/njh/perl5/perlbrew/perls/perl-5.8.8/bin:/home/njh/perl5/perlbrew/bin:/home/njh/bin:/usr/local/sbin:/usr/local/bin:/usr/sbin:/usr/bin:/sbin:/bin:/usr/local/games:/usr/games
PERL5LIB = /home/njh/.cpan/build/Getopt-Auto-2.0-UR9QMl/blib/arch:/home/njh/.cpan/build/Getopt-Auto-2.0-UR9QMl/blib/lib:/home/njh/.cpan/build/Readonly-2.00-jyuJc1/blib/arch:/home/njh/.cpan/build/Readonly-2.00-jyuJc1/blib/lib:/home/njh/.cpan/build/Uniq-CxdXNM/blib/arch:/home/njh/.cpan/build/Uniq-CxdXNM/blib/lib:/home/njh/.cpan/build/Regexp-Common-2013031301-0qXRO1/blib/arch:/home/njh/.cpan/build/Regexp-Common-2013031301-0qXRO1/blib/lib:/home/njh/.cpan/build/HTML-EasyTags-1.071-9tXIL7/blib/arch:/home/njh/.cpan/build/HTML-EasyTags-1.071-9tXIL7/blib/lib:/home/njh/.cpan/build/Exporter-Easy-0.17-zV8RCf/blib/arch:/home/njh/.cpan/build/Exporter-Easy-0.17-zV8RCf/blib/lib:/home/njh/.cpan/build/Module-Build-0.4208-iLRu5E/blib/arch:/home/njh/.cpan/build/Module-Build-0.4208-iLRu5E/blib/lib
PERL5OPT =
PERL5_CPANPLUS_IS_RUNNING = 18104
PERL5_CPAN_IS_RUNNING = 18104
PERL5_MINISMOKEBOX = 0.58
PERLBREW_BASHRC_VERSION = 0.69
PERLBREW_HOME = /home/njh/.perlbrew
PERLBREW_MANPATH = /home/njh/perl5/perlbrew/perls/perl-5.8.8/man
PERLBREW_PATH = /home/njh/perl5/perlbrew/bin:/home/njh/perl5/perlbrew/perls/perl-5.8.8/bin
PERLBREW_PERL = perl-5.8.8
PERLBREW_ROOT = /home/njh/perl5/perlbrew
PERLBREW_VERSION = 0.69
PERL_EXTUTILS_AUTOINSTALL = --defaultdeps
PERL_MM_USE_DEFAULT = 1
SHELL = /bin/bash
TERM = xterm
TMPDIR = /home/njh/tmp
Perl special variables (and OS-specific diagnostics, for MSWin32):
$^X = /home/njh/perl5/perlbrew/perls/perl-5.8.8/bin/perl
$UID/$EUID = 1000 / 1000
$GID = 1000 1001 1000 999 200 100 60 46 44 30 29 27 25 24 20 4
$EGID = 1000 1001 1000 999 200 100 60 46 44 30 29 27 25 24 20 4
Perl module toolchain versions installed:
Module Have
------------------- --------
CPAN 2.05
CPAN::Meta 2.133380
Cwd 3.40
ExtUtils::CBuilder 0.280216
ExtUtils::Command 1.16
ExtUtils::Install 1.54
ExtUtils::MakeMaker 6.94
ExtUtils::Manifest 1.60
ExtUtils::ParseXS 3.18
File::Spec 3.40
JSON 2.90
JSON::PP 2.27203
Module::Build 0.4208
Module::Signature 0.73
Parse::CPAN::Meta 1.4409
Test::Harness 3.30
Test::More 1.001002
YAML 0.98
YAML::Syck 1.22
version 0.88
--
Summary of my perl5 (revision 5 version 8 subversion 8) configuration:
Platform:
osname=linux, osvers=3.2.27+, archname=armv6l-linux-thread-multi
uname='linux pi 3.2.27+ #250 preempt thu oct 18 19:03:02 bst 2012 armv6l gnulinux '
config_args='-de -Dprefix=/home/njh/perl5/perlbrew/perls/perl-5.8.8 -Duseithreads -Dusemultiplicity -Accflags=-Os -W -Wformat=2 -Wswitch -Wshadow -Wwrite-strings -Wuninitialized -Wall -pipe -fomit-frame-pointer -pedantic -D_FORTIFY_SOURCE=2 -Wpointer-arith -Wstrict-prototypes -fstack-protector -Wstack-protector -Wextra -Wbad-function-cast -Wcast-align -Wcast-qual -Wdisabled-optimization -Wendif-labels -Wfloat-equal -Wformat-nonliteral -Winline -Wmissing-declarations -Wmissing-prototypes -Wnested-externs -Wpointer-arith -Wundef -Wformat-security -Aeval:scriptdir=/home/njh/perl5/perlbrew/perls/perl-5.8.8/bin'
hint=recommended, useposix=true, d_sigaction=define
usethreads=define use5005threads=undef useithreads=define usemultiplicity=define
useperlio=define d_sfio=undef uselargefiles=define usesocks=undef
use64bitint=undef use64bitall=undef uselongdouble=undef
usemymalloc=n, bincompat5005=undef
Compiler:
cc='cc', ccflags ='-D_REENTRANT -D_GNU_SOURCE -Os -W -Wformat=2 -Wswitch -Wshadow -Wwrite-strings -Wuninitialized -Wall -pipe -fomit-frame-pointer -pedantic -D_FORTIFY_SOURCE=2 -Wpointer-arith -Wstrict-prototypes -fstack-protector -Wstack-protector -Wextra -Wbad-function-cast -Wcast-align -Wcast-qual -Wdisabled-optimization -Wendif-labels -Wfloat-equal -Wformat-nonliteral -Winline -Wmissing-declarations -Wmissing-prototypes -Wnested-externs -Wpointer-arith -Wundef -Wformat-security -fno-strict-aliasing -Wdeclaration-after-statement -I/usr/local/include -D_LARGEFILE_SOURCE -D_FILE_OFFSET_BITS=64',
optimize='-O2',
cppflags='-D_REENTRANT -D_GNU_SOURCE -Os -W -Wformat=2 -Wswitch -Wshadow -Wwrite-strings -Wuninitialized -Wall -pipe -fomit-frame-pointer -pedantic -D_FORTIFY_SOURCE=2 -Wpointer-arith -Wstrict-prototypes -fstack-protector -Wstack-protector -Wextra -Wbad-function-cast -Wcast-align -Wcast-qual -Wdisabled-optimization -Wendif-labels -Wfloat-equal -Wformat-nonliteral -Winline -Wmissing-declarations -Wmissing-prototypes -Wnested-externs -Wpointer-arith -Wundef -Wformat-security -fno-strict-aliasing -Wdeclaration-after-statement -I/usr/local/include'
ccversion='', gccversion='4.6.3', gccosandvers=''
intsize=4, longsize=4, ptrsize=4, doublesize=8, byteorder=1234
d_longlong=define, longlongsize=8, d_longdbl=define, longdblsize=8
ivtype='long', ivsize=4, nvtype='double', nvsize=8, Off_t='off_t', lseeksize=8
alignbytes=8, prototype=define
Linker and Libraries:
ld='cc', ldflags =' -L/usr/local/lib'
libpth=/usr/local/lib /lib/arm-linux-gnueabihf /lib /usr/lib/arm-linux-gnueabihf /usr/lib
libs=-lnsl -lgdbm -ldb -ldl -lm -lcrypt -lutil -lpthread -lc -lgdbm_compat
perllibs=-lnsl -ldl -lm -lcrypt -lutil -lpthread -lc -lgdbm_compat
libc=, so=so, useshrplib=false, libperl=libperl.a
gnulibc_version='2.13'
Dynamic Linking:
dlsrc=dl_dlopen.xs, dlext=so, d_dlsymun=undef, ccdlflags='-Wl,-E'
cccdlflags='-fpic', lddlflags='-shared -L/usr/local/lib'
Characteristics of this binary (from libperl):
Compile-time options: MULTIPLICITY PERL_IMPLICIT_CONTEXT
PERL_MALLOC_WRAP USE_ITHREADS USE_LARGE_FILES
USE_PERLIO USE_REENTRANT_API
Built under linux
Compiled at Jan 28 2013 07:38:43
%ENV:
PERL5LIB="/home/njh/.cpan/build/Getopt-Auto-2.0-UR9QMl/blib/arch:/home/njh/.cpan/build/Getopt-Auto-2.0-UR9QMl/blib/lib:/home/njh/.cpan/build/Readonly-2.00-jyuJc1/blib/arch:/home/njh/.cpan/build/Readonly-2.00-jyuJc1/blib/lib:/home/njh/.cpan/build/Uniq-CxdXNM/blib/arch:/home/njh/.cpan/build/Uniq-CxdXNM/blib/lib:/home/njh/.cpan/build/Regexp-Common-2013031301-0qXRO1/blib/arch:/home/njh/.cpan/build/Regexp-Common-2013031301-0qXRO1/blib/lib:/home/njh/.cpan/build/HTML-EasyTags-1.071-9tXIL7/blib/arch:/home/njh/.cpan/build/HTML-EasyTags-1.071-9tXIL7/blib/lib:/home/njh/.cpan/build/Exporter-Easy-0.17-zV8RCf/blib/arch:/home/njh/.cpan/build/Exporter-Easy-0.17-zV8RCf/blib/lib:/home/njh/.cpan/build/Module-Build-0.4208-iLRu5E/blib/arch:/home/njh/.cpan/build/Module-Build-0.4208-iLRu5E/blib/lib"
PERL5OPT=""
PERL5_CPANPLUS_IS_RUNNING="18104"
PERL5_CPAN_IS_RUNNING="18104"
PERL5_MINISMOKEBOX="0.58"
PERLBREW_BASHRC_VERSION="0.69"
PERLBREW_HOME="/home/njh/.perlbrew"
PERLBREW_MANPATH="/home/njh/perl5/perlbrew/perls/perl-5.8.8/man"
PERLBREW_PATH="/home/njh/perl5/perlbrew/bin:/home/njh/perl5/perlbrew/perls/perl-5.8.8/bin"
PERLBREW_PERL="perl-5.8.8"
PERLBREW_ROOT="/home/njh/perl5/perlbrew"
PERLBREW_VERSION="0.69"
PERL_EXTUTILS_AUTOINSTALL="--defaultdeps"
PERL_MM_USE_DEFAULT="1"
@INC:
/home/njh/.cpan/build/Getopt-Auto-2.0-UR9QMl/blib/arch
/home/njh/.cpan/build/Getopt-Auto-2.0-UR9QMl/blib/lib
/home/njh/.cpan/build/Readonly-2.00-jyuJc1/blib/arch
/home/njh/.cpan/build/Readonly-2.00-jyuJc1/blib/lib
/home/njh/.cpan/build/Uniq-CxdXNM/blib/arch
/home/njh/.cpan/build/Uniq-CxdXNM/blib/lib
/home/njh/.cpan/build/Regexp-Common-2013031301-0qXRO1/blib/arch
/home/njh/.cpan/build/Regexp-Common-2013031301-0qXRO1/blib/lib
/home/njh/.cpan/build/HTML-EasyTags-1.071-9tXIL7/blib/arch
/home/njh/.cpan/build/HTML-EasyTags-1.071-9tXIL7/blib/lib
/home/njh/.cpan/build/Exporter-Easy-0.17-zV8RCf/blib/arch
/home/njh/.cpan/build/Exporter-Easy-0.17-zV8RCf/blib/lib
/home/njh/.cpan/build/Module-Build-0.4208-iLRu5E/blib/arch
/home/njh/.cpan/build/Module-Build-0.4208-iLRu5E/blib/lib
/home/njh/perl5/perlbrew/perls/perl-5.8.8/lib/5.8.8/armv6l-linux-thread-multi
/home/njh/perl5/perlbrew/perls/perl-5.8.8/lib/5.8.8
/home/njh/perl5/perlbrew/perls/perl-5.8.8/lib/site_perl/5.8.8/armv6l-linux-thread-multi
/home/njh/perl5/perlbrew/perls/perl-5.8.8/lib/site_perl/5.8.8
/home/njh/perl5/perlbrew/perls/perl-5.8.8/lib/site_perl
.