MooseX-MethodAttributes v0.32 Perl 5 v5.38.2 aarch64-linux-ld
- Status
- Pass
- From
- Slaven Rezić
- Dist
-
MooseX-MethodAttributes v0.32
- Platform
- Perl 5 v5.38.2 aarch64-linux-ld
- Date
- 2024-07-07 08:28:42
- ID
- eb64a85e-3c3a-11ef-9f2e-a6f56d8775ea
This distribution has been tested as part of the CPAN Testers
project, supporting the Perl programming language. See
http://wiki.cpantesters.org/ for more information or email
questions to cpan-testers-discuss@perl.org
--
Dear Karen Etheridge,
This is a computer-generated report for MooseX-MethodAttributes-0.32
on perl 5.38.2, created by CPAN-Reporter-1.2019.
Thank you for uploading your work to CPAN. Congratulations!
All tests were successful.
Sections of this report:
* Tester comments
* Program output
* Prerequisites
* Environment and other context
------------------------------
TESTER COMMENTS
------------------------------
Additional comments from tester:
none provided
------------------------------
PROGRAM OUTPUT
------------------------------
Output from '/usr/bin/make test':
PERL_DL_NONLAZY=1 "/opt/perl-5.38.2D/bin/perl" "-MExtUtils::Command::MM" "-MTest::Harness" "-e" "undef *Test::Harness::Switches; test_harness(0, 'blib/lib', 'blib/arch')" t/*.t
#
# Versions for all modules listed in MYMETA.json (including optional ones):
#
# === Configure Requires ===
#
# Module Want Have
# ------------------- ---- ----
# ExtUtils::MakeMaker any 7.70
#
# === Build Requires ===
#
# Module Want Have
# ------------------- ---- ----
# ExtUtils::MakeMaker any 7.70
#
# === Test Requires ===
#
# Module Want Have
# --------------------------- ---- --------
# ExtUtils::MakeMaker any 7.70
# File::Spec any 3.88
# Moose::Meta::Class any 2.2207
# MooseX::Role::Parameterized any 1.11
# Test::Fatal any 0.017
# Test::More 0.88 1.302194
# Test::Needs any 0.002010
# base any 2.27
# lib any 0.65
# strict any 1.12
# warnings any 1.65
#
# === Test Recommends ===
#
# Module Want Have
# ---------- -------- --------
# CPAN::Meta 2.120900 2.150010
#
# === Runtime Requires ===
#
# Module Want Have
# --------------------- ---- ------
# Carp any 1.54
# Moose any 2.2207
# Moose::Exporter any 2.2207
# Moose::Role any 2.2207
# Moose::Util any 2.2207
# Moose::Util::MetaRole any 2.2207
# namespace::autoclean 0.08 0.29
#
# === Other Modules ===
#
# Module Have
# ----------------- -------
# Catalyst::Runtime missing
# Encode 3.19
# File::Temp 0.2311
# JSON::PP 4.16
# Module::Runtime 0.016
# Pod::Coverage 0.23
# Sub::Name 0.27
# YAML 1.31
# autodie 2.36
#
t/00-report-prereqs.t .................. ok
t/basic.t .............................. ok
t/calling.t ............................ ok
t/catalyst.t ........................... ok
t/catalyst_role.t ...................... ok
t/catalyst_role_method_exclusion.t ..... ok
t/catalyst_role_preexist_methods.t ..... ok
t/inherited.t .......................... ok
t/inherited_non_moose_multilevel.t ..... ok
t/late_reinitialize.t .................. ok
t/multiple_roles.t ..................... ok
t/multiple_roles_astrait.t ............. ok
t/override_method_with_no_attribute.t .. ok
t/param_role.t ......................... ok
t/role.t ............................... ok
t/role_applied.t ....................... ok
t/role_comp.t .......................... ok
t/role_in_role.t ....................... ok
t/role_in_role_more.t .................. ok
t/role_method_conflict_detection.t ..... ok
t/role_with_anon_class.t ............... ok
t/zzz-check-breaks.t ................... ok
All tests successful.
Test Summary Report
-------------------
t/late_reinitialize.t (Wstat: 0 Tests: 10 Failed: 0)
TODO passed: 1-10
Files=22, Tests=144, 5 wallclock secs ( 0.08 usr 0.05 sys + 4.34 cusr 0.53 csys = 5.00 CPU)
Result: PASS
------------------------------
PREREQUISITES
------------------------------
Prerequisite modules loaded:
requires:
Module Need Have
--------------------------- ----- --------
Carp 0 1.54
Moose 0 2.2207
Moose::Exporter 0 2.2207
Moose::Role 0 2.2207
Moose::Util 0 2.2207
Moose::Util::MetaRole 0 2.2207
namespace::autoclean 0.08 0.29
perl 5.006 5.038002
build_requires:
Module Need Have
--------------------------- ----- --------
base 0 2.27
ExtUtils::MakeMaker 0 7.70
File::Spec 0 3.88
lib 0 0.65
Moose::Meta::Class 0 2.2207
MooseX::Role::Parameterized 0 1.11
strict 0 1.12
Test::Fatal 0 0.017
Test::More 0.88 1.302194
Test::Needs 0 0.002010
warnings 0 1.65
configure_requires:
Module Need Have
--------------------------- ----- --------
ExtUtils::MakeMaker 0 7.70
perl 5.006 5.038002
------------------------------
ENVIRONMENT AND OTHER CONTEXT
------------------------------
Environment variables:
LANG = en_US.UTF-8
PATH = /usr/local/bin:/usr/bin:/bin:/usr/local/sbin:/usr/sbin:/sbin:/home/cpansand/bin/linux-gnu:/home/cpansand/bin/sh:/home/cpansand/bin:/usr/games:/home/cpansand/devel:/home/eserte/src/srezic-misc/scripts
PERL5LIB =
PERL5OPT =
PERL5_CPANPLUS_IS_RUNNING = 2835807
PERL5_CPAN_IS_RUNNING = 2835807
PERL5_CPAN_IS_RUNNING_IN_RECURSION = 2835732,2835807
PERLDOC = -MPod::Perldoc::ToTextOverstrike
PERL_BATCH = yes
PERL_CANARY_STABILITY_NOPROMPT = 1
PERL_CPAN_REPORTER_CONFIG = /var/tmp/cpansmoker-1023/2024070708/cpanreporter_000_config.ini
PERL_EXTUTILS_AUTOINSTALL = --defaultdeps
PERL_USE_UNSAFE_INC = 1
SHELL = /usr/bin/zsh
TERM = screen
TMPDIR = /var/tmp/cpansmoker-1023/2024070708
Perl special variables (and OS-specific diagnostics, for MSWin32):
$^X = /opt/perl-5.38.2D/bin/perl
$UID/$EUID = 1023 / 1023
$GID = 1023 1023
$EGID = 1023 1023
Perl module toolchain versions installed:
Module Have
------------------- --------
CPAN 2.36
CPAN::Meta 2.150010
Cwd 3.89
ExtUtils::CBuilder 0.280238
ExtUtils::Command 7.70
ExtUtils::Install 2.22
ExtUtils::MakeMaker 7.70
ExtUtils::Manifest 1.73
ExtUtils::ParseXS 3.51
File::Spec 3.88
JSON 4.10
JSON::PP 4.16
Module::Build 0.4234
Module::Signature n/a
Parse::CPAN::Meta 2.150010
Test2 1.302194
Test::Harness 3.44
Test::More 1.302194
YAML 1.31
YAML::Syck 1.34
version 0.9929
--
Summary of my perl5 (revision 5 version 38 subversion 2) configuration:
Platform:
osname=linux
osvers=6.8.0-35-generic
archname=aarch64-linux-ld
uname='linux cloud6.bbbike.org 6.8.0-35-generic #35-ubuntu smp preempt_dynamic tue may 21 07:52:29 utc 2024 aarch64 aarch64 aarch64 gnulinux '
config_args='-ds -e -Dprefix=/opt/perl-5.38.2D -Uinstallusrbinperl -Duselongdouble -Dcf_email=srezic@cpan.org'
hint=recommended
useposix=true
d_sigaction=define
useithreads=undef
usemultiplicity=undef
use64bitint=define
use64bitall=define
uselongdouble=define
usemymalloc=n
default_inc_excludes_dot=define
Compiler:
cc='cc'
ccflags ='-fwrapv -fno-strict-aliasing -pipe -fstack-protector-strong -I/usr/local/include -D_LARGEFILE_SOURCE -D_FILE_OFFSET_BITS=64'
optimize='-O2'
cppflags='-fwrapv -fno-strict-aliasing -pipe -fstack-protector-strong -I/usr/local/include'
ccversion=''
gccversion='13.2.0'
gccosandvers=''
intsize=4
longsize=8
ptrsize=8
doublesize=8
byteorder=12345678
doublekind=3
d_longlong=define
longlongsize=8
d_longdbl=define
longdblsize=16
longdblkind=1
ivtype='long'
ivsize=8
nvtype='long double'
nvsize=16
Off_t='off_t'
lseeksize=8
alignbytes=16
prototype=define
Linker and Libraries:
ld='cc'
ldflags =' -fstack-protector-strong -L/usr/local/lib'
libpth=/usr/local/lib /usr/lib/aarch64-linux-gnu /usr/lib
libs=-lpthread -ldb -ldl -lm -lcrypt -lutil -lc
perllibs=-lpthread -ldl -lm -lcrypt -lutil -lc
libc=/lib/aarch64-linux-gnu/libc.so.6
so=so
useshrplib=false
libperl=libperl.a
gnulibc_version='2.39'
Dynamic Linking:
dlsrc=dl_dlopen.xs
dlext=so
d_dlsymun=undef
ccdlflags='-Wl,-E'
cccdlflags='-fPIC'
lddlflags='-shared -O2 -L/usr/local/lib -fstack-protector-strong'
Characteristics of this binary (from libperl):
Compile-time options:
HAS_LONG_DOUBLE
HAS_STRTOLD
HAS_TIMES
PERLIO_LAYERS
PERL_COPY_ON_WRITE
PERL_DONT_CREATE_GVSV
PERL_HASH_FUNC_SIPHASH13
PERL_HASH_USE_SBOX32
PERL_MALLOC_WRAP
PERL_OP_PARENT
PERL_PRESERVE_IVUV
PERL_USE_SAFE_PUTENV
USE_64_BIT_ALL
USE_64_BIT_INT
USE_LARGE_FILES
USE_LOCALE
USE_LOCALE_COLLATE
USE_LOCALE_CTYPE
USE_LOCALE_NUMERIC
USE_LOCALE_TIME
USE_LONG_DOUBLE
USE_PERLIO
USE_PERL_ATOF
Built under linux
Compiled at Jun 27 2024 19:26:37
%ENV:
PERL5LIB=""
PERL5OPT=""
PERL5_CPANPLUS_IS_RUNNING="2835807"
PERL5_CPAN_IS_RUNNING="2835807"
PERL5_CPAN_IS_RUNNING_IN_RECURSION="2835732,2835807"
PERLDOC="-MPod::Perldoc::ToTextOverstrike"
PERL_BATCH="yes"
PERL_CANARY_STABILITY_NOPROMPT="1"
PERL_CPAN_REPORTER_CONFIG="/var/tmp/cpansmoker-1023/2024070708/cpanreporter_000_config.ini"
PERL_EXTUTILS_AUTOINSTALL="--defaultdeps"
PERL_USE_UNSAFE_INC="1"
@INC:
/opt/perl-5.38.2D/lib/site_perl/5.38.2/aarch64-linux-ld
/opt/perl-5.38.2D/lib/site_perl/5.38.2
/opt/perl-5.38.2D/lib/5.38.2/aarch64-linux-ld
/opt/perl-5.38.2D/lib/5.38.2
.