Report for Google-AJAX-Library-0.022

Back
From: metabase:user:320bfe00-2aae-11df-837a-5e0a49663a4f
Subject: PASS Google-AJAX-Library-0.022 v5.25.5 GNU/Linux
Date: 2016-08-30T11:35:57Z

This distribution has been tested as part of the CPAN Testers
project, supporting the Perl programming language.  See
http://wiki.cpantesters.org/ for more information or email
questions to cpan-testers-discuss@perl.org


--
Dear Robert Krimen,

This is a computer-generated report for Google-AJAX-Library-0.022
on perl 5.25.5, created by CPAN-Reporter-1.2018.

Thank you for uploading your work to CPAN.  Congratulations!
All tests were successful.

Sections of this report:

    * Tester comments
    * Program output
    * Prerequisites
    * Environment and other context

------------------------------
TESTER COMMENTS
------------------------------

Additional comments from tester:

this report is from an automated smoke testing program
and was not reviewed by a human for accuracy

------------------------------
PROGRAM OUTPUT
------------------------------

Output from '/usr/bin/make test':

PERL_DL_NONLAZY=1 "/tmp/basesmoker-reloperl-OtFq/bin/perl" "-MExtUtils::Command::MM" "-MTest::Harness" "-e" "undef *Test::Harness::Switches; test_harness(0, 'blib/lib', 'blib/arch')" t/*.t
You are overwriting a locally defined function (file) with an accessor at /home/sand/src/perl/repoperls/installed-perls/perl/v5.25.4-23-g3781748/79cc/lib/site_perl/5.25.5/x86_64-linux/Moose/Meta/Attribute.pm line 1040.
	Moose::Meta::Attribute::_process_accessors(Moose::Meta::Attribute=HASH(0x3915890), "reader", "file", undef) called at /home/sand/src/perl/repoperls/installed-perls/perl/v5.25.4-23-g3781748/79cc/lib/site_perl/5.25.5/x86_64-linux/Class/MOP/Attribute.pm line 450
	Class::MOP::Attribute::install_accessors(Moose::Meta::Attribute=HASH(0x3915890)) called at /home/sand/src/perl/repoperls/installed-perls/perl/v5.25.4-23-g3781748/79cc/lib/site_perl/5.25.5/x86_64-linux/Moose/Meta/Attribute.pm line 987
	Moose::Meta::Attribute::install_accessors(Moose::Meta::Attribute=HASH(0x3915890)) called at /home/sand/src/perl/repoperls/installed-perls/perl/v5.25.4-23-g3781748/79cc/lib/site_perl/5.25.5/x86_64-linux/Class/MOP/Class.pm line 899
	Class::MOP::Class::try {...} () called at /home/sand/src/perl/repoperls/installed-perls/perl/v5.25.4-23-g3781748/79cc/lib/site_perl/5.25.5/Try/Tiny.pm line 103
	eval {...} called at /home/sand/src/perl/repoperls/installed-perls/perl/v5.25.4-23-g3781748/79cc/lib/site_perl/5.25.5/Try/Tiny.pm line 94
	Try::Tiny::try(CODE(0x3915068), Try::Tiny::Catch=REF(0x3915200)) called at /home/sand/src/perl/repoperls/installed-perls/perl/v5.25.4-23-g3781748/79cc/lib/site_perl/5.25.5/x86_64-linux/Class/MOP/Class.pm line 904
	Class::MOP::Class::_post_add_attribute(Moose::Meta::Class=HASH(0x320bfe0), Moose::Meta::Attribute=HASH(0x3915890)) called at /home/sand/src/perl/repoperls/installed-perls/perl/v5.25.4-23-g3781748/79cc/lib/site_perl/5.25.5/x86_64-linux/Class/MOP/Mixin/HasAttributes.pm line 39
	Class::MOP::Mixin::HasAttributes::add_attribute(Moose::Meta::Class=HASH(0x320bfe0), Moose::Meta::Attribute=HASH(0x3915890)) called at /home/sand/src/perl/repoperls/installed-perls/perl/v5.25.4-23-g3781748/79cc/lib/site_perl/5.25.5/x86_64-linux/Moose/Meta/Class.pm line 572
	Moose::Meta::Class::add_attribute(Moose::Meta::Class=HASH(0x320bfe0), "file", "definition_context", HASH(0x2137c38), "is", "ro") called at /home/sand/src/perl/repoperls/installed-perls/perl/v5.25.4-23-g3781748/79cc/lib/site_perl/5.25.5/x86_64-linux/Moose.pm line 74
	Moose::has(Moose::Meta::Class=HASH(0x320bfe0), "file", "is", "ro") called at /home/sand/src/perl/repoperls/installed-perls/perl/v5.25.4-23-g3781748/79cc/lib/site_perl/5.25.5/x86_64-linux/Moose/Exporter.pm line 419
	Moose::has("file", "is", "ro") called at /tmp/loop_over_bdir-21178-pCNwzD/Google-AJAX-Library-0.022-0/blib/lib/Google/AJAX/Library.pm line 32
	require Google/AJAX/Library.pm called at t/01-basic.t line 5
	main::BEGIN() called at /tmp/loop_over_bdir-21178-pCNwzD/Google-AJAX-Library-0.022-0/blib/lib/Google/AJAX/Library.pm line 0
	eval {...} called at /tmp/loop_over_bdir-21178-pCNwzD/Google-AJAX-Library-0.022-0/blib/lib/Google/AJAX/Library.pm line 0
t/01-basic.t .... ok
You are overwriting a locally defined function (file) with an accessor at /home/sand/src/perl/repoperls/installed-perls/perl/v5.25.4-23-g3781748/79cc/lib/site_perl/5.25.5/x86_64-linux/Moose/Meta/Attribute.pm line 1040.
	Moose::Meta::Attribute::_process_accessors(Moose::Meta::Attribute=HASH(0x237b820), "reader", "file", undef) called at /home/sand/src/perl/repoperls/installed-perls/perl/v5.25.4-23-g3781748/79cc/lib/site_perl/5.25.5/x86_64-linux/Class/MOP/Attribute.pm line 450
	Class::MOP::Attribute::install_accessors(Moose::Meta::Attribute=HASH(0x237b820)) called at /home/sand/src/perl/repoperls/installed-perls/perl/v5.25.4-23-g3781748/79cc/lib/site_perl/5.25.5/x86_64-linux/Moose/Meta/Attribute.pm line 987
	Moose::Meta::Attribute::install_accessors(Moose::Meta::Attribute=HASH(0x237b820)) called at /home/sand/src/perl/repoperls/installed-perls/perl/v5.25.4-23-g3781748/79cc/lib/site_perl/5.25.5/x86_64-linux/Class/MOP/Class.pm line 899
	Class::MOP::Class::try {...} () called at /home/sand/src/perl/repoperls/installed-perls/perl/v5.25.4-23-g3781748/79cc/lib/site_perl/5.25.5/Try/Tiny.pm line 103
	eval {...} called at /home/sand/src/perl/repoperls/installed-perls/perl/v5.25.4-23-g3781748/79cc/lib/site_perl/5.25.5/Try/Tiny.pm line 94
	Try::Tiny::try(CODE(0x237b358), Try::Tiny::Catch=REF(0x237b4f0)) called at /home/sand/src/perl/repoperls/installed-perls/perl/v5.25.4-23-g3781748/79cc/lib/site_perl/5.25.5/x86_64-linux/Class/MOP/Class.pm line 904
	Class::MOP::Class::_post_add_attribute(Moose::Meta::Class=HASH(0x1c71ff8), Moose::Meta::Attribute=HASH(0x237b820)) called at /home/sand/src/perl/repoperls/installed-perls/perl/v5.25.4-23-g3781748/79cc/lib/site_perl/5.25.5/x86_64-linux/Class/MOP/Mixin/HasAttributes.pm line 39
	Class::MOP::Mixin::HasAttributes::add_attribute(Moose::Meta::Class=HASH(0x1c71ff8), Moose::Meta::Attribute=HASH(0x237b820)) called at /home/sand/src/perl/repoperls/installed-perls/perl/v5.25.4-23-g3781748/79cc/lib/site_perl/5.25.5/x86_64-linux/Moose/Meta/Class.pm line 572
	Moose::Meta::Class::add_attribute(Moose::Meta::Class=HASH(0x1c71ff8), "file", "definition_context", HASH(0xb9e0e0), "is", "ro") called at /home/sand/src/perl/repoperls/installed-perls/perl/v5.25.4-23-g3781748/79cc/lib/site_perl/5.25.5/x86_64-linux/Moose.pm line 74
	Moose::has(Moose::Meta::Class=HASH(0x1c71ff8), "file", "is", "ro") called at /home/sand/src/perl/repoperls/installed-perls/perl/v5.25.4-23-g3781748/79cc/lib/site_perl/5.25.5/x86_64-linux/Moose/Exporter.pm line 419
	Moose::has("file", "is", "ro") called at /tmp/loop_over_bdir-21178-pCNwzD/Google-AJAX-Library-0.022-0/blib/lib/Google/AJAX/Library.pm line 32
	require Google/AJAX/Library.pm called at t/02-library.t line 5
	main::BEGIN() called at /tmp/loop_over_bdir-21178-pCNwzD/Google-AJAX-Library-0.022-0/blib/lib/Google/AJAX/Library.pm line 0
	eval {...} called at /tmp/loop_over_bdir-21178-pCNwzD/Google-AJAX-Library-0.022-0/blib/lib/Google/AJAX/Library.pm line 0
t/02-library.t .. ok
You are overwriting a locally defined function (file) with an accessor at /home/sand/src/perl/repoperls/installed-perls/perl/v5.25.4-23-g3781748/79cc/lib/site_perl/5.25.5/x86_64-linux/Moose/Meta/Attribute.pm line 1040.
	Moose::Meta::Attribute::_process_accessors(Moose::Meta::Attribute=HASH(0x322da10), "reader", "file", undef) called at /home/sand/src/perl/repoperls/installed-perls/perl/v5.25.4-23-g3781748/79cc/lib/site_perl/5.25.5/x86_64-linux/Class/MOP/Attribute.pm line 450
	Class::MOP::Attribute::install_accessors(Moose::Meta::Attribute=HASH(0x322da10)) called at /home/sand/src/perl/repoperls/installed-perls/perl/v5.25.4-23-g3781748/79cc/lib/site_perl/5.25.5/x86_64-linux/Moose/Meta/Attribute.pm line 987
	Moose::Meta::Attribute::install_accessors(Moose::Meta::Attribute=HASH(0x322da10)) called at /home/sand/src/perl/repoperls/installed-perls/perl/v5.25.4-23-g3781748/79cc/lib/site_perl/5.25.5/x86_64-linux/Class/MOP/Class.pm line 899
	Class::MOP::Class::try {...} () called at /home/sand/src/perl/repoperls/installed-perls/perl/v5.25.4-23-g3781748/79cc/lib/site_perl/5.25.5/Try/Tiny.pm line 103
	eval {...} called at /home/sand/src/perl/repoperls/installed-perls/perl/v5.25.4-23-g3781748/79cc/lib/site_perl/5.25.5/Try/Tiny.pm line 94
	Try::Tiny::try(CODE(0x322d338), Try::Tiny::Catch=REF(0x322d560)) called at /home/sand/src/perl/repoperls/installed-perls/perl/v5.25.4-23-g3781748/79cc/lib/site_perl/5.25.5/x86_64-linux/Class/MOP/Class.pm line 904
	Class::MOP::Class::_post_add_attribute(Moose::Meta::Class=HASH(0x2b30900), Moose::Meta::Attribute=HASH(0x322da10)) called at /home/sand/src/perl/repoperls/installed-perls/perl/v5.25.4-23-g3781748/79cc/lib/site_perl/5.25.5/x86_64-linux/Class/MOP/Mixin/HasAttributes.pm line 39
	Class::MOP::Mixin::HasAttributes::add_attribute(Moose::Meta::Class=HASH(0x2b30900), Moose::Meta::Attribute=HASH(0x322da10)) called at /home/sand/src/perl/repoperls/installed-perls/perl/v5.25.4-23-g3781748/79cc/lib/site_perl/5.25.5/x86_64-linux/Moose/Meta/Class.pm line 572
	Moose::Meta::Class::add_attribute(Moose::Meta::Class=HASH(0x2b30900), "file", "definition_context", HASH(0x1a4faf0), "is", "ro") called at /home/sand/src/perl/repoperls/installed-perls/perl/v5.25.4-23-g3781748/79cc/lib/site_perl/5.25.5/x86_64-linux/Moose.pm line 74
	Moose::has(Moose::Meta::Class=HASH(0x2b30900), "file", "is", "ro") called at /home/sand/src/perl/repoperls/installed-perls/perl/v5.25.4-23-g3781748/79cc/lib/site_perl/5.25.5/x86_64-linux/Moose/Exporter.pm line 419
	Moose::has("file", "is", "ro") called at /tmp/loop_over_bdir-21178-pCNwzD/Google-AJAX-Library-0.022-0/blib/lib/Google/AJAX/Library.pm line 32
	require Google/AJAX/Library.pm called at t/03-fetch.t line 5
	main::BEGIN() called at /tmp/loop_over_bdir-21178-pCNwzD/Google-AJAX-Library-0.022-0/blib/lib/Google/AJAX/Library.pm line 0
	eval {...} called at /tmp/loop_over_bdir-21178-pCNwzD/Google-AJAX-Library-0.022-0/blib/lib/Google/AJAX/Library.pm line 0
t/03-fetch.t .... skipped: Not going out to http://ajax.googleapis.com to test fetching/writing
All tests successful.
Files=3, Tests=61,  2 wallclock secs ( 0.04 usr  0.01 sys +  1.04 cusr  0.16 csys =  1.25 CPU)
Result: PASS

------------------------------
PREREQUISITES
------------------------------

Prerequisite modules loaded:

requires:

    Module              Need Have  
    ------------------- ---- ------
    Carp::Clan::Share   0    0.013 
    HTML::Declare       0    2.4   
    LWP::UserAgent      0    6.15  
    Moose               0    2.1805
    Path::Class         0    0.37  
    URI                 0    1.71  

build_requires:

    Module              Need Have  
    ------------------- ---- ------
    File::Temp          0    0.2304
    Test::Most          0    0.35  

configure_requires:

    Module              Need Have  
    ------------------- ---- ------
    ExtUtils::MakeMaker 6.31 7.24  


------------------------------
ENVIRONMENT AND OTHER CONTEXT
------------------------------

Environment variables:

    AUTOMATED_TESTING = 1
    LANG = en_US.UTF-8
    LANGUAGE = en_US:en
    PATH = /home/sand/bin:/usr/local/bin:/usr/lib/ccache:/usr/bin:/bin:/usr/games:/usr/local/perl/bin:/usr/X11/bin:/sbin:/usr/sbin
    PERL5LIB = /tmp/loop_over_bdir-21178-pCNwzD/FusionInventory-Agent-2.3.18-0/blib/arch:/tmp/loop_over_bdir-21178-pCNwzD/FusionInventory-Agent-2.3.18-0/blib/lib
    PERL5OPT = 
    PERL5_CPANPLUS_IS_RUNNING = 18850
    PERL5_CPAN_IS_RUNNING = 18850
    PERL_CANARY_STABILITY_NOPROMPT = 1
    PERL_MM_USE_DEFAULT = 1
    SHELL = /usr/bin/zsh
    TERM = screen

Perl special variables (and OS-specific diagnostics, for MSWin32):

    $^X = /tmp/basesmoker-reloperl-OtFq/bin/perl
    $UID/$EUID = 1005 / 1005
    $GID = 1005 1005
    $EGID = 1005 1005

Perl module toolchain versions installed:

    Module              Have      
    ------------------- ----------
    CPAN                2.15      
    CPAN::Meta          2.150010  
    Cwd                 3.65      
    ExtUtils::CBuilder  0.280225  
    ExtUtils::Command   7.24      
    ExtUtils::Install   2.04      
    ExtUtils::MakeMaker 7.24      
    ExtUtils::Manifest  1.70      
    ExtUtils::ParseXS   3.33      
    File::Spec          3.65      
    JSON                2.90      
    JSON::PP            2.27400_01
    Module::Build       0.4220    
    Module::Signature   0.80      
    Parse::CPAN::Meta   2.150010  
    Test::Harness       3.36_01   
    Test::More          1.302052  
    YAML                1.18      
    YAML::Syck          1.29      
    version             0.9917    


--

Summary of my perl5 (revision 5 version 25 subversion 5) configuration:
  Commit id: 3781748131a087d117c33ad25b5211eb3c33afff
  Platform:
    osname=linux
    osvers=4.3.0-1-amd64
    archname=x86_64-linux
    uname='linux k83 4.3.0-1-amd64 #1 smp debian 4.3.3-7 (2016-01-19) x86_64 gnulinux '
    config_args='-Dprefix=/home/sand/src/perl/repoperls/installed-perls/perl/v5.25.4-23-g3781748/79cc -Dmyhostname=k83 -Dinstallusrbinperl=n -Uversiononly -Dusedevel -des -Ui_db -Dlibswanted=cl pthread socket inet nsl gdbm dbm malloc dl ld sun m crypt sec util c cposix posix ucb BSD gdbm_compat -Uuseithreads -Uuselongdouble -DDEBUGGING=-g'
    hint=recommended
    useposix=true
    d_sigaction=define
    useithreads=undef
    usemultiplicity=undef
    use64bitint=define
    use64bitall=define
    uselongdouble=undef
    usemymalloc=n
    bincompat5005=undef
  Compiler:
    cc='cc'
    ccflags ='-fwrapv -fno-strict-aliasing -pipe -fstack-protector-strong -I/usr/local/include -D_LARGEFILE_SOURCE -D_FILE_OFFSET_BITS=64 -D_FORTIFY_SOURCE=2'
    optimize='-O2 -g'
    cppflags='-fwrapv -fno-strict-aliasing -pipe -fstack-protector-strong -I/usr/local/include'
    ccversion=''
    gccversion='5.3.1 20160121'
    gccosandvers=''
    intsize=4
    longsize=8
    ptrsize=8
    doublesize=8
    byteorder=12345678
    doublekind=3
    d_longlong=define
    longlongsize=8
    d_longdbl=define
    longdblsize=16
    longdblkind=3
    ivtype='long'
    ivsize=8
    nvtype='double'
    nvsize=8
    Off_t='off_t'
    lseeksize=8
    alignbytes=8
    prototype=define
  Linker and Libraries:
    ld='cc'
    ldflags =' -fstack-protector-strong -L/usr/local/lib'
    libpth=/usr/local/lib /usr/lib/gcc/x86_64-linux-gnu/5/include-fixed /usr/include/x86_64-linux-gnu /usr/lib /lib/x86_64-linux-gnu /lib/../lib /usr/lib/x86_64-linux-gnu /usr/lib/../lib /lib
    libs=-lpthread -lnsl -lgdbm -ldl -lm -lcrypt -lutil -lc -lgdbm_compat
    perllibs=-lpthread -lnsl -ldl -lm -lcrypt -lutil -lc
    libc=libc-2.21.so
    so=so
    useshrplib=false
    libperl=libperl.a
    gnulibc_version='2.21'
  Dynamic Linking:
    dlsrc=dl_dlopen.xs
    dlext=so
    d_dlsymun=undef
    ccdlflags='-Wl,-E'
    cccdlflags='-fPIC'
    lddlflags='-shared -O2 -g -L/usr/local/lib -fstack-protector-strong'


Characteristics of this binary (from libperl): 
  Compile-time options:
    HAS_TIMES
    PERLIO_LAYERS
    PERL_COPY_ON_WRITE
    PERL_DONT_CREATE_GVSV
    PERL_HASH_FUNC_ONE_AT_A_TIME_HARD
    PERL_MALLOC_WRAP
    PERL_OP_PARENT
    PERL_PRESERVE_IVUV
    PERL_USE_DEVEL
    USE_64_BIT_ALL
    USE_64_BIT_INT
    USE_LARGE_FILES
    USE_LOCALE
    USE_LOCALE_COLLATE
    USE_LOCALE_CTYPE
    USE_LOCALE_NUMERIC
    USE_LOCALE_TIME
    USE_PERLIO
    USE_PERL_ATOF
  Built under linux
  Compiled at Aug 29 2016 08:54:50
  %ENV:
    PERL5LIB="/tmp/loop_over_bdir-21178-pCNwzD/FusionInventory-Agent-2.3.18-0/blib/arch:/tmp/loop_over_bdir-21178-pCNwzD/FusionInventory-Agent-2.3.18-0/blib/lib"
    PERL5OPT=""
    PERL5_CPANPLUS_IS_RUNNING="18850"
    PERL5_CPAN_IS_RUNNING="18850"
    PERL_CANARY_STABILITY_NOPROMPT="1"
    PERL_MM_USE_DEFAULT="1"
  @INC:
    /tmp/loop_over_bdir-21178-pCNwzD/FusionInventory-Agent-2.3.18-0/blib/arch
    /tmp/loop_over_bdir-21178-pCNwzD/FusionInventory-Agent-2.3.18-0/blib/lib
    /home/sand/src/perl/repoperls/installed-perls/perl/v5.25.4-23-g3781748/79cc/lib/site_perl/5.25.5/x86_64-linux
    /home/sand/src/perl/repoperls/installed-perls/perl/v5.25.4-23-g3781748/79cc/lib/site_perl/5.25.5
    /home/sand/src/perl/repoperls/installed-perls/perl/v5.25.4-23-g3781748/79cc/lib/5.25.5/x86_64-linux
    /home/sand/src/perl/repoperls/installed-perls/perl/v5.25.4-23-g3781748/79cc/lib/5.25.5
    .