Back
From: metabase:user:320bfe00-2aae-11df-837a-5e0a49663a4f
Subject: PASS Data-DPath-0.52 v5.18.2 GNU/Linux
Date: 2015-03-30T04:12:03Z
This distribution has been tested as part of the CPAN Testers
project, supporting the Perl programming language. See
http://wiki.cpantesters.org/ for more information or email
questions to cpan-testers-discuss@perl.org
--
Dear Steffen Schwigon,
This is a computer-generated report for Data-DPath-0.52
on perl 5.18.2, created by CPAN-Reporter-1.2013.
Thank you for uploading your work to CPAN. Congratulations!
All tests were successful.
Sections of this report:
* Tester comments
* Program output
* Prerequisites
* Environment and other context
------------------------------
TESTER COMMENTS
------------------------------
Additional comments from tester:
this report is from an automated smoke testing program
and was not reviewed by a human for accuracy
------------------------------
PROGRAM OUTPUT
------------------------------
Output from '/usr/bin/make test':
PERL_DL_NONLAZY=1 "/home/sand/src/perl/repoperls/installed-perls/perl/v5.18.2/a2da/bin/perl" "-MExtUtils::Command::MM" "-MTest::Harness" "-e" "undef *Test::Harness::Switches; test_harness(0, 'blib/lib', 'blib/arch')" t/*.t
t/00-load.t .................. ok
t/basics_without_overload.t .. ok
t/cyclic_structures.t ........ ok
Smartmatch is experimental at t/data_dpath.t line 236.
Smartmatch is experimental at t/data_dpath.t line 237.
Smartmatch is experimental at t/data_dpath.t line 238.
Smartmatch is experimental at t/data_dpath.t line 245.
Smartmatch is experimental at t/data_dpath.t line 246.
Smartmatch is experimental at t/data_dpath.t line 247.
Smartmatch is experimental at t/data_dpath.t line 248.
Smartmatch is experimental at t/data_dpath.t line 267.
Smartmatch is experimental at t/data_dpath.t line 270.
Smartmatch is experimental at t/data_dpath.t line 273.
Smartmatch is experimental at t/data_dpath.t line 276.
Smartmatch is experimental at t/data_dpath.t line 279.
Smartmatch is experimental at t/data_dpath.t line 285.
Smartmatch is experimental at t/data_dpath.t line 288.
Smartmatch is experimental at t/data_dpath.t line 291.
Smartmatch is experimental at t/data_dpath.t line 293.
Smartmatch is experimental at t/data_dpath.t line 296.
Smartmatch is experimental at t/data_dpath.t line 302.
Smartmatch is experimental at t/data_dpath.t line 312.
Smartmatch is experimental at t/data_dpath.t line 320.
Smartmatch is experimental at t/data_dpath.t line 323.
Smartmatch is experimental at t/data_dpath.t line 331.
Smartmatch is experimental at t/data_dpath.t line 336.
Smartmatch is experimental at t/data_dpath.t line 343.
Smartmatch is experimental at t/data_dpath.t line 352.
Smartmatch is experimental at t/data_dpath.t line 360.
Smartmatch is experimental at t/data_dpath.t line 362.
Smartmatch is experimental at t/data_dpath.t line 365.
Smartmatch is experimental at t/data_dpath.t line 367.
Smartmatch is experimental at t/data_dpath.t line 370.
Smartmatch is experimental at t/data_dpath.t line 373.
Smartmatch is experimental at t/data_dpath.t line 374.
Smartmatch is experimental at t/data_dpath.t line 377.
Smartmatch is experimental at t/data_dpath.t line 380.
Smartmatch is experimental at t/data_dpath.t line 383.
Smartmatch is experimental at t/data_dpath.t line 386.
Smartmatch is experimental at t/data_dpath.t line 395.
Smartmatch is experimental at t/data_dpath.t line 398.
Smartmatch is experimental at t/data_dpath.t line 408.
Smartmatch is experimental at t/data_dpath.t line 417.
Smartmatch is experimental at t/data_dpath.t line 422.
Smartmatch is experimental at t/data_dpath.t line 429.
Smartmatch is experimental at t/data_dpath.t line 435.
Smartmatch is experimental at t/data_dpath.t line 437.
Smartmatch is experimental at t/data_dpath.t line 440.
Smartmatch is experimental at t/data_dpath.t line 442.
Smartmatch is experimental at t/data_dpath.t line 445.
Smartmatch is experimental at t/data_dpath.t line 447.
Smartmatch is experimental at t/data_dpath.t line 450.
Smartmatch is experimental at t/data_dpath.t line 452.
Smartmatch is experimental at t/data_dpath.t line 455.
Smartmatch is experimental at t/data_dpath.t line 457.
Smartmatch is experimental at t/data_dpath.t line 460.
Smartmatch is experimental at t/data_dpath.t line 462.
Smartmatch is experimental at t/data_dpath.t line 465.
Smartmatch is experimental at t/data_dpath.t line 468.
Smartmatch is experimental at t/data_dpath.t line 472.
Smartmatch is experimental at t/data_dpath.t line 476.
Smartmatch is experimental at t/data_dpath.t line 479.
Smartmatch is experimental at t/data_dpath.t line 483.
Smartmatch is experimental at t/data_dpath.t line 497.
Smartmatch is experimental at t/data_dpath.t line 500.
Smartmatch is experimental at t/data_dpath.t line 503.
Smartmatch is experimental at t/data_dpath.t line 513.
Smartmatch is experimental at t/data_dpath.t line 516.
Smartmatch is experimental at t/data_dpath.t line 519.
Smartmatch is experimental at t/data_dpath.t line 523.
Smartmatch is experimental at t/data_dpath.t line 527.
Smartmatch is experimental at t/data_dpath.t line 529.
Smartmatch is experimental at t/data_dpath.t line 531.
Smartmatch is experimental at t/data_dpath.t line 533.
Smartmatch is experimental at t/data_dpath.t line 535.
Smartmatch is experimental at t/data_dpath.t line 537.
Smartmatch is experimental at t/data_dpath.t line 581.
Smartmatch is experimental at t/data_dpath.t line 584.
Smartmatch is experimental at t/data_dpath.t line 587.
Smartmatch is experimental at t/data_dpath.t line 592.
Smartmatch is experimental at t/data_dpath.t line 596.
Smartmatch is experimental at t/data_dpath.t line 599.
Smartmatch is experimental at t/data_dpath.t line 602.
Smartmatch is experimental at t/data_dpath.t line 605.
Smartmatch is experimental at t/data_dpath.t line 608.
Smartmatch is experimental at t/data_dpath.t line 613.
Smartmatch is experimental at t/data_dpath.t line 617.
Smartmatch is experimental at t/data_dpath.t line 621.
Smartmatch is experimental at t/data_dpath.t line 625.
Smartmatch is experimental at t/data_dpath.t line 629.
Smartmatch is experimental at t/data_dpath.t line 633.
Smartmatch is experimental at t/data_dpath.t line 637.
Smartmatch is experimental at t/data_dpath.t line 641.
Smartmatch is experimental at t/data_dpath.t line 645.
Smartmatch is experimental at t/data_dpath.t line 649.
Smartmatch is experimental at t/data_dpath.t line 653.
Smartmatch is experimental at t/data_dpath.t line 657.
Smartmatch is experimental at t/data_dpath.t line 661.
Smartmatch is experimental at t/data_dpath.t line 665.
Smartmatch is experimental at t/data_dpath.t line 669.
Smartmatch is experimental at t/data_dpath.t line 673.
Smartmatch is experimental at t/data_dpath.t line 677.
Smartmatch is experimental at t/data_dpath.t line 681.
Smartmatch is experimental at t/data_dpath.t line 685.
Smartmatch is experimental at t/data_dpath.t line 689.
Smartmatch is experimental at t/data_dpath.t line 693.
Smartmatch is experimental at t/data_dpath.t line 729.
Smartmatch is experimental at t/data_dpath.t line 732.
Smartmatch is experimental at t/data_dpath.t line 735.
Smartmatch is experimental at t/data_dpath.t line 738.
Smartmatch is experimental at t/data_dpath.t line 741.
Smartmatch is experimental at t/data_dpath.t line 747.
Smartmatch is experimental at t/data_dpath.t line 751.
Smartmatch is experimental at t/data_dpath.t line 757.
Smartmatch is experimental at t/data_dpath.t line 760.
Smartmatch is experimental at t/data_dpath.t line 764.
Smartmatch is experimental at t/data_dpath.t line 771.
Smartmatch is experimental at t/data_dpath.t line 778.
Smartmatch is experimental at t/data_dpath.t line 785.
Smartmatch is experimental at t/data_dpath.t line 790.
Smartmatch is experimental at t/data_dpath.t line 795.
Smartmatch is experimental at t/data_dpath.t line 802.
Smartmatch is experimental at t/data_dpath.t line 810.
Smartmatch is experimental at t/data_dpath.t line 818.
Smartmatch is experimental at t/data_dpath.t line 826.
Smartmatch is experimental at t/data_dpath.t line 829.
Smartmatch is experimental at t/data_dpath.t line 836.
Smartmatch is experimental at t/data_dpath.t line 842.
Smartmatch is experimental at t/data_dpath.t line 847.
Smartmatch is experimental at t/data_dpath.t line 865.
Smartmatch is experimental at t/data_dpath.t line 874.
Smartmatch is experimental at t/data_dpath.t line 877.
Smartmatch is experimental at t/data_dpath.t line 880.
Smartmatch is experimental at t/data_dpath.t line 883.
Smartmatch is experimental at t/data_dpath.t line 904.
Smartmatch is experimental at t/data_dpath.t line 907.
Smartmatch is experimental at t/data_dpath.t line 912.
Smartmatch is experimental at t/data_dpath.t line 915.
Smartmatch is experimental at t/data_dpath.t line 918.
Smartmatch is experimental at t/data_dpath.t line 925.
Smartmatch is experimental at t/data_dpath.t line 943.
Smartmatch is experimental at t/data_dpath.t line 997.
Smartmatch is experimental at t/data_dpath.t line 1006.
Smartmatch is experimental at (eval 234) line 1.
Smartmatch is experimental at (eval 236) line 1.
Smartmatch is experimental at (eval 250) line 1.
Smartmatch is experimental at (eval 252) line 1.
Smartmatch is experimental at (eval 254) line 1.
Smartmatch is experimental at (eval 256) line 1.
Smartmatch is experimental at (eval 258) line 1.
Smartmatch is experimental at (eval 260) line 1.
Smartmatch is experimental at (eval 262) line 1.
Smartmatch is experimental at (eval 264) line 1.
Smartmatch is experimental at (eval 266) line 1.
Smartmatch is experimental at (eval 268) line 1.
Smartmatch is experimental at (eval 270) line 1.
Smartmatch is experimental at (eval 272) line 1.
Smartmatch is experimental at (eval 298) line 1.
Smartmatch is experimental at (eval 300) line 1.
Smartmatch is experimental at (eval 302) line 1.
Smartmatch is experimental at (eval 304) line 1.
Smartmatch is experimental at (eval 306) line 1.
Smartmatch is experimental at (eval 308) line 1.
Smartmatch is experimental at (eval 310) line 1.
Smartmatch is experimental at (eval 312) line 1.
Smartmatch is experimental at (eval 314) line 1.
Smartmatch is experimental at (eval 316) line 1.
Smartmatch is experimental at (eval 318) line 1.
Smartmatch is experimental at (eval 320) line 1.
Smartmatch is experimental at (eval 520) line 1.
Smartmatch is experimental at (eval 522) line 1.
Smartmatch is experimental at (eval 524) line 1.
Smartmatch is experimental at (eval 526) line 1.
Smartmatch is experimental at (eval 528) line 1.
Smartmatch is experimental at (eval 530) line 1.
Smartmatch is experimental at (eval 532) line 1.
Smartmatch is experimental at (eval 534) line 1.
Smartmatch is experimental at (eval 536) line 1.
Smartmatch is experimental at (eval 538) line 1.
Smartmatch is experimental at (eval 540) line 1.
Smartmatch is experimental at (eval 542) line 1.
Smartmatch is experimental at (eval 544) line 1.
Smartmatch is experimental at (eval 546) line 1.
Smartmatch is experimental at (eval 548) line 1.
Smartmatch is experimental at (eval 550) line 1.
Smartmatch is experimental at (eval 552) line 1.
Smartmatch is experimental at (eval 554) line 1.
Smartmatch is experimental at (eval 556) line 1.
Smartmatch is experimental at (eval 558) line 1.
t/data_dpath.t ............... ok
t/iterator.t ................. ok
Smartmatch is experimental at t/optimization.t line 36.
Smartmatch is experimental at t/optimization.t line 39.
Smartmatch is experimental at t/optimization.t line 70.
Smartmatch is experimental at t/optimization.t line 73.
t/optimization.t ............. ok
t/parallel.t ................. ok
t/path.t ..................... ok
t/references.t ............... ok
Smartmatch is experimental at t/regressions.t line 30.
Smartmatch is experimental at t/regressions.t line 38.
Smartmatch is experimental at t/regressions.t line 46.
Smartmatch is experimental at t/regressions.t line 50.
t/regressions.t .............. ok
t/release-eol.t .............. skipped: these tests are for release candidate testing
t/release-no-tabs.t .......... skipped: these tests are for release candidate testing
t/release-pod-coverage.t ..... skipped: these tests are for release candidate testing
t/release-pod-syntax.t ....... skipped: these tests are for release candidate testing
Smartmatch is experimental at t/zeros.t line 42.
Smartmatch is experimental at t/zeros.t line 45.
Smartmatch is experimental at t/zeros.t line 48.
Smartmatch is experimental at t/zeros.t line 51.
Smartmatch is experimental at t/zeros.t line 54.
Smartmatch is experimental at t/zeros.t line 57.
Smartmatch is experimental at t/zeros.t line 60.
Smartmatch is experimental at t/zeros.t line 63.
Smartmatch is experimental at t/zeros.t line 66.
t/zeros.t .................... ok
All tests successful.
Files=15, Tests=472, 5 wallclock secs ( 0.10 usr 0.10 sys + 2.28 cusr 0.31 csys = 2.79 CPU)
Result: PASS
------------------------------
PREREQUISITES
------------------------------
Prerequisite modules loaded:
requires:
Module Need Have
------------------------ ---- ---------
aliased 0.33 0.34
Class::XSAccessor 0 1.19
Class::XSAccessor::Array 0 1.19
constant 0 1.27
Data::Dumper 0 2.154
Iterator::Util 0 0.02
List::MoreUtils 0 0.409_003
List::Util 0 1.41
POSIX 0 1.32
Safe 2.30 2.35
Scalar::Util 0 1.41
strict 0 1.07
Sub::Exporter 0 0.987
Text::Balanced 2.02 2.02
warnings 0 1.18
build_requires:
Module Need Have
------------------------ ---- ---------
Test::Deep 0 0.115
Test::More 0.88 1.001014
configure_requires:
Module Need Have
------------------------ ---- ---------
ExtUtils::MakeMaker 6.30 7.05_18
------------------------------
ENVIRONMENT AND OTHER CONTEXT
------------------------------
Environment variables:
AUTOMATED_TESTING = 1
LANG = en_US.UTF-8
LANGUAGE = en_US:en
PATH = /home/sand/bin:/usr/local/bin:/usr/bin:/bin:/usr/games:/usr/local/perl/bin:/usr/X11/bin:/sbin:/usr/sbin
PERL5LIB =
PERL5OPT =
PERL5_CPANPLUS_IS_RUNNING = 11148
PERL5_CPAN_IS_RUNNING = 11148
PERL_MM_USE_DEFAULT = 1
SHELL = /usr/bin/zsh
TERM = screen
Perl special variables (and OS-specific diagnostics, for MSWin32):
$^X = /home/sand/src/perl/repoperls/installed-perls/perl/v5.18.2/a2da/bin/perl
$UID/$EUID = 1005 / 1005
$GID = 1005 1005
$EGID = 1005 1005
Perl module toolchain versions installed:
Module Have
------------------- --------
CPAN 2.10
CPAN::Meta 2.150001
Cwd 3.47
ExtUtils::CBuilder 0.280220
ExtUtils::Command 7.05_18
ExtUtils::Install 1.59
ExtUtils::MakeMaker 7.05_18
ExtUtils::Manifest 1.70
ExtUtils::ParseXS 3.24
File::Spec 3.47
JSON 2.90
JSON::PP 2.27203
Module::Build 0.4211
Module::Signature 0.73
Parse::CPAN::Meta 1.4414
Test::Harness 3.35
Test::More 1.001014
YAML 1.14
YAML::Syck 1.29
version 0.9912
--
Summary of my perl5 (revision 5 version 18 subversion 2) configuration:
Commit id: e2a4306ace4a19cb3a434e4eb9fedad6ff1248b4
Platform:
osname=linux, osvers=3.16.0-4-amd64, archname=x86_64-linux-thread-multi-ld
uname='linux k83 3.16.0-4-amd64 #1 smp debian 3.16.7-ckt7-1 (2015-03-01) x86_64 gnulinux '
config_args='-Dprefix=/home/sand/src/perl/repoperls/installed-perls/perl/v5.18.2/a2da -Dmyhostname=k83 -Dinstallusrbinperl=n -Uversiononly -Dusedevel -des -Ui_db -Duseithreads -Duselongdouble -DDEBUGGING=-g'
hint=recommended, useposix=true, d_sigaction=define
useithreads=define, usemultiplicity=define
useperlio=define, d_sfio=undef, uselargefiles=define, usesocks=undef
use64bitint=define, use64bitall=define, uselongdouble=define
usemymalloc=n, bincompat5005=undef
Compiler:
cc='cc', ccflags ='-D_REENTRANT -D_GNU_SOURCE -fno-strict-aliasing -pipe -fstack-protector -I/usr/local/include -D_LARGEFILE_SOURCE -D_FILE_OFFSET_BITS=64',
optimize='-O2 -g',
cppflags='-D_REENTRANT -D_GNU_SOURCE -fno-strict-aliasing -pipe -fstack-protector -I/usr/local/include'
ccversion='', gccversion='4.9.2', gccosandvers=''
intsize=4, longsize=8, ptrsize=8, doublesize=8, byteorder=12345678
d_longlong=define, longlongsize=8, d_longdbl=define, longdblsize=16
ivtype='long', ivsize=8, nvtype='long double', nvsize=16, Off_t='off_t', lseeksize=8
alignbytes=16, prototype=define
Linker and Libraries:
ld='cc', ldflags =' -fstack-protector -L/usr/local/lib'
libpth=/usr/local/lib /lib/x86_64-linux-gnu /lib/../lib /usr/lib/x86_64-linux-gnu /usr/lib/../lib /lib /usr/lib
libs=-lnsl -lgdbm -ldb -ldl -lm -lcrypt -lutil -lpthread -lc -lgdbm_compat
perllibs=-lnsl -ldl -lm -lcrypt -lutil -lpthread -lc
libc=, so=so, useshrplib=false, libperl=libperl.a
gnulibc_version='2.19'
Dynamic Linking:
dlsrc=dl_dlopen.xs, dlext=so, d_dlsymun=undef, ccdlflags='-Wl,-E'
cccdlflags='-fPIC', lddlflags='-shared -O2 -g -L/usr/local/lib -fstack-protector'
Characteristics of this binary (from libperl):
Compile-time options: HAS_TIMES MULTIPLICITY PERLIO_LAYERS
PERL_DONT_CREATE_GVSV
PERL_HASH_FUNC_ONE_AT_A_TIME_HARD
PERL_IMPLICIT_CONTEXT PERL_MALLOC_WRAP
PERL_PRESERVE_IVUV PERL_SAWAMPERSAND PERL_USE_DEVEL
USE_64_BIT_ALL USE_64_BIT_INT USE_ITHREADS
USE_LARGE_FILES USE_LOCALE USE_LOCALE_COLLATE
USE_LOCALE_CTYPE USE_LOCALE_NUMERIC USE_LONG_DOUBLE
USE_PERLIO USE_PERL_ATOF USE_REENTRANT_API
Built under linux
Compiled at Mar 15 2015 07:38:13
%ENV:
PERL5LIB=""
PERL5OPT=""
PERL5_CPANPLUS_IS_RUNNING="11148"
PERL5_CPAN_IS_RUNNING="11148"
PERL_MM_USE_DEFAULT="1"
@INC:
/home/sand/src/perl/repoperls/installed-perls/perl/v5.18.2/a2da/lib/site_perl/5.18.2/x86_64-linux-thread-multi-ld
/home/sand/src/perl/repoperls/installed-perls/perl/v5.18.2/a2da/lib/site_perl/5.18.2
/home/sand/src/perl/repoperls/installed-perls/perl/v5.18.2/a2da/lib/5.18.2/x86_64-linux-thread-multi-ld
/home/sand/src/perl/repoperls/installed-perls/perl/v5.18.2/a2da/lib/5.18.2
.