Report for PLUTO-0.30

Back
From: metabase:user:00e8548a-0e72-11e3-8ee3-df0a9c418065
Subject: PASS PLUTO-0.30 v5.16.3 GNU/Linux
Date: 2013-09-05T06:53:50Z

This distribution has been tested as part of the CPAN Testers
project, supporting the Perl programming language.  See
http://wiki.cpantesters.org/ for more information or email
questions to cpan-testers-discuss@perl.org


--
Dear Edward Kawas,

This is a computer-generated report for PLUTO-0.30
on perl 5.16.3, created by CPAN-Reporter-1.2010.

Thank you for uploading your work to CPAN.  Congratulations!
All tests were successful.

Sections of this report:

    * Tester comments
    * Program output
    * Prerequisites
    * Environment and other context

------------------------------
TESTER COMMENTS
------------------------------

Additional comments from tester:

this report is from an automated smoke testing program
and was not reviewed by a human for accuracy

------------------------------
PROGRAM OUTPUT
------------------------------

Output from '/usr/bin/make test':

PERL_DL_NONLAZY=1 /root/perl5/perlbrew/perls/perl-5.16.3/bin/perl "-MExtUtils::Command::MM" "-e" "test_harness(0, 'inc', 'blib/lib', 'blib/arch')" t/00_base.t t/10_nodes.t t/20_statements.t t/30_graph.t t/31_graph_memory.t t/40_parser.t t/41_parser_ntriples.t t/42_parser_xml.t t/43_parser_n3.t t/50_db.t t/60_jena.t t/61_jena_sql.t t/70_query.t t/71_query_simple.t t/72_query_rdql.t t/80_ontology.t t/81_ontology_rdfs.t t/81b_ontology_rdfs.t t/82_ontology_jena.t t/85_jena_graph_system.t
t/00_base.t ............... ok
t/10_nodes.t .............. ok
t/20_statements.t ......... ok
t/30_graph.t .............. ok
t/31_graph_memory.t ....... ok
t/40_parser.t ............. ok
t/41_parser_ntriples.t .... ok
Subroutine XML::Namespace::rdf redefined at /root/perl5/perlbrew/perls/perl-5.16.3/lib/site_perl/5.16.3/XML/Namespace.pm line 54.
Subroutine XML::Namespace::rdf redefined at /root/perl5/perlbrew/perls/perl-5.16.3/lib/site_perl/5.16.3/XML/Namespace.pm line 54.
Please download the latest approved test cases and place them in t/rdf.
See http://www.w3.org/2000/10/rdf-tests/rdfcore/latest_Approved.zip
t/42_parser_xml.t ......... ok
t/43_parser_n3.t .......... ok
t/50_db.t ................. ok
t/60_jena.t ............... ok
t/61_jena_sql.t ........... ok
t/70_query.t .............. ok
t/71_query_simple.t ....... ok
Use of uninitialized value in substr at /root/perl5/perlbrew/perls/perl-5.16.3/lib/site_perl/5.16.3/Class/ParamParser.pm line 353.
Subroutine XML::Namespace::rdf redefined at /root/perl5/perlbrew/perls/perl-5.16.3/lib/site_perl/5.16.3/XML/Namespace.pm line 54.
Subroutine XML::Namespace::rdf redefined at /root/perl5/perlbrew/perls/perl-5.16.3/lib/site_perl/5.16.3/XML/Namespace.pm line 54.
t/72_query_rdql.t ......... ok
t/80_ontology.t ........... ok
Subroutine XML::Namespace::rdf redefined at /root/perl5/perlbrew/perls/perl-5.16.3/lib/site_perl/5.16.3/XML/Namespace.pm line 54.
Subroutine XML::Namespace::rdf redefined at /root/perl5/perlbrew/perls/perl-5.16.3/lib/site_perl/5.16.3/XML/Namespace.pm line 54.
Subroutine XML::Namespace::rdfs redefined at /root/perl5/perlbrew/perls/perl-5.16.3/lib/site_perl/5.16.3/XML/Namespace.pm line 54.
Subroutine XML::Namespace::rdf redefined at /root/perl5/perlbrew/perls/perl-5.16.3/lib/site_perl/5.16.3/XML/Namespace.pm line 54.
Odd number of elements in hash assignment at /root/.cpan/build/PLUTO-0.30-jZwE9t/blib/lib/ODO/RDFS/Resource.pm line 24.
Odd number of elements in hash assignment at /root/.cpan/build/PLUTO-0.30-jZwE9t/blib/lib/ODO/RDFS/Class.pm line 24.
Odd number of elements in hash assignment at /root/.cpan/build/PLUTO-0.30-jZwE9t/blib/lib/ODO/RDFS/Resource.pm line 24.
Odd number of elements in hash assignment at (eval 176) line 34.
Odd number of elements in hash assignment at (eval 157) line 34.
Odd number of elements in hash assignment at (eval 206) line 34.
Odd number of elements in hash assignment at /root/.cpan/build/PLUTO-0.30-jZwE9t/blib/lib/ODO/RDFS/Container.pm line 24.
Odd number of elements in hash assignment at /root/.cpan/build/PLUTO-0.30-jZwE9t/blib/lib/ODO/RDFS/Resource.pm line 24.
Odd number of elements in hash assignment at (eval 176) line 34.
Odd number of elements in hash assignment at (eval 157) line 34.
Odd number of elements in hash assignment at (eval 206) line 34.
Odd number of elements in hash assignment at /root/.cpan/build/PLUTO-0.30-jZwE9t/blib/lib/ODO/RDFS/Container.pm line 24.
Odd number of elements in hash assignment at /root/.cpan/build/PLUTO-0.30-jZwE9t/blib/lib/ODO/RDFS/Resource.pm line 24.
t/81_ontology_rdfs.t ...... ok
Subroutine XML::Namespace::rdf redefined at /root/perl5/perlbrew/perls/perl-5.16.3/lib/site_perl/5.16.3/XML/Namespace.pm line 54.
Subroutine XML::Namespace::rdf redefined at /root/perl5/perlbrew/perls/perl-5.16.3/lib/site_perl/5.16.3/XML/Namespace.pm line 54.
Subroutine XML::Namespace::rdfs redefined at /root/perl5/perlbrew/perls/perl-5.16.3/lib/site_perl/5.16.3/XML/Namespace.pm line 54.
Subroutine XML::Namespace::rdf redefined at /root/perl5/perlbrew/perls/perl-5.16.3/lib/site_perl/5.16.3/XML/Namespace.pm line 54.
Odd number of elements in hash assignment at /root/.cpan/build/PLUTO-0.30-jZwE9t/blib/lib/ODO/RDFS/Resource.pm line 24.
Odd number of elements in hash assignment at /root/.cpan/build/PLUTO-0.30-jZwE9t/blib/lib/ODO/RDFS/Class.pm line 24.
Odd number of elements in hash assignment at /root/.cpan/build/PLUTO-0.30-jZwE9t/blib/lib/ODO/RDFS/Resource.pm line 24.
Odd number of elements in hash assignment at (eval 176) line 34.
Odd number of elements in hash assignment at (eval 157) line 34.
Odd number of elements in hash assignment at (eval 206) line 34.
Odd number of elements in hash assignment at /root/.cpan/build/PLUTO-0.30-jZwE9t/blib/lib/ODO/RDFS/Container.pm line 24.
Odd number of elements in hash assignment at /root/.cpan/build/PLUTO-0.30-jZwE9t/blib/lib/ODO/RDFS/Resource.pm line 24.
Odd number of elements in hash assignment at (eval 176) line 34.
Odd number of elements in hash assignment at (eval 157) line 34.
Odd number of elements in hash assignment at (eval 206) line 34.
Odd number of elements in hash assignment at /root/.cpan/build/PLUTO-0.30-jZwE9t/blib/lib/ODO/RDFS/Container.pm line 24.
Odd number of elements in hash assignment at /root/.cpan/build/PLUTO-0.30-jZwE9t/blib/lib/ODO/RDFS/Resource.pm line 24.
t/81b_ontology_rdfs.t ..... ok
t/82_ontology_jena.t ...... ok
t/85_jena_graph_system.t .. skipped: Ignored because of problems installing DBD::mysql
All tests successful.
Files=20, Tests=192,  3 wallclock secs ( 0.04 usr  0.02 sys +  2.24 cusr  0.20 csys =  2.50 CPU)
Result: PASS

------------------------------
PREREQUISITES
------------------------------

Prerequisite modules loaded:

requires:

    Module                    Need   Have    
    ------------------------- ------ --------
    Aspect                    0.10   1.04    
    Class::Accessor           0.25   0.34    
    Class::Base               0.02   0.05    
    Class::Interfaces         0.04   0.04    
    Class::ISA                0.32   0.36    
    Class::ParamParser        1.041  1.041   
    Digest::MD5               2.34   2.53    
    Error                     0.17   0.17021 
    Exception::Class          1.22   1.37    
    Exception::Class::DBI     0.94   1.01    
    Module::Load              0.10   0.24    
    Module::Load::Conditional 0.38   0.54    
    Params::Check             0.23   0.38    
    Parse::RecDescent         1.93   1.967009
    SQL::Library              v0.0.3 0.0.5   
    Template                  2.15   2.25    
    Time::HiRes               1.20   1.9726  
    URI                       1.35   1.60    
    XML::LibXML               1.70   2.0103  
    XML::Namespace            0.02   0.02    
    XML::RegExp               0.02   0.04    
    XML::SAX                  0.96   0.99    

build_requires:

    Module                    Need   Have    
    ------------------------- ------ --------
    ExtUtils::MakeMaker       6.42   6.74    

configure_requires:

    Module                    Need   Have    
    ------------------------- ------ --------
    ExtUtils::MakeMaker       6.42   6.74    


------------------------------
ENVIRONMENT AND OTHER CONTEXT
------------------------------

Environment variables:

    AUTOMATED_TESTING = 1
    LANG = en_US.UTF-8
    PATH = /root/perl5/perlbrew/bin:/root/perl5/perlbrew/perls/perl-5.16.3/bin:/usr/kerberos/sbin:/usr/kerberos/bin:/usr/local/sbin:/usr/local/bin:/sbin:/bin:/usr/sbin:/usr/bin:/usr/X11R6/bin:/root/bin
    PERL5LIB = 
    PERL5OPT = 
    PERL5_CPANPLUS_IS_RUNNING = 490
    PERL5_CPAN_IS_RUNNING = 490
    PERL5_CPAN_IS_RUNNING_IN_RECURSION = 901,490
    PERLBREW_BASHRC_VERSION = 0.66
    PERLBREW_HOME = /root/.perlbrew
    PERLBREW_MANPATH = /root/perl5/perlbrew/perls/perl-5.16.3/man
    PERLBREW_PATH = /root/perl5/perlbrew/bin:/root/perl5/perlbrew/perls/perl-5.16.3/bin
    PERLBREW_PERL = perl-5.16.3
    PERLBREW_ROOT = /root/perl5/perlbrew
    PERLBREW_VERSION = 0.66
    PERL_CR_SMOKER_CURRENT = SADI-1.13
    PERL_EXTUTILS_AUTOINSTALL = --defaultdeps
    PERL_MM_USE_DEFAULT = 1
    SHELL = /bin/bash
    TERM = rxvt-unicode

Perl special variables (and OS-specific diagnostics, for MSWin32):

    $^X = /root/perl5/perlbrew/perls/perl-5.16.3/bin/perl
    $UID/$EUID = 0 / 0
    $GID = 0 0 1 2 3 4 6 10
    $EGID = 0 0 1 2 3 4 6 10

Perl module toolchain versions installed:

    Module              Have    
    ------------------- --------
    CPAN                2.00    
    CPAN::Meta          2.120351
    Cwd                 3.40    
    ExtUtils::CBuilder  0.280206
    ExtUtils::Command   1.17    
    ExtUtils::Install   1.58    
    ExtUtils::MakeMaker 6.74    
    ExtUtils::Manifest  1.61    
    ExtUtils::ParseXS   3.21    
    File::Spec          3.40    
    JSON                2.59    
    JSON::PP            2.27202 
    Module::Build       0.4007  
    Module::Signature   n/a     
    Parse::CPAN::Meta   1.4405  
    Test::Harness       3.28    
    Test::More          0.98    
    YAML                0.84    
    YAML::Syck          1.27    
    version             0.99    


--

Summary of my perl5 (revision 5 version 16 subversion 3) configuration:
   
  Platform:
    osname=linux, osvers=2.6.18-348.16.1.el5, archname=x86_64-linux
    uname='linux localhost.localdomain 2.6.18-348.16.1.el5 #1 smp wed aug 21 04:00:25 edt 2013 x86_64 x86_64 x86_64 gnulinux '
    config_args='-de -Dprefix=/root/perl5/perlbrew/perls/perl-5.16.3 -Aeval:scriptdir=/root/perl5/perlbrew/perls/perl-5.16.3/bin'
    hint=recommended, useposix=true, d_sigaction=define
    useithreads=undef, usemultiplicity=undef
    useperlio=define, d_sfio=undef, uselargefiles=define, usesocks=undef
    use64bitint=define, use64bitall=define, uselongdouble=undef
    usemymalloc=n, bincompat5005=undef
  Compiler:
    cc='cc', ccflags ='-fno-strict-aliasing -pipe -fstack-protector -I/usr/local/include -D_LARGEFILE_SOURCE -D_FILE_OFFSET_BITS=64',
    optimize='-O2',
    cppflags='-fno-strict-aliasing -pipe -fstack-protector -I/usr/local/include'
    ccversion='', gccversion='4.1.2 20080704 (Red Hat 4.1.2-54)', gccosandvers=''
    intsize=4, longsize=8, ptrsize=8, doublesize=8, byteorder=12345678
    d_longlong=define, longlongsize=8, d_longdbl=define, longdblsize=16
    ivtype='long', ivsize=8, nvtype='double', nvsize=8, Off_t='off_t', lseeksize=8
    alignbytes=8, prototype=define
  Linker and Libraries:
    ld='cc', ldflags =' -fstack-protector -L/usr/local/lib'
    libpth=/usr/local/lib /lib /usr/lib /lib64 /usr/lib64 /usr/local/lib64
    libs=-lnsl -ldl -lm -lcrypt -lutil -lc
    perllibs=-lnsl -ldl -lm -lcrypt -lutil -lc
    libc=/lib/libc-2.5.so, so=so, useshrplib=false, libperl=libperl.a
    gnulibc_version='2.5'
  Dynamic Linking:
    dlsrc=dl_dlopen.xs, dlext=so, d_dlsymun=undef, ccdlflags='-Wl,-E'
    cccdlflags='-fPIC', lddlflags='-shared -O2 -L/usr/local/lib -fstack-protector'


Characteristics of this binary (from libperl): 
  Compile-time options: HAS_TIMES PERLIO_LAYERS PERL_DONT_CREATE_GVSV
                        PERL_MALLOC_WRAP PERL_PRESERVE_IVUV USE_64_BIT_ALL
                        USE_64_BIT_INT USE_LARGE_FILES USE_LOCALE
                        USE_LOCALE_COLLATE USE_LOCALE_CTYPE
                        USE_LOCALE_NUMERIC USE_PERLIO USE_PERL_ATOF
  Built under linux
  Compiled at Aug 26 2013 11:51:42
  %ENV:
    PERL5LIB=""
    PERL5OPT=""
    PERL5_CPANPLUS_IS_RUNNING="490"
    PERL5_CPAN_IS_RUNNING="490"
    PERL5_CPAN_IS_RUNNING_IN_RECURSION="901,490"
    PERLBREW_BASHRC_VERSION="0.66"
    PERLBREW_HOME="/root/.perlbrew"
    PERLBREW_MANPATH="/root/perl5/perlbrew/perls/perl-5.16.3/man"
    PERLBREW_PATH="/root/perl5/perlbrew/bin:/root/perl5/perlbrew/perls/perl-5.16.3/bin"
    PERLBREW_PERL="perl-5.16.3"
    PERLBREW_ROOT="/root/perl5/perlbrew"
    PERLBREW_VERSION="0.66"
    PERL_CR_SMOKER_CURRENT="SADI-1.13"
    PERL_EXTUTILS_AUTOINSTALL="--defaultdeps"
    PERL_MM_USE_DEFAULT="1"
  @INC:
    /root/perl5/perlbrew/perls/perl-5.16.3/lib/site_perl/5.16.3/x86_64-linux
    /root/perl5/perlbrew/perls/perl-5.16.3/lib/site_perl/5.16.3
    /root/perl5/perlbrew/perls/perl-5.16.3/lib/5.16.3/x86_64-linux
    /root/perl5/perlbrew/perls/perl-5.16.3/lib/5.16.3
    .