Report for Apache-ASP-2.62

Back
From: metabase:user:314402c4-2aae-11df-837a-5e0a49663a4f
Subject: PASS Apache-ASP-2.62 v5.24.1 GNU/Linux
Date: 2017-02-06T17:30:15Z

This distribution has been tested as part of the CPAN Testers
project, supporting the Perl programming language.  See
http://wiki.cpantesters.org/ for more information or email
questions to cpan-testers-discuss@perl.org


--
Dear J Chamas,

This is a computer-generated report for Apache-ASP-2.62
on perl 5.24.1, created by CPAN-Reporter-1.2018.

Thank you for uploading your work to CPAN.  Congratulations!
All tests were successful.

Sections of this report:

    * Tester comments
    * Program output
    * Prerequisites
    * Environment and other context

------------------------------
TESTER COMMENTS
------------------------------

Additional comments from tester:

none provided

------------------------------
PROGRAM OUTPUT
------------------------------

Output from '/usr/bin/make test':

PERL_DL_NONLAZY=1 "/opt/perl-5.24.1/bin/perl5.24.1" "-MExtUtils::Command::MM" "-MTest::Harness" "-e" "undef *Test::Harness::Switches; test_harness(0, 'blib/lib', 'blib/arch')" t/*.t
t/application.t .......... ok
t/asp-perl1.t ............ ok
t/asp-perl2.t ............ ok
t/asp_object.t ........... ok
t/cache.t ................ ok
t/cgi_headers.t .......... ok
Use of uninitialized value $rv in lc at /home/cpansand/.cpan/build/2017020615/Apache-ASP-2.62-0/blib/lib/Apache/ASP.pm line 2018.
Use of uninitialized value $rv in lc at /home/cpansand/.cpan/build/2017020615/Apache-ASP-2.62-0/blib/lib/Apache/ASP.pm line 2018.
Use of uninitialized value $rv in lc at /home/cpansand/.cpan/build/2017020615/Apache-ASP-2.62-0/blib/lib/Apache/ASP.pm line 2018.
Use of uninitialized value $rv in lc at /home/cpansand/.cpan/build/2017020615/Apache-ASP-2.62-0/blib/lib/Apache/ASP.pm line 2018.
Use of uninitialized value $rv in lc at /home/cpansand/.cpan/build/2017020615/Apache-ASP-2.62-0/blib/lib/Apache/ASP.pm line 2018.
Use of uninitialized value $rv in lc at /home/cpansand/.cpan/build/2017020615/Apache-ASP-2.62-0/blib/lib/Apache/ASP.pm line 2018.
Use of uninitialized value $rv in lc at /home/cpansand/.cpan/build/2017020615/Apache-ASP-2.62-0/blib/lib/Apache/ASP.pm line 2018.
Use of uninitialized value $rv in lc at /home/cpansand/.cpan/build/2017020615/Apache-ASP-2.62-0/blib/lib/Apache/ASP.pm line 2018.
Use of uninitialized value $rv in lc at /home/cpansand/.cpan/build/2017020615/Apache-ASP-2.62-0/blib/lib/Apache/ASP.pm line 2018.
t/closure.t .............. ok
t/collection.t ........... ok
t/collectionitem.t ....... ok
t/cookies.t .............. ok
t/end.t .................. ok
t/general.t .............. ok
t/global_event_end.t ..... ok
t/include.t .............. ok
Use of uninitialized value $rv in lc at /home/cpansand/.cpan/build/2017020615/Apache-ASP-2.62-0/blib/lib/Apache/ASP.pm line 2018.
 at /home/cpansand/.cpan/build/2017020615/Apache-ASP-2.62-0/blib/lib/Apache/ASP.pm line 2018.
	Apache::ASP::get_dir_config(Apache::ASP::CGI::Table=HASH(0x19da8a8), "Global") called at /home/cpansand/.cpan/build/2017020615/Apache-ASP-2.62-0/blib/lib/Apache/ASP.pm line 276
	Apache::ASP::new("Apache::ASP", Apache::ASP::CGI=HASH(0x14dc3f0), "t/include_change.t") called at /home/cpansand/.cpan/build/2017020615/Apache-ASP-2.62-0/blib/lib/Apache/ASP.pm line 184
	Apache::ASP::handler(Apache::ASP::CGI=HASH(0x14dc3f0)) called at /home/cpansand/.cpan/build/2017020615/Apache-ASP-2.62-0/blib/lib/Apache/ASP/CGI.pm line 40
	Apache::ASP::CGI::do_self("NoState", 1, "Debug", 0, "UseStrict", 0) called at t/include_change.t line 5
Use of uninitialized value $rv in lc at /home/cpansand/.cpan/build/2017020615/Apache-ASP-2.62-0/blib/lib/Apache/ASP.pm line 2018.
 at /home/cpansand/.cpan/build/2017020615/Apache-ASP-2.62-0/blib/lib/Apache/ASP.pm line 2018.
	Apache::ASP::get_dir_config(Apache::ASP::CGI::Table=HASH(0x19da8a8), "GlobalPackage") called at /home/cpansand/.cpan/build/2017020615/Apache-ASP-2.62-0/blib/lib/Apache/ASP.pm line 280
	Apache::ASP::new("Apache::ASP", Apache::ASP::CGI=HASH(0x14dc3f0), "t/include_change.t") called at /home/cpansand/.cpan/build/2017020615/Apache-ASP-2.62-0/blib/lib/Apache/ASP.pm line 184
	Apache::ASP::handler(Apache::ASP::CGI=HASH(0x14dc3f0)) called at /home/cpansand/.cpan/build/2017020615/Apache-ASP-2.62-0/blib/lib/Apache/ASP/CGI.pm line 40
	Apache::ASP::CGI::do_self("NoState", 1, "Debug", 0, "UseStrict", 0) called at t/include_change.t line 5
Use of uninitialized value $rv in lc at /home/cpansand/.cpan/build/2017020615/Apache-ASP-2.62-0/blib/lib/Apache/ASP.pm line 2018.
 at /home/cpansand/.cpan/build/2017020615/Apache-ASP-2.62-0/blib/lib/Apache/ASP.pm line 2018.
	Apache::ASP::get_dir_config(Apache::ASP::CGI::Table=HASH(0x19da8a8), "InodeNames") called at /home/cpansand/.cpan/build/2017020615/Apache-ASP-2.62-0/blib/lib/Apache/ASP.pm line 280
	Apache::ASP::new("Apache::ASP", Apache::ASP::CGI=HASH(0x14dc3f0), "t/include_change.t") called at /home/cpansand/.cpan/build/2017020615/Apache-ASP-2.62-0/blib/lib/Apache/ASP.pm line 184
	Apache::ASP::handler(Apache::ASP::CGI=HASH(0x14dc3f0)) called at /home/cpansand/.cpan/build/2017020615/Apache-ASP-2.62-0/blib/lib/Apache/ASP/CGI.pm line 40
	Apache::ASP::CGI::do_self("NoState", 1, "Debug", 0, "UseStrict", 0) called at t/include_change.t line 5
Use of uninitialized value $rv in lc at /home/cpansand/.cpan/build/2017020615/Apache-ASP-2.62-0/blib/lib/Apache/ASP.pm line 2018.
 at /home/cpansand/.cpan/build/2017020615/Apache-ASP-2.62-0/blib/lib/Apache/ASP.pm line 2018.
	Apache::ASP::get_dir_config(Apache::ASP::CGI::Table=HASH(0x19da8a8), "NoCache") called at /home/cpansand/.cpan/build/2017020615/Apache-ASP-2.62-0/blib/lib/Apache/ASP.pm line 280
	Apache::ASP::new("Apache::ASP", Apache::ASP::CGI=HASH(0x14dc3f0), "t/include_change.t") called at /home/cpansand/.cpan/build/2017020615/Apache-ASP-2.62-0/blib/lib/Apache/ASP.pm line 184
	Apache::ASP::handler(Apache::ASP::CGI=HASH(0x14dc3f0)) called at /home/cpansand/.cpan/build/2017020615/Apache-ASP-2.62-0/blib/lib/Apache/ASP/CGI.pm line 40
	Apache::ASP::CGI::do_self("NoState", 1, "Debug", 0, "UseStrict", 0) called at t/include_change.t line 5
Use of uninitialized value $rv in lc at /home/cpansand/.cpan/build/2017020615/Apache-ASP-2.62-0/blib/lib/Apache/ASP.pm line 2018.
 at /home/cpansand/.cpan/build/2017020615/Apache-ASP-2.62-0/blib/lib/Apache/ASP.pm line 2018.
	Apache::ASP::get_dir_config(Apache::ASP::CGI::Table=HASH(0x19da8a8), "StatINC") called at /home/cpansand/.cpan/build/2017020615/Apache-ASP-2.62-0/blib/lib/Apache/ASP.pm line 280
	Apache::ASP::new("Apache::ASP", Apache::ASP::CGI=HASH(0x14dc3f0), "t/include_change.t") called at /home/cpansand/.cpan/build/2017020615/Apache-ASP-2.62-0/blib/lib/Apache/ASP.pm line 184
	Apache::ASP::handler(Apache::ASP::CGI=HASH(0x14dc3f0)) called at /home/cpansand/.cpan/build/2017020615/Apache-ASP-2.62-0/blib/lib/Apache/ASP/CGI.pm line 40
	Apache::ASP::CGI::do_self("NoState", 1, "Debug", 0, "UseStrict", 0) called at t/include_change.t line 5
Use of uninitialized value $rv in lc at /home/cpansand/.cpan/build/2017020615/Apache-ASP-2.62-0/blib/lib/Apache/ASP.pm line 2018.
 at /home/cpansand/.cpan/build/2017020615/Apache-ASP-2.62-0/blib/lib/Apache/ASP.pm line 2018.
	Apache::ASP::get_dir_config(Apache::ASP::CGI::Table=HASH(0x19da8a8), "StatINCMatch") called at /home/cpansand/.cpan/build/2017020615/Apache-ASP-2.62-0/blib/lib/Apache/ASP.pm line 280
	Apache::ASP::new("Apache::ASP", Apache::ASP::CGI=HASH(0x14dc3f0), "t/include_change.t") called at /home/cpansand/.cpan/build/2017020615/Apache-ASP-2.62-0/blib/lib/Apache/ASP.pm line 184
	Apache::ASP::handler(Apache::ASP::CGI=HASH(0x14dc3f0)) called at /home/cpansand/.cpan/build/2017020615/Apache-ASP-2.62-0/blib/lib/Apache/ASP/CGI.pm line 40
	Apache::ASP::CGI::do_self("NoState", 1, "Debug", 0, "UseStrict", 0) called at t/include_change.t line 5
Use of uninitialized value $rv in lc at /home/cpansand/.cpan/build/2017020615/Apache-ASP-2.62-0/blib/lib/Apache/ASP.pm line 2018.
 at /home/cpansand/.cpan/build/2017020615/Apache-ASP-2.62-0/blib/lib/Apache/ASP.pm line 2018.
	Apache::ASP::get_dir_config(Apache::ASP::CGI::Table=HASH(0x19da8a8), "XSLT") called at /home/cpansand/.cpan/build/2017020615/Apache-ASP-2.62-0/blib/lib/Apache/ASP.pm line 280
	Apache::ASP::new("Apache::ASP", Apache::ASP::CGI=HASH(0x14dc3f0), "t/include_change.t") called at /home/cpansand/.cpan/build/2017020615/Apache-ASP-2.62-0/blib/lib/Apache/ASP.pm line 184
	Apache::ASP::handler(Apache::ASP::CGI=HASH(0x14dc3f0)) called at /home/cpansand/.cpan/build/2017020615/Apache-ASP-2.62-0/blib/lib/Apache/ASP/CGI.pm line 40
	Apache::ASP::CGI::do_self("NoState", 1, "Debug", 0, "UseStrict", 0) called at t/include_change.t line 5
Use of uninitialized value $rv in lc at /home/cpansand/.cpan/build/2017020615/Apache-ASP-2.62-0/blib/lib/Apache/ASP.pm line 2018.
 at /home/cpansand/.cpan/build/2017020615/Apache-ASP-2.62-0/blib/lib/Apache/ASP.pm line 2018.
	Apache::ASP::get_dir_config(Apache::ASP::CGI::Table=HASH(0x19da8a8), "Filter") called at /home/cpansand/.cpan/build/2017020615/Apache-ASP-2.62-0/blib/lib/Apache/ASP.pm line 326
	Apache::ASP::new("Apache::ASP", Apache::ASP::CGI=HASH(0x14dc3f0), "t/include_change.t") called at /home/cpansand/.cpan/build/2017020615/Apache-ASP-2.62-0/blib/lib/Apache/ASP.pm line 184
	Apache::ASP::handler(Apache::ASP::CGI=HASH(0x14dc3f0)) called at /home/cpansand/.cpan/build/2017020615/Apache-ASP-2.62-0/blib/lib/Apache/ASP/CGI.pm line 40
	Apache::ASP::CGI::do_self("NoState", 1, "Debug", 0, "UseStrict", 0) called at t/include_change.t line 5
Use of uninitialized value $rv in lc at /home/cpansand/.cpan/build/2017020615/Apache-ASP-2.62-0/blib/lib/Apache/ASP.pm line 2018.
 at /home/cpansand/.cpan/build/2017020615/Apache-ASP-2.62-0/blib/lib/Apache/ASP.pm line 2018.
	Apache::ASP::get_dir_config(Apache::ASP::CGI::Table=HASH(0x19da8a8), "CompressGzip") called at /home/cpansand/.cpan/build/2017020615/Apache-ASP-2.62-0/blib/lib/Apache/ASP.pm line 353
	Apache::ASP::new("Apache::ASP", Apache::ASP::CGI=HASH(0x14dc3f0), "t/include_change.t") called at /home/cpansand/.cpan/build/2017020615/Apache-ASP-2.62-0/blib/lib/Apache/ASP.pm line 184
	Apache::ASP::handler(Apache::ASP::CGI=HASH(0x14dc3f0)) called at /home/cpansand/.cpan/build/2017020615/Apache-ASP-2.62-0/blib/lib/Apache/ASP/CGI.pm line 40
	Apache::ASP::CGI::do_self("NoState", 1, "Debug", 0, "UseStrict", 0) called at t/include_change.t line 5
t/include_change.t ....... ok
t/include_dir_error.t .... ok
t/include_runtime.t ...... ok
t/inode_names.t .......... ok
Use of uninitialized value $rv in lc at /home/cpansand/.cpan/build/2017020615/Apache-ASP-2.62-0/blib/lib/Apache/ASP.pm line 2018.
Use of uninitialized value $rv in lc at /home/cpansand/.cpan/build/2017020615/Apache-ASP-2.62-0/blib/lib/Apache/ASP.pm line 2018.
Use of uninitialized value $rv in lc at /home/cpansand/.cpan/build/2017020615/Apache-ASP-2.62-0/blib/lib/Apache/ASP.pm line 2018.
Use of uninitialized value $rv in lc at /home/cpansand/.cpan/build/2017020615/Apache-ASP-2.62-0/blib/lib/Apache/ASP.pm line 2018.
Use of uninitialized value $rv in lc at /home/cpansand/.cpan/build/2017020615/Apache-ASP-2.62-0/blib/lib/Apache/ASP.pm line 2018.
Use of uninitialized value $rv in lc at /home/cpansand/.cpan/build/2017020615/Apache-ASP-2.62-0/blib/lib/Apache/ASP.pm line 2018.
Use of uninitialized value $rv in lc at /home/cpansand/.cpan/build/2017020615/Apache-ASP-2.62-0/blib/lib/Apache/ASP.pm line 2018.
Use of uninitialized value $rv in lc at /home/cpansand/.cpan/build/2017020615/Apache-ASP-2.62-0/blib/lib/Apache/ASP.pm line 2018.
Use of uninitialized value $rv in lc at /home/cpansand/.cpan/build/2017020615/Apache-ASP-2.62-0/blib/lib/Apache/ASP.pm line 2018.
t/load.t ................. ok
t/long_names.t ........... ok
t/loops.t ................ ok
Use of uninitialized value $rv in lc at /home/cpansand/.cpan/build/2017020615/Apache-ASP-2.62-0/blib/lib/Apache/ASP.pm line 2018.
Use of uninitialized value $rv in lc at /home/cpansand/.cpan/build/2017020615/Apache-ASP-2.62-0/blib/lib/Apache/ASP.pm line 2018.
Use of uninitialized value $rv in lc at /home/cpansand/.cpan/build/2017020615/Apache-ASP-2.62-0/blib/lib/Apache/ASP.pm line 2018.
Use of uninitialized value $rv in lc at /home/cpansand/.cpan/build/2017020615/Apache-ASP-2.62-0/blib/lib/Apache/ASP.pm line 2018.
Use of uninitialized value $rv in lc at /home/cpansand/.cpan/build/2017020615/Apache-ASP-2.62-0/blib/lib/Apache/ASP.pm line 2018.
Use of uninitialized value $rv in lc at /home/cpansand/.cpan/build/2017020615/Apache-ASP-2.62-0/blib/lib/Apache/ASP.pm line 2018.
Use of uninitialized value $rv in lc at /home/cpansand/.cpan/build/2017020615/Apache-ASP-2.62-0/blib/lib/Apache/ASP.pm line 2018.
Use of uninitialized value $rv in lc at /home/cpansand/.cpan/build/2017020615/Apache-ASP-2.62-0/blib/lib/Apache/ASP.pm line 2018.
Use of uninitialized value $rv in lc at /home/cpansand/.cpan/build/2017020615/Apache-ASP-2.62-0/blib/lib/Apache/ASP.pm line 2018.
Use of uninitialized value $rv in lc at /home/cpansand/.cpan/build/2017020615/Apache-ASP-2.62-0/blib/lib/Apache/ASP.pm line 2018.
t/mail_error.t ........... ok
t/no_cache.t ............. ok
t/raw.t .................. ok
t/raw_include.t .......... ok
Use of uninitialized value $rv in lc at /home/cpansand/.cpan/build/2017020615/Apache-ASP-2.62-0/blib/lib/Apache/ASP.pm line 2018.
Use of uninitialized value $rv in lc at /home/cpansand/.cpan/build/2017020615/Apache-ASP-2.62-0/blib/lib/Apache/ASP.pm line 2018.
Use of uninitialized value $rv in lc at /home/cpansand/.cpan/build/2017020615/Apache-ASP-2.62-0/blib/lib/Apache/ASP.pm line 2018.
Use of uninitialized value $rv in lc at /home/cpansand/.cpan/build/2017020615/Apache-ASP-2.62-0/blib/lib/Apache/ASP.pm line 2018.
Use of uninitialized value $rv in lc at /home/cpansand/.cpan/build/2017020615/Apache-ASP-2.62-0/blib/lib/Apache/ASP.pm line 2018.
Use of uninitialized value $rv in lc at /home/cpansand/.cpan/build/2017020615/Apache-ASP-2.62-0/blib/lib/Apache/ASP.pm line 2018.
Use of uninitialized value $rv in lc at /home/cpansand/.cpan/build/2017020615/Apache-ASP-2.62-0/blib/lib/Apache/ASP.pm line 2018.
Use of uninitialized value $rv in lc at /home/cpansand/.cpan/build/2017020615/Apache-ASP-2.62-0/blib/lib/Apache/ASP.pm line 2018.
Use of uninitialized value $rv in lc at /home/cpansand/.cpan/build/2017020615/Apache-ASP-2.62-0/blib/lib/Apache/ASP.pm line 2018.
Use of uninitialized value $rv in lc at /home/cpansand/.cpan/build/2017020615/Apache-ASP-2.62-0/blib/lib/Apache/ASP.pm line 2018.
Use of uninitialized value $rv in lc at /home/cpansand/.cpan/build/2017020615/Apache-ASP-2.62-0/blib/lib/Apache/ASP.pm line 2018.
Use of uninitialized value $rv in lc at /home/cpansand/.cpan/build/2017020615/Apache-ASP-2.62-0/blib/lib/Apache/ASP.pm line 2018.
Use of uninitialized value $rv in lc at /home/cpansand/.cpan/build/2017020615/Apache-ASP-2.62-0/blib/lib/Apache/ASP.pm line 2018.
Use of uninitialized value $rv in lc at /home/cpansand/.cpan/build/2017020615/Apache-ASP-2.62-0/blib/lib/Apache/ASP.pm line 2018.
Use of uninitialized value $rv in lc at /home/cpansand/.cpan/build/2017020615/Apache-ASP-2.62-0/blib/lib/Apache/ASP.pm line 2018.
Use of uninitialized value $rv in lc at /home/cpansand/.cpan/build/2017020615/Apache-ASP-2.62-0/blib/lib/Apache/ASP.pm line 2018.
Use of uninitialized value $rv in lc at /home/cpansand/.cpan/build/2017020615/Apache-ASP-2.62-0/blib/lib/Apache/ASP.pm line 2018.
Use of uninitialized value $rv in lc at /home/cpansand/.cpan/build/2017020615/Apache-ASP-2.62-0/blib/lib/Apache/ASP.pm line 2018.
Use of uninitialized value $rv in lc at /home/cpansand/.cpan/build/2017020615/Apache-ASP-2.62-0/blib/lib/Apache/ASP.pm line 2018.
Use of uninitialized value $rv in lc at /home/cpansand/.cpan/build/2017020615/Apache-ASP-2.62-0/blib/lib/Apache/ASP.pm line 2018.
t/reload_global_asa.t .... ok
t/req_params_none.t ...... ok
t/request.t .............. ok
t/response.t ............. ok
t/response_end.t ......... ok
t/same_name.t ............ ok
t/server.t ............... ok
t/server_mail.t .......... ok
t/server_transfer.t ...... ok
t/session.t .............. ok
t/session_events.t ....... ok
t/session_query_parse.t .. ok
t/session_serialize.t .... ok
t/share.t ................ ok
t/stat_inc.t ............. ok
t/strict_error.t ......... ok
t/taint_check.t .......... ok
t/unique_packages.t ...... ok
t/xmlsubs.t .............. ok
t/xmlsubs_aspargs.t ...... ok
t/xmlsubs_perlargs.t ..... ok
t/xmlsubsmatch.t ......... ok
All tests successful.
Files=47, Tests=341, 10 wallclock secs ( 0.24 usr  0.10 sys +  4.92 cusr  0.89 csys =  6.15 CPU)
Result: PASS

------------------------------
PREREQUISITES
------------------------------

Prerequisite modules loaded:

requires:

    Module              Need Have 
    ------------------- ---- -----
    Carp                0    1.38 
    Class::Struct       0    0.65 
    Data::Dumper        0    2.161
    Digest::MD5         0    2.55 
    Fcntl               0    1.13 
    File::Basename      0    2.85 
    MLDBM               0    2.05 
    MLDBM::Sync         0    0.30 
    SDBM_File           0    1.14 

build_requires:

    Module              Need Have 
    ------------------- ---- -----
    ExtUtils::MakeMaker 0    7.24 


------------------------------
ENVIRONMENT AND OTHER CONTEXT
------------------------------

Environment variables:

    LANG = en_US.UTF-8
    PATH = /usr/local/bin:/usr/bin:/bin:/usr/local/sbin:/usr/sbin:/sbin:/home/cpansand/bin/linux-gnu:/home/cpansand/bin/sh:/home/cpansand/bin:/usr/games:/home/cpansand/devel:/home/eserte/src/srezic-misc/scripts
    PERL5LIB = 
    PERL5OPT = 
    PERL5_CPANPLUS_IS_RUNNING = 5287
    PERL5_CPAN_IS_RUNNING = 5287
    PERL5_CPAN_IS_RUNNING_IN_RECURSION = 22884,5287
    PERLDOC = -MPod::Perldoc::ToTextOverstrike
    PERL_BATCH = yes
    PERL_CANARY_STABILITY_NOPROMPT = 1
    PERL_CPAN_REPORTER_CONFIG = /var/tmp/cpansmoker-1002/2017020500/cpanreporter_000_config.ini
    PERL_EXTUTILS_AUTOINSTALL = --defaultdeps
    SHELL = /bin/zsh
    TERM = screen
    TMPDIR = /var/tmp/cpansmoker-1002/2017020500

Perl special variables (and OS-specific diagnostics, for MSWin32):

    $^X = /opt/perl-5.24.1/bin/perl5.24.1
    $UID/$EUID = 1002 / 1002
    $GID = 1002 1002
    $EGID = 1002 1002

Perl module toolchain versions installed:

    Module              Have    
    ------------------- --------
    CPAN                2.14    
    CPAN::Meta          2.150010
    Cwd                 3.62    
    ExtUtils::CBuilder  0.280224
    ExtUtils::Command   7.24    
    ExtUtils::Install   2.04    
    ExtUtils::MakeMaker 7.24    
    ExtUtils::Manifest  1.70    
    ExtUtils::ParseXS   3.30    
    File::Spec          3.62    
    JSON                2.90    
    JSON::PP            2.27400 
    Module::Build       0.4220  
    Module::Signature   0.81    
    Parse::CPAN::Meta   2.150010
    Test::Harness       3.36    
    Test::More          1.302075
    YAML                1.21    
    YAML::Syck          1.29    
    version             0.9917  


--

Summary of my perl5 (revision 5 version 24 subversion 1) configuration:
   
  Platform:
    osname=linux, osvers=4.4.0-59-generic, archname=x86_64-linux
    uname='linux prod3.bbbike.org 4.4.0-59-generic #80-ubuntu smp fri jan 6 17:47:47 utc 2017 x86_64 x86_64 x86_64 gnulinux '
    config_args='-ds -e -Dprefix=/opt/perl-5.24.1 -Dcf_email=srezic@cpan.org'
    hint=recommended, useposix=true, d_sigaction=define
    useithreads=undef, usemultiplicity=undef
    use64bitint=define, use64bitall=define, uselongdouble=undef
    usemymalloc=n, bincompat5005=undef
  Compiler:
    cc='cc', ccflags ='-fwrapv -fno-strict-aliasing -pipe -fstack-protector-strong -I/usr/local/include -D_LARGEFILE_SOURCE -D_FILE_OFFSET_BITS=64',
    optimize='-O2',
    cppflags='-fwrapv -fno-strict-aliasing -pipe -fstack-protector-strong -I/usr/local/include'
    ccversion='', gccversion='5.4.0 20160609', gccosandvers=''
    intsize=4, longsize=8, ptrsize=8, doublesize=8, byteorder=12345678, doublekind=3
    d_longlong=define, longlongsize=8, d_longdbl=define, longdblsize=16, longdblkind=3
    ivtype='long', ivsize=8, nvtype='double', nvsize=8, Off_t='off_t', lseeksize=8
    alignbytes=8, prototype=define
  Linker and Libraries:
    ld='cc', ldflags =' -fstack-protector-strong -L/usr/local/lib'
    libpth=/usr/local/lib /usr/lib/gcc/x86_64-linux-gnu/5/include-fixed /usr/include/x86_64-linux-gnu /usr/lib /lib/x86_64-linux-gnu /lib/../lib /usr/lib/x86_64-linux-gnu /usr/lib/../lib /lib
    libs=-lpthread -lnsl -lgdbm -ldb -ldl -lm -lcrypt -lutil -lc -lgdbm_compat
    perllibs=-lpthread -lnsl -ldl -lm -lcrypt -lutil -lc
    libc=libc-2.23.so, so=so, useshrplib=false, libperl=libperl.a
    gnulibc_version='2.23'
  Dynamic Linking:
    dlsrc=dl_dlopen.xs, dlext=so, d_dlsymun=undef, ccdlflags='-Wl,-E'
    cccdlflags='-fPIC', lddlflags='-shared -O2 -L/usr/local/lib -fstack-protector-strong'


Characteristics of this binary (from libperl): 
  Compile-time options: HAS_TIMES PERLIO_LAYERS PERL_COPY_ON_WRITE
                        PERL_DONT_CREATE_GVSV
                        PERL_HASH_FUNC_ONE_AT_A_TIME_HARD PERL_MALLOC_WRAP
                        PERL_PRESERVE_IVUV USE_64_BIT_ALL USE_64_BIT_INT
                        USE_LARGE_FILES USE_LOCALE USE_LOCALE_COLLATE
                        USE_LOCALE_CTYPE USE_LOCALE_NUMERIC USE_LOCALE_TIME
                        USE_PERLIO USE_PERL_ATOF
  Built under linux
  Compiled at Jan 14 2017 21:27:44
  %ENV:
    PERL5LIB=""
    PERL5OPT=""
    PERL5_CPANPLUS_IS_RUNNING="5287"
    PERL5_CPAN_IS_RUNNING="5287"
    PERL5_CPAN_IS_RUNNING_IN_RECURSION="22884,5287"
    PERLDOC="-MPod::Perldoc::ToTextOverstrike"
    PERL_BATCH="yes"
    PERL_CANARY_STABILITY_NOPROMPT="1"
    PERL_CPAN_REPORTER_CONFIG="/var/tmp/cpansmoker-1002/2017020500/cpanreporter_000_config.ini"
    PERL_EXTUTILS_AUTOINSTALL="--defaultdeps"
  @INC:
    /opt/perl-5.24.1/lib/site_perl/5.24.1/x86_64-linux
    /opt/perl-5.24.1/lib/site_perl/5.24.1
    /opt/perl-5.24.1/lib/5.24.1/x86_64-linux
    /opt/perl-5.24.1/lib/5.24.1
    .