Report for Text-Haml-0.990115

Back
From: metabase:user:d8dd356e-f6d9-11e2-96f9-3f5804e1fcc0
Subject: PASS Text-Haml-0.990115 v5.12.4 GNU/Linux
Date: 2014-02-13T19:56:26Z

This distribution has been tested as part of the CPAN Testers
project, supporting the Perl programming language.  See
http://wiki.cpantesters.org/ for more information or email
questions to cpan-testers-discuss@perl.org


--
Dear Viacheslav Tykhanovskyi,

This is a computer-generated report for Text-Haml-0.990115
on perl 5.12.4, created by CPAN-Reporter-1.2010.

Thank you for uploading your work to CPAN.  Congratulations!
All tests were successful.

Sections of this report:

    * Tester comments
    * Program output
    * Prerequisites
    * Environment and other context

------------------------------
TESTER COMMENTS
------------------------------

Additional comments from tester:

none provided

------------------------------
PROGRAM OUTPUT
------------------------------

Output from './Build test':

t/class-and-id.t ............. ok
t/comments.t ................. ok
t/complete.t ................. ok
t/div.t ...................... ok
t/doctype.t .................. ok
t/escaping.t ................. ok
t/exception.t ................ ok
t/filters.t .................. ok
t/helpers.t .................. ok
t/html-attributes.t .......... ok
t/html-elements.t ............ ok
t/html-escaping.t ............ ok
t/html-unescaping.t .......... ok
t/interpolation.t ............ ok
t/multiline.t ................ ok
t/parse.t .................... ok
t/perl.t ..................... ok
t/plain.t .................... ok
t/pod.t ...................... skipped: set TEST_POD to enable this test
t/pod_coverage.t ............. skipped: set TEST_POD to enable this test
t/render_file.t .............. ok
t/self-closing.t ............. ok
t/unicode.t .................. ok
t/vars.t ..................... ok
t/whitespace-preservation.t .. skipped: Not yet implemented
t/whitespace-removal.t ....... skipped: Not yet implemented
All tests successful.
Files=26, Tests=141,  3 wallclock secs ( 0.18 usr  0.10 sys +  1.79 cusr  0.44 csys =  2.51 CPU)
Result: PASS

------------------------------
PREREQUISITES
------------------------------

Prerequisite modules loaded:

requires:

    Module                Need Have    
    --------------------- ---- --------
    Carp                  0    1.26    
    Data::Section::Simple 0    0.05    
    Encode                0    2.55    
    File::Basename        0    2.78    
    File::Spec            0    3.40    
    IO::File              0    1.14    
    Scalar::Util          0    1.38    
    URI::Escape           0    3.31    

build_requires:

    Module                Need Have    
    --------------------- ---- --------
    ExtUtils::CBuilder    0    0.280212

configure_requires:

    Module                Need Have    
    --------------------- ---- --------
    CPAN::Meta            0    2.132661
    CPAN::Meta::Prereqs   0    2.132661
    Module::Build         0.38 0.4204  


------------------------------
ENVIRONMENT AND OTHER CONTEXT
------------------------------

Environment variables:

    LANG = en_US.UTF-8
    PATH = /sbin:/bin:/usr/sbin:/usr/bin
    PERL5LIB = 
    PERL5OPT = 
    PERL5_CPANPLUS_IS_RUNNING = 20131
    PERL5_CPAN_IS_RUNNING = 20131
    SHELL = /bin/bash
    TERM = xterm-256color

Perl special variables (and OS-specific diagnostics, for MSWin32):

    $^X = /usr/bin/perl
    $UID/$EUID = 0 / 0
    $GID = 0 0 1 2 3 4 6 10
    $EGID = 0 0 1 2 3 4 6 10

Perl module toolchain versions installed:

    Module              Have    
    ------------------- --------
    CPAN                2.00    
    CPAN::Meta          2.132661
    Cwd                 3.40    
    ExtUtils::CBuilder  0.280212
    ExtUtils::Command   1.18    
    ExtUtils::Install   1.55    
    ExtUtils::MakeMaker 6.74    
    ExtUtils::Manifest  1.61    
    ExtUtils::ParseXS   3.22    
    File::Spec          3.40    
    JSON                2.90    
    JSON::PP            2.27202 
    Module::Build       0.4204  
    Module::Signature   0.73    
    Parse::CPAN::Meta   1.4409  
    Test::Harness       3.30    
    Test::More          1.001002
    YAML                0.90    
    YAML::Syck          1.27    
    version             0.9908  


--

Summary of my perl5 (revision 5 version 12 subversion 4) configuration:
   
  Platform:
    osname=linux, osvers=2.6.32-131.2.1.el6.x86_64, archname=x86_64-linux-thread-multi
    uname='linux x86-05.phx2.fedoraproject.org 2.6.32-131.2.1.el6.x86_64 #1 smp wed may 18 07:07:37 edt 2011 x86_64 x86_64 x86_64 gnulinux '
    config_args='-des -Doptimize=-O2 -g -pipe -Wall -Wp,-D_FORTIFY_SOURCE=2 -fexceptions -fstack-protector --param=ssp-buffer-size=4 -m64 -mtune=generic -Dccdlflags=-Wl,--enable-new-dtags -DDEBUGGING=-g -Dversion=5.12.4 -Dmyhostname=localhost -Dperladmin=root@localhost -Dcc=gcc -Dcf_by=Red Hat, Inc. -Dprefix=/usr -Dvendorprefix=/usr -Dsiteprefix=/usr/local -Dsitelib=/usr/local/share/perl5 -Dsitearch=/usr/local/lib64/perl5 -Dprivlib=/usr/share/perl5 -Dvendorlib=/usr/share/perl5 -Darchlib=/usr/lib64/perl5 -Dvendorarch=/usr/lib64/perl5 -Darchname=x86_64-linux-thread-multi -Dlibpth=/usr/local/lib64 /lib64 /usr/lib64 -Duseshrplib -Dusethreads -Duseithreads -Dusedtrace=/usr/bin/dtrace -Duselargefiles -Dd_semctl_semun -Di_db -Ui_ndbm -Di_gdbm -Di_shadow -Di_syslog -Dman3ext=3pm -Duseperlio -Dinstallusrbinperl=n -Ubincompat5005 -Uversiononly -Dpager=/usr/bin/less -isr -Dd_gethostent_r_proto -Ud_endhostent_r_proto -Ud_sethostent_r_proto -Ud_endprotoent_r_proto -Ud_setprotoent_r_proto -Ud_endservent_r_proto -Ud_setservent_r_proto -Dscriptdir=/usr/bin -Dotherlibdirs=/usr/local/lib64/perl5/site_perl/5.10.0/x86_64-linux-thread-multi:/usr/local/lib/perl5/site_perl/5.10.0:/usr/lib64/perl5/vendor_perl/5.10.0/x86_64-linux-thread-multi:/usr/lib/perl5/vendor_perl:/usr/lib/perl5/site_perl'
    hint=recommended, useposix=true, d_sigaction=define
    useithreads=define, usemultiplicity=define
    useperlio=define, d_sfio=undef, uselargefiles=define, usesocks=undef
    use64bitint=define, use64bitall=define, uselongdouble=undef
    usemymalloc=n, bincompat5005=undef
  Compiler:
    cc='gcc', ccflags ='-D_REENTRANT -D_GNU_SOURCE -fno-strict-aliasing -pipe -fstack-protector -I/usr/local/include -D_LARGEFILE_SOURCE -D_FILE_OFFSET_BITS=64',
    optimize='-O2 -g -pipe -Wall -Wp,-D_FORTIFY_SOURCE=2 -fexceptions -fstack-protector --param=ssp-buffer-size=4 -m64 -mtune=generic',
    cppflags='-D_REENTRANT -D_GNU_SOURCE -fno-strict-aliasing -pipe -fstack-protector -I/usr/local/include'
    ccversion='', gccversion='4.5.1 20100924 (Red Hat 4.5.1-4)', gccosandvers=''
    intsize=4, longsize=8, ptrsize=8, doublesize=8, byteorder=12345678
    d_longlong=define, longlongsize=8, d_longdbl=define, longdblsize=16
    ivtype='long', ivsize=8, nvtype='double', nvsize=8, Off_t='off_t', lseeksize=8
    alignbytes=8, prototype=define
  Linker and Libraries:
    ld='gcc', ldflags =' -fstack-protector'
    libpth=/usr/local/lib64 /lib64 /usr/lib64
    libs=-lresolv -lnsl -lgdbm -ldb -ldl -lm -lcrypt -lutil -lpthread -lc -lgdbm_compat
    perllibs=-lresolv -lnsl -ldl -lm -lcrypt -lutil -lpthread -lc
    libc=, so=so, useshrplib=true, libperl=libperl.so
    gnulibc_version='2.13'
  Dynamic Linking:
    dlsrc=dl_dlopen.xs, dlext=so, d_dlsymun=undef, ccdlflags='-Wl,--enable-new-dtags -Wl,-rpath,/usr/lib64/perl5/CORE'
    cccdlflags='-fPIC', lddlflags='-shared -O2 -g -pipe -Wall -Wp,-D_FORTIFY_SOURCE=2 -fexceptions -fstack-protector --param=ssp-buffer-size=4 -m64 -mtune=generic'


Characteristics of this binary (from libperl): 
  Compile-time options: MULTIPLICITY PERL_DONT_CREATE_GVSV
                        PERL_IMPLICIT_CONTEXT PERL_MALLOC_WRAP USE_64_BIT_ALL
                        USE_64_BIT_INT USE_ITHREADS USE_LARGE_FILES
                        USE_PERLIO USE_PERL_ATOF USE_REENTRANT_API
  Built under linux
  Compiled at Nov  4 2011 16:23:35
  %ENV:
    PERL5LIB=""
    PERL5OPT=""
    PERL5_CPANPLUS_IS_RUNNING="20131"
    PERL5_CPAN_IS_RUNNING="20131"
  @INC:
    /usr/local/lib64/perl5
    /usr/local/share/perl5
    /usr/lib64/perl5
    /usr/share/perl5
    /usr/lib64/perl5
    /usr/share/perl5
    /usr/local/lib64/perl5/site_perl/5.10.0/x86_64-linux-thread-multi
    /usr/local/lib/perl5/site_perl/5.10.0
    /usr/lib64/perl5/vendor_perl/5.10.0/x86_64-linux-thread-multi
    /usr/lib/perl5/vendor_perl
    /usr/lib/perl5/site_perl
    .