POE-Component-Server-SimpleHTTP v2.30 Perl 5 v5.43.4 x86_64-linux

Status
Pass
From
Carlos Guevara
Dist
POE-Component-Server-SimpleHTTP v2.30
Platform
Perl 5 v5.43.4 x86_64-linux
Date
2025-10-22 23:14:55
ID
ebe507de-af9c-11f0-8fff-f3062a97ec87
This distribution has been tested as part of the CPAN Testers
project, supporting the Perl programming language.  See
http://wiki.cpantesters.org/ for more information or email
questions to cpan-testers-discuss@perl.org


--
Dear Chris Williams,

This is a computer-generated report for POE-Component-Server-SimpleHTTP-2.30
on perl 5.43.4, created by CPAN-Reporter-1.2020.

Thank you for uploading your work to CPAN.  Congratulations!
All tests were successful.

Sections of this report:

    * Tester comments
    * Program output
    * Prerequisites
    * Environment and other context

------------------------------
TESTER COMMENTS
------------------------------

Additional comments from tester:

this report is from an automated smoke testing program
and was not reviewed by a human for accuracy

------------------------------
PROGRAM OUTPUT
------------------------------

Output from '/usr/bin/make test':

PERL_DL_NONLAZY=1 "/home/cpan/bin/perl/bin/perl5.43.4" "-MExtUtils::Command::MM" "-MTest::Harness" "-e" "undef *Test::Harness::Switches; test_harness(0, 'blib/lib', 'blib/arch')" t/*.t
t/00-compile.t ........... ok
# GET http://pocosimpletest.com:34953/ HTTP/1.1
# Host: 127.0.0.1:34953
# 
# HTTP/1.1 200 (OK)
# Date: Wed, 22 Oct 2025 23:14:52 GMT
# Content-Length: 3
# Content-Type: text/plain
# 
# Moo
t/02_simple.t ............ ok
# starting httpd6
# httpd6 started
# Port is 42623
# webc_connected
# GET http://pocosimpletest.com:42623/ HTTP/1.1
# Host: ::1:42623
# 
# HTTP/1.1 200 (OK)
# Date: Wed, 22 Oct 2025 23:14:53 GMT
# Content-Length: 3
# Content-Type: text/plain
# 
# Moo
t/02_simple_ipv6.t ....... ok
# HTTP/1.1 404 (Not Found)
# Date: Wed, 22 Oct 2025 23:14:53 GMT
# Content-Length: 13
# Content-Type: text/plain
# 
# 404 Not Found
t/03_bad_handler.t ....... ok
# GEt http://pocosimpletest.com:35009/ HTTP/1.1
# Host: 127.0.0.1:35009
# 
# HTTP/1.1 200 (OK)
# Date: Wed, 22 Oct 2025 23:14:53 GMT
# Content-Length: 3
# Content-Type: text/plain
# 
# Moo
t/03_bad_request.t ....... ok
# 200 (OK)
# Date: Wed, 22 Oct 2025 23:14:54 GMT
# Content-Length: 11
# Content-Type: text/plain
# X-HTTP-Version: 1.1
# 
# this is top
# 200 (OK)
# Date: Wed, 22 Oct 2025 23:14:54 GMT
# Content-Length: 12
# Content-Type: text/plain
# X-HTTP-Version: 1.1
# 
# this is honk
# 200 (OK)
# Date: Wed, 22 Oct 2025 23:14:54 GMT
# Content-Length: 123
# Content-Type: text/html
# X-HTTP-Version: 1.1
# 
# <html>
# <head><title>YEAH!</title></head>
# <body><p>This, my friend, is the page you've been looking for.</p></body>
# </html>
# 404 (Not Found)
# Date: Wed, 22 Oct 2025 23:14:54 GMT
# Content-Length: 13
# Content-Type: text/plain
# X-HTTP-Version: 1.1
# 
# 404 Not Found
t/04_run_close.t ......... ok
# 200 (OK)
# Date: Wed, 22 Oct 2025 23:14:54 GMT
# Content-Length: 11
# Content-Type: text/plain
# X-HTTP-Version: 1.1
# 
# this is top
# 200 (OK)
# Date: Wed, 22 Oct 2025 23:14:54 GMT
# Content-Length: 12
# Content-Type: text/plain
# X-HTTP-Version: 1.1
# 
# this is honk
# 200 (OK)
# Date: Wed, 22 Oct 2025 23:14:54 GMT
# Content-Length: 123
# Content-Type: text/html
# X-HTTP-Version: 1.1
# 
# <html>
# <head><title>YEAH!</title></head>
# <body><p>This, my friend, is the page you've been looking for.</p></body>
# </html>
# 404 (Not Found)
# Date: Wed, 22 Oct 2025 23:14:54 GMT
# Content-Length: 13
# Content-Type: text/plain
# X-HTTP-Version: 1.1
# 
# 404 Not Found
t/04_run_keepalive.t ..... ok
# POST http://pocosimpletest.com:41011/ HTTP/1.1
# Host: 127.0.0.1:41011
# Content-Length: 40
# 
# brother !~we need to get off this island
# 200 (OK)
# Date: Wed, 22 Oct 2025 23:14:54 GMT
# Content-Length: 40
# Content-Type: text/plain
# X-HTTP-Version: 1.1
# 
# we need to get off this island brother !
t/05_post.t .............. ok
t/06_stream.t ............ skipped: POE::Component::Client::HTTP is required for this test
t/author-pod-coverage.t .. skipped: these tests are for testing by the author
t/author-pod-syntax.t .... skipped: these tests are for testing by the author
All tests successful.
Files=11, Tests=47,  3 wallclock secs ( 0.04 usr  0.01 sys +  2.61 cusr  0.44 csys =  3.10 CPU)
Result: PASS

------------------------------
PREREQUISITES
------------------------------

Prerequisite modules loaded:

requires:

    Module                    Need   Have    
    ------------------------- ------ --------
    Carp                      0      1.54    
    HTTP::Date                0      6.06    
    HTTP::Request             0      7.01    
    HTTP::Response            0      7.01    
    Moose                     0.9    2.4000  
    MooseX::POE               0.205  0.215   
    perl                      5.006  5.043004
    POE                       1.0000 1.370   
    Socket                    0      2.040   
    Storable                  0      3.39    
    Sys::Hostname             0      1.25    

build_requires:

    Module                    Need   Have    
    ------------------------- ------ --------
    ExtUtils::MakeMaker       6.59   7.76    
    File::Spec                0      3.94    
    IO::Handle                0      1.55    
    IPC::Open3                0      1.24    
    POE::Filter::HTTP::Parser 1.06   1.08    
    Test::More                0.47   1.302214
    Test::POE::Client::TCP    1.24   1.26    

configure_requires:

    Module                    Need   Have    
    ------------------------- ------ --------
    ExtUtils::MakeMaker       0      7.76    


------------------------------
ENVIRONMENT AND OTHER CONTEXT
------------------------------

Environment variables:

    AUTOMATED_TESTING = 1
    CJG_PERL_COMMIT = 05aed60960
    DATE_MANIP_TEST_DM5 = 1
    LANG = C.UTF-8
    LC_COLLATE = C
    NONINTERACTIVE_TESTING = 1
    NO_NETWORK_TESTING = 1
    PATH = /home/cpan/bin/perl/bin:/usr/local/sbin:/usr/local/bin:/usr/sbin:/usr/bin:/sbin:/bin
    PERL5LIB = 
    PERL5OPT = 
    PERL5_CPANPLUS_IS_RUNNING = 1676
    PERL5_CPAN_IS_RUNNING = 1676
    PERL_MM_USE_DEFAULT = 1
    PERL_PERTURB_KEYS = 0
    PERL_USE_UNSAFE_INC = 1
    SHELL = /bin/bash
    TERM = screen

Perl special variables (and OS-specific diagnostics, for MSWin32):

    $^X = /home/cpan/bin/perl/bin/perl5.43.4
    $UID/$EUID = 1001 / 1001
    $GID = 1001 1001
    $EGID = 1001 1001

Perl module toolchain versions installed:

    Module              Have    
    ------------------- --------
    CPAN                2.38    
    CPAN::Meta          2.150010
    Cwd                 3.94    
    ExtUtils::CBuilder  0.280242
    ExtUtils::Command   7.76    
    ExtUtils::Install   2.22    
    ExtUtils::MakeMaker 7.76    
    ExtUtils::Manifest  1.75    
    ExtUtils::ParseXS   3.60    
    File::Spec          3.94    
    JSON                4.10    
    JSON::PP            4.16    
    Module::Build       0.4234  
    Module::Signature   n/a     
    Parse::CPAN::Meta   2.150010
    Test2               1.302214
    Test::Harness       3.52    
    Test::More          1.302214
    YAML                1.31    
    YAML::Syck          1.36    
    version             0.9933  


--

Summary of my perl5 (revision 5 version 43 subversion 4) configuration:
  Commit id: 05aed609604829d3a13872b6f06711e360a83bab
  Platform:
    osname=linux
    osvers=6.12.54-0-lts
    archname=x86_64-linux
    uname='linux cjg-alpine3 6.12.54-0-lts #1-alpine smp preempt_dynamic 2025-10-21 06:03:21 x86_64 linux '
    config_args='-des -Dprefix=/home/cpan/bin/perl -Dscriptdir=/home/cpan/bin/perl/bin -Dusedevel -Duse64bitall'
    hint=recommended
    useposix=true
    d_sigaction=define
    useithreads=undef
    usemultiplicity=undef
    use64bitint=define
    use64bitall=define
    uselongdouble=undef
    usemymalloc=n
    default_inc_excludes_dot=define
  Compiler:
    cc='cc'
    ccflags ='-D_GNU_SOURCE -fwrapv -fno-strict-aliasing -pipe -fstack-protector-strong -D_LARGEFILE_SOURCE -D_FILE_OFFSET_BITS=64'
    optimize='-O2'
    cppflags='-D_GNU_SOURCE -fwrapv -fno-strict-aliasing -pipe -fstack-protector-strong'
    ccversion=''
    gccversion='14.2.0'
    gccosandvers=''
    intsize=4
    longsize=8
    ptrsize=8
    doublesize=8
    byteorder=12345678
    doublekind=3
    d_longlong=define
    longlongsize=8
    d_longdbl=define
    longdblsize=16
    longdblkind=3
    ivtype='long'
    ivsize=8
    nvtype='double'
    nvsize=8
    Off_t='off_t'
    lseeksize=8
    alignbytes=8
    prototype=define
  Linker and Libraries:
    ld='cc'
    ldflags =' -fstack-protector-strong -L/usr/local/lib'
    libpth=/usr/lib /usr/local/lib /lib
    libs=-lpthread -lgdbm -ldb -ldl -lm -lcrypt -lutil -lc -lgdbm_compat
    perllibs=-lpthread -ldl -lm -lcrypt -lutil -lc
    libc=/usr/lib/libc.a
    so=so
    useshrplib=false
    libperl=libperl.a
    gnulibc_version=''
  Dynamic Linking:
    dlsrc=dl_dlopen.xs
    dlext=so
    d_dlsymun=undef
    ccdlflags='-Wl,-E'
    cccdlflags='-fPIC'
    lddlflags='-shared -O2 -L/usr/local/lib -fstack-protector-strong'


Characteristics of this binary (from libperl): 
  Compile-time options:
    HAS_LONG_DOUBLE
    HAS_STRTOLD
    HAS_TIMES
    PERLIO_LAYERS
    PERL_COPY_ON_WRITE
    PERL_DONT_CREATE_GVSV
    PERL_HASH_FUNC_SIPHASH13
    PERL_HASH_USE_SBOX32
    PERL_MALLOC_WRAP
    PERL_OP_PARENT
    PERL_PRESERVE_IVUV
    PERL_USE_DEVEL
    PERL_USE_SAFE_PUTENV
    USE_64_BIT_ALL
    USE_64_BIT_INT
    USE_LARGE_FILES
    USE_LOCALE
    USE_LOCALE_COLLATE
    USE_LOCALE_CTYPE
    USE_LOCALE_NUMERIC
    USE_LOCALE_TIME
    USE_PERLIO
    USE_PERL_ATOF
  Built under linux
  Compiled at Oct 22 2025 10:29:58
  %ENV:
    PERL5LIB=""
    PERL5OPT=""
    PERL5_CPANPLUS_IS_RUNNING="1676"
    PERL5_CPAN_IS_RUNNING="1676"
    PERL_MM_USE_DEFAULT="1"
    PERL_PERTURB_KEYS="0"
    PERL_USE_UNSAFE_INC="1"
  @INC:
    /home/cpan/bin/perl/lib/site_perl/5.43.4/x86_64-linux
    /home/cpan/bin/perl/lib/site_perl/5.43.4
    /home/cpan/bin/perl/lib/5.43.4/x86_64-linux
    /home/cpan/bin/perl/lib/5.43.4
    .