PSGI-Hector v2.0 Perl 5 v5.31.7 x86_64-linux

Status
Pass
From
Slaven Rezić (SREZIC)
Dist
PSGI-Hector v2.0
Platform
Perl 5 v5.31.7 x86_64-linux
Date
2020-01-11 23:05:55
ID
ec010684-34c6-11ea-8ce8-f6561f24ea8f
This distribution has been tested as part of the CPAN Testers
project, supporting the Perl programming language.  See
http://wiki.cpantesters.org/ for more information or email
questions to cpan-testers-discuss@perl.org


--
Dear MacGyveR,

This is a computer-generated report for PSGI-Hector-2.0
on perl 5.31.7, created by CPAN-Reporter-1.2018.

Thank you for uploading your work to CPAN.  Congratulations!
All tests were successful.

Sections of this report:

    * Tester comments
    * Program output
    * Prerequisites
    * Environment and other context

------------------------------
TESTER COMMENTS
------------------------------

Additional comments from tester:

none provided

------------------------------
PROGRAM OUTPUT
------------------------------

Output from './Build test':

t/00_use.t ....................... ok
DEBUG - Created new session: HTb149912d2e6cf4781dcf5953884849a3
t/01_hector.t .................... ok
t/02_response_raw.t .............. ok
t/03_pod.t ....................... ok
DEBUG - Created new session: HT1a469ed76111569b223b67e22e25cc30
DEBUG - Session 1.2.3.4 <> 8.8.8.8
DEBUG - Deleted session: HT1a469ed76111569b223b67e22e25cc30
t/04_session.t ................... ok
t/05_request.t ................... ok
t/06_response_templatetoolkit.t .. ok
t/07_log.t ....................... ok
All tests successful.
Files=8, Tests=67,  1 wallclock secs ( 0.02 usr  0.04 sys +  0.66 cusr  0.28 csys =  1.00 CPU)
Result: PASS

------------------------------
PREREQUISITES
------------------------------

Prerequisite modules loaded:

requires:

    Module                              Need  Have    
    ----------------------------------- ----- --------
    CGI::Simple::Cookie                 0     1.22    
    Class::Load                         0     0.25    
    Crypt::Simple                       0     0.06    
    CSS::Minifier::XS                   0     0.09    
    Data::Dumper                        0     2.174   
    File::Basename                      0     2.85    
    File::Spec                          0     3.78    
    Hash::MultiValue                    0     0.16    
    HTTP::Response                      0     6.18    
    IO::Compress::Gzip                  0     2.093   
    JavaScript::Minifier::XS            0     0.11    
    perl                                5.006 5.031007
    Plack                               0     1.0047  
    Plack::Middleware::Deflater         0     0.12    
    Plack::Middleware::MCCS             0     1.000000
    Plack::Middleware::ReverseProxy     0     0.16    
    Plack::Middleware::ReverseProxyPath 0     0.04    
    Template                            0     3.003   

build_requires:

    Module                              Need  Have    
    ----------------------------------- ----- --------
    Mock::Sub                           0     1.09    
    Test::MockModule                    0     0.171.0 
    Test::More                          0     1.302170
    Test::Output                        0     1.031   

configure_requires:

    Module                              Need  Have    
    ----------------------------------- ----- --------
    Module::Build                       0.42  0.4229  


------------------------------
ENVIRONMENT AND OTHER CONTEXT
------------------------------

Environment variables:

    LANG = C
    PATH = /usr/local/bin:/usr/bin:/bin:/usr/local/sbin:/usr/sbin:/sbin:/home/cpansand/bin/linux-gnu:/home/cpansand/bin/sh:/home/cpansand/bin:/usr/games:/home/cpansand/devel:/home/eserte/src/srezic-misc/scripts
    PERL5LIB = 
    PERL5OPT = 
    PERL5_CPANPLUS_IS_RUNNING = 4998
    PERL5_CPAN_IS_RUNNING = 4998
    PERL5_CPAN_IS_RUNNING_IN_RECURSION = 32671,4998
    PERLDOC = -MPod::Perldoc::ToTextOverstrike
    PERL_BATCH = yes
    PERL_CANARY_STABILITY_NOPROMPT = 1
    PERL_CPAN_REPORTER_CONFIG = /var/tmp/cpansmoker-1023/2020011122/cpanreporter_000_config.ini
    PERL_EXTUTILS_AUTOINSTALL = --defaultdeps
    PERL_USE_UNSAFE_INC = 1
    SHELL = /usr/bin/zsh
    TERM = screen
    TMPDIR = /var/tmp/cpansmoker-1023/2020011122

Perl special variables (and OS-specific diagnostics, for MSWin32):

    $^X = /opt/perl-5.31.7/bin/perl5.31.7
    $UID/$EUID = 1023 / 1023
    $GID = 1023 1023
    $EGID = 1023 1023

Perl module toolchain versions installed:

    Module              Have    
    ------------------- --------
    CPAN                2.27    
    CPAN::Meta          2.150010
    Cwd                 3.78    
    ExtUtils::CBuilder  0.280233
    ExtUtils::Command   7.42    
    ExtUtils::Install   2.14    
    ExtUtils::MakeMaker 7.42    
    ExtUtils::Manifest  1.72    
    ExtUtils::ParseXS   3.40    
    File::Spec          3.78    
    JSON                4.02    
    JSON::PP            4.04    
    Module::Build       0.4229  
    Module::Signature   n/a     
    Parse::CPAN::Meta   2.150010
    Test::Harness       3.42    
    Test::More          1.302170
    YAML                1.29    
    YAML::Syck          1.31    
    version             0.9924  


--

Summary of my perl5 (revision 5 version 31 subversion 7) configuration:
   
  Platform:
    osname=linux
    osvers=4.19.0-6-amd64
    archname=x86_64-linux
    uname='linux debian10 4.19.0-6-amd64 #1 smp debian 4.19.67-2+deb10u2 (2019-11-11) x86_64 gnulinux '
    config_args='-ds -e -Dprefix=/opt/perl-5.31.7 -Dusedevel -Dusemallocwrap=no -Dcf_email=srezic@cpan.org'
    hint=recommended
    useposix=true
    d_sigaction=define
    useithreads=undef
    usemultiplicity=undef
    use64bitint=define
    use64bitall=define
    uselongdouble=undef
    usemymalloc=n
    default_inc_excludes_dot=define
    bincompat5005=undef
  Compiler:
    cc='cc'
    ccflags ='-fwrapv -fno-strict-aliasing -pipe -fstack-protector-strong -I/usr/local/include -D_LARGEFILE_SOURCE -D_FILE_OFFSET_BITS=64 -D_FORTIFY_SOURCE=2'
    optimize='-O2'
    cppflags='-fwrapv -fno-strict-aliasing -pipe -fstack-protector-strong -I/usr/local/include'
    ccversion=''
    gccversion='8.3.0'
    gccosandvers=''
    intsize=4
    longsize=8
    ptrsize=8
    doublesize=8
    byteorder=12345678
    doublekind=3
    d_longlong=define
    longlongsize=8
    d_longdbl=define
    longdblsize=16
    longdblkind=3
    ivtype='long'
    ivsize=8
    nvtype='double'
    nvsize=8
    Off_t='off_t'
    lseeksize=8
    alignbytes=8
    prototype=define
  Linker and Libraries:
    ld='cc'
    ldflags =' -fstack-protector-strong -L/usr/local/lib'
    libpth=/usr/local/lib /usr/lib/gcc/x86_64-linux-gnu/8/include-fixed /usr/include/x86_64-linux-gnu /usr/lib /lib/x86_64-linux-gnu /lib/../lib /usr/lib/x86_64-linux-gnu /usr/lib/../lib /lib
    libs=-lpthread -lnsl -lgdbm -ldb -ldl -lm -lcrypt -lutil -lc
    perllibs=-lpthread -lnsl -ldl -lm -lcrypt -lutil -lc
    libc=libc-2.28.so
    so=so
    useshrplib=false
    libperl=libperl.a
    gnulibc_version='2.28'
  Dynamic Linking:
    dlsrc=dl_dlopen.xs
    dlext=so
    d_dlsymun=undef
    ccdlflags='-Wl,-E'
    cccdlflags='-fPIC'
    lddlflags='-shared -O2 -L/usr/local/lib -fstack-protector-strong'


Characteristics of this binary (from libperl): 
  Compile-time options:
    HAS_TIMES
    PERLIO_LAYERS
    PERL_COPY_ON_WRITE
    PERL_DONT_CREATE_GVSV
    PERL_OP_PARENT
    PERL_PRESERVE_IVUV
    PERL_USE_DEVEL
    USE_64_BIT_ALL
    USE_64_BIT_INT
    USE_LARGE_FILES
    USE_LOCALE
    USE_LOCALE_COLLATE
    USE_LOCALE_CTYPE
    USE_LOCALE_NUMERIC
    USE_LOCALE_TIME
    USE_PERLIO
    USE_PERL_ATOF
  Built under linux
  Compiled at Dec 21 2019 09:03:38
  %ENV:
    PERL5LIB=""
    PERL5OPT=""
    PERL5_CPANPLUS_IS_RUNNING="4998"
    PERL5_CPAN_IS_RUNNING="4998"
    PERL5_CPAN_IS_RUNNING_IN_RECURSION="32671,4998"
    PERLDOC="-MPod::Perldoc::ToTextOverstrike"
    PERL_BATCH="yes"
    PERL_CANARY_STABILITY_NOPROMPT="1"
    PERL_CPAN_REPORTER_CONFIG="/var/tmp/cpansmoker-1023/2020011122/cpanreporter_000_config.ini"
    PERL_EXTUTILS_AUTOINSTALL="--defaultdeps"
    PERL_USE_UNSAFE_INC="1"
  @INC:
    /opt/perl-5.31.7/lib/site_perl/5.31.7/x86_64-linux
    /opt/perl-5.31.7/lib/site_perl/5.31.7
    /opt/perl-5.31.7/lib/5.31.7/x86_64-linux
    /opt/perl-5.31.7/lib/5.31.7
    .