Back
From: metabase:user:322078bc-2aae-11df-837a-5e0a49663a4f
Subject: PASS Alien-Debian-Apt-PM-0.03 v5.8.9 NetBSD
Date: 2011-10-03T02:03:43Z
This distribution has been tested as part of the CPAN Testers
project, supporting the Perl programming language. See
http://wiki.cpantesters.org/ for more information or email
questions to cpan-testers-discuss@perl.org
--
Dear JKUTEJ,
This is a computer-generated error report created automatically by
CPANPLUS, version 0.9111. Testers personal comments may appear
at the end of this report.
MAKE TEST passed:
t/distribution.t .. skipped: Test::Distribution not installed
t/pod-coverage.t .. skipped: Test::Pod::Coverage 1.08 required for testing POD coverage
t/pod-spell.t ..... skipped: Set the environment variable TEST_SPELLING to enable this test.
t/pod.t ........... skipped: Test::Pod 1.22 required for testing POD
Files=4, Tests=0, 0 wallclock secs ( 0.08 usr 0.07 sys + 0.11 cusr 0.19 csys = 0.45 CPU)
Result: NOTESTS
[MSG] [Mon Oct 3 03:03:30 2011] Sending test report for 'Alien-Debian-Apt-PM-0.03'
This report was machine-generated by CPANPLUS::Dist::YACSmoke 0.64.
Powered by minismokebox version 0.54
------------------------------
ENVIRONMENT AND OTHER CONTEXT
------------------------------
Environment variables:
AUTOMATED_TESTING = 1
PATH = /home/cpan/bin:/bin:/sbin:/usr/bin:/usr/sbin:/usr/X11R7/bin:/usr/X11R6/bin:/usr/pkg/bin:/usr/pkg/sbin:/usr/games:/usr/local/bin:/usr/local/sbin
PERL5LIB = :/home/cpan/pit/bare/conf/perl-5.8.9/.cpanplus/5.8.9/build/Alien-Debian-Apt-PM-0.03/blib/lib:/home/cpan/pit/bare/conf/perl-5.8.9/.cpanplus/5.8.9/build/Alien-Debian-Apt-PM-0.03/blib/arch
PERL5_CPANPLUS_IS_RUNNING = 11375
PERL5_CPANPLUS_IS_VERSION = 0.9111
PERL5_MINISMOKEBOX = 0.54
PERL5_YACSMOKE_BASE = /home/cpan/pit/bare/conf/perl-5.8.9
PERL_EXTUTILS_AUTOINSTALL = --defaultdeps
PERL_MM_USE_DEFAULT = 1
SHELL = /usr/pkg/bin/bash
TERM = screen
Perl special variables (and OS-specific diagnostics, for MSWin32):
Perl: $^X = /home/cpan/pit/bare/perl-5.8.9/bin/perl
UID: $< = 1001
EUID: $> = 1001
GID: $( = 100 100
EGID: $) = 100 100
-------------------------------
--
Summary of my perl5 (revision 5 version 8 subversion 9) configuration:
Platform:
osname=netbsd, osvers=5.1, archname=amd64-netbsd
uname='netbsd necrosis.bingosnet.co.uk 5.1 netbsd 5.1 (generic) #0: sat nov 6 13:19:33 utc 2010 builds@b6.netbsd.org:homebuildsabnetbsd-5-1-releaseamd64201011061943z-objhomebuildsabnetbsd-5-1-releasesrcsysarchamd64compilegeneric amd64 '
config_args='-des -Dprefix=/home/cpan/pit/bare/perl-5.8.9'
hint=recommended, useposix=true, d_sigaction=define
usethreads=undef use5005threads=undef useithreads=undef usemultiplicity=undef
useperlio=define d_sfio=undef uselargefiles=define usesocks=undef
use64bitint=define use64bitall=define uselongdouble=undef
usemymalloc=n, bincompat5005=undef
Compiler:
cc='cc', ccflags ='-fno-strict-aliasing -pipe -I/usr/pkg/include',
optimize='-O',
cppflags='-fno-strict-aliasing -pipe -I/usr/pkg/include'
ccversion='', gccversion='4.1.3 20080704 prerelease (NetBSD nb2 20081120)', gccosandvers=''
intsize=4, longsize=8, ptrsize=8, doublesize=8, byteorder=12345678
d_longlong=define, longlongsize=8, d_longdbl=define, longdblsize=16
ivtype='long', ivsize=8, nvtype='double', nvsize=8, Off_t='off_t', lseeksize=8
alignbytes=8, prototype=define
Linker and Libraries:
ld='cc', ldflags =' -Wl,-rpath,/usr/pkg/lib -Wl,-rpath,/usr/local/lib -L/usr/pkg/lib'
libpth=/usr/pkg/lib /lib /usr/lib
libs=-lgdbm -lm -lcrypt -lutil -lc -lposix
perllibs=-lm -lcrypt -lutil -lc -lposix
libc=/lib/libc.so, so=so, useshrplib=false, libperl=libperl.a
gnulibc_version=''
Dynamic Linking:
dlsrc=dl_dlopen.xs, dlext=so, d_dlsymun=undef, ccdlflags='-Wl,-E '
cccdlflags='-DPIC -fPIC ', lddlflags='--whole-archive -shared -L/usr/pkg/lib'
Characteristics of this binary (from libperl):
Compile-time options: PERL_MALLOC_WRAP USE_64_BIT_ALL USE_64_BIT_INT
USE_FAST_STDIO USE_LARGE_FILES USE_PERLIO
Built under netbsd
Compiled at Aug 10 2011 15:27:50
%ENV:
PERL5LIB=":/home/cpan/pit/bare/conf/perl-5.8.9/.cpanplus/5.8.9/build/Alien-Debian-Apt-PM-0.03/blib/lib:/home/cpan/pit/bare/conf/perl-5.8.9/.cpanplus/5.8.9/build/Alien-Debian-Apt-PM-0.03/blib/arch"
PERL5_CPANPLUS_IS_RUNNING="11375"
PERL5_CPANPLUS_IS_VERSION="0.9111"
PERL5_MINISMOKEBOX="0.54"
PERL5_YACSMOKE_BASE="/home/cpan/pit/bare/conf/perl-5.8.9"
PERL_EXTUTILS_AUTOINSTALL="--defaultdeps"
PERL_MM_USE_DEFAULT="1"
@INC:
/home/cpan/pit/bare/conf/perl-5.8.9/.cpanplus/5.8.9/build/Alien-Debian-Apt-PM-0.03/blib/lib
/home/cpan/pit/bare/conf/perl-5.8.9/.cpanplus/5.8.9/build/Alien-Debian-Apt-PM-0.03/blib/arch
/home/cpan/pit/bare/perl-5.8.9/lib/5.8.9/amd64-netbsd
/home/cpan/pit/bare/perl-5.8.9/lib/5.8.9
/home/cpan/pit/bare/perl-5.8.9/lib/site_perl/5.8.9/amd64-netbsd
/home/cpan/pit/bare/perl-5.8.9/lib/site_perl/5.8.9
.