Report for Dist-Zilla-App-Command-dumpphases-1.000002

Back
From: metabase:user:31d414ea-2aae-11df-837a-5e0a49663a4f
Subject: PASS Dist-Zilla-App-Command-dumpphases-1.000002 v5.14.4 GNU/Linux
Date: 2014-08-04T19:45:44Z

This distribution has been tested as part of the CPAN Testers
project, supporting the Perl programming language.  See
http://wiki.cpantesters.org/ for more information or email
questions to cpan-testers-discuss@perl.org


--
Dear Kent Fredric,

This is a computer-generated report for Dist-Zilla-App-Command-dumpphases-1.000002
on perl 5.14.4, created by CPAN-Reporter-1.2009.

Thank you for uploading your work to CPAN.  Congratulations!
All tests were successful.

Sections of this report:

    * Tester comments
    * Program output
    * Prerequisites
    * Environment and other context

------------------------------
TESTER COMMENTS
------------------------------

Additional comments from tester:

this report is from an automated smoke testing program
and was not reviewed by a human for accuracy

------------------------------
PROGRAM OUTPUT
------------------------------

Output from '/usr/bin/make test':

PERL_DL_NONLAZY=1 /home/david/cpantesting/perl-5.14.4/bin/perl "-MExtUtils::Command::MM" "-MTest::Harness" "-e" "undef *Test::Harness::Switches; test_harness(0, 'blib/lib', 'blib/arch')" t/*.t t/00-compile/*.t
t/00-compile/lib_Dist_Zilla_App_Command_dumpphases_pm.t ............. ok
t/00-compile/lib_Dist_Zilla_dumpphases_Role_Theme_pm.t .............. ok
t/00-compile/lib_Dist_Zilla_dumpphases_Role_Theme_SimpleColor_pm.t .. ok
t/00-compile/lib_Dist_Zilla_dumpphases_Theme_basic_blue_pm.t ........ ok
t/00-compile/lib_Dist_Zilla_dumpphases_Theme_basic_green_pm.t ....... ok
t/00-compile/lib_Dist_Zilla_dumpphases_Theme_basic_plain_pm.t ....... ok
t/00-compile/lib_Dist_Zilla_dumpphases_Theme_basic_red_pm.t ......... ok

# Versions for all modules listed in MYMETA.json (including optional ones):
# 
# === Configure Requires ===
# 
#     Module              Want Have
#     ------------------- ---- ----
#     ExtUtils::MakeMaker  any 6.98
# 
# === Configure Recommends ===
# 
#     Module              Want Have
#     ------------------- ---- ----
#     ExtUtils::MakeMaker 6.98 6.98
# 
# === Build Requires ===
# 
#     Module              Want Have
#     ------------------- ---- ----
#     ExtUtils::MakeMaker  any 6.98
# 
# === Test Requires ===
# 
#     Module                   Want         Have
#     ------------------------ ---- ------------
#     Cwd                       any         3.47
#     Dist::Zilla::App::Tester  any        5.020
#     ExtUtils::MakeMaker       any         6.98
#     File::Spec                any         3.47
#     Test::More               0.89 1.301001_020
# 
# === Test Recommends ===
# 
#     Module                  Want         Have
#     ------------------- -------- ------------
#     CPAN::Meta          2.120900     2.142060
#     ExtUtils::MakeMaker     6.98         6.98
#     Test::More          1.001003 1.301001_020
# 
# === Runtime Requires ===
# 
#     Module                     Want     Have
#     ------------------------- ----- --------
#     Carp                        any   1.3301
#     Dist::Zilla::App            any    5.020
#     Dist::Zilla::Util::RoleDB   any 0.002000
#     Module::Runtime             any    0.014
#     Moo                         any 1.005000
#     Path::ScanINC             0.011 1.000001
#     Path::Tiny                  any    0.055
#     Role::Tiny                  any 1.003003
#     Scalar::Util                any     1.39
#     Term::ANSIColor             any     3.00
#     Try::Tiny                   any     0.22
#     strict                      any     1.04
#     utf8                        any     1.09
#     warnings                    any     1.12
# 
t/00-report-prereqs.t ............................................... ok
t/01-noparam.t ...................................................... ok
t/02-bad-theme.t .................................................... ok
t/03-green-theme.t .................................................. ok
t/04-red-theme.t .................................................... ok
t/05-plain-theme.t .................................................. ok
All tests successful.
Files=13, Tests=23,  9 wallclock secs ( 0.04 usr  0.05 sys +  4.18 cusr  0.52 csys =  4.79 CPU)
Result: PASS

------------------------------
PREREQUISITES
------------------------------

Prerequisite modules loaded:

requires:

    Module                    Need  Have        
    ------------------------- ----- ------------
    Carp                      0     1.3301      
    Dist::Zilla::App          0     5.020       
    Dist::Zilla::Util::RoleDB 0     0.002000    
    Module::Runtime           0     0.014       
    Moo                       0     1.005000    
    Path::ScanINC             0.011 1.000001    
    Path::Tiny                0     0.055       
    Role::Tiny                0     1.003003    
    Scalar::Util              0     1.39        
    strict                    0     1.04        
    Term::ANSIColor           0     3.00        
    Try::Tiny                 0     0.22        
    utf8                      0     1.09        
    warnings                  0     1.12        

build_requires:

    Module                    Need  Have        
    ------------------------- ----- ------------
    Cwd                       0     3.47        
    Dist::Zilla::App::Tester  0     5.020       
    ExtUtils::MakeMaker       0     6.98        
    File::Spec                0     3.47        
    Test::More                0.89  1.301001_020

configure_requires:

    Module                    Need  Have        
    ------------------------- ----- ------------
    ExtUtils::MakeMaker       0     6.98        


------------------------------
ENVIRONMENT AND OTHER CONTEXT
------------------------------

Environment variables:

    AUTOMATED_TESTING = 1
    PATH = /usr/local/bin:/usr/bin:/bin:/usr/games
    PERL = 5.14.4
    PERL5LIB = 
    PERL5OPT = 
    PERL5_CPANPLUS_IS_RUNNING = 4940
    PERL5_CPAN_IS_RUNNING = 4940
    PERLVER = 5.14.4
    PERL_INLINE_DIRECTORY = /home/david/.Inline-5.14.4
    PERL_MM_USE_DEFAULT = 1
    SHELL = /bin/bash
    TERM = screen

Perl special variables (and OS-specific diagnostics, for MSWin32):

    $^X = /home/david/cpantesting/perl-5.14.4/bin/perl
    $UID/$EUID = 1000 / 1000
    $GID = 1000 1000
    $EGID = 1000 1000

Perl module toolchain versions installed:

    Module              Have        
    ------------------- ------------
    CPAN                1.9600_01   
    CPAN::Meta          2.142060    
    Cwd                 3.47        
    ExtUtils::CBuilder  0.280203    
    ExtUtils::Command   1.17        
    ExtUtils::Install   1.56        
    ExtUtils::MakeMaker 6.98        
    ExtUtils::Manifest  1.60        
    ExtUtils::ParseXS   3.24        
    File::Spec          3.47        
    JSON                2.53        
    JSON::PP            2.27203     
    Module::Build       0.4206      
    Module::Signature   n/a         
    Parse::CPAN::Meta   1.4414      
    Test::Harness       3.32        
    Test::More          1.301001_020
    YAML                0.98        
    YAML::Syck          1.27        
    version             0.9908      


--

Summary of my perl5 (revision 5 version 14 subversion 4) configuration:
   
  Platform:
    osname=linux, osvers=3.2.0-4-amd64, archname=x86_64-linux-thread-multi
    uname='linux pigsty.barnyard.co.uk 3.2.0-4-amd64 #1 smp debian 3.2.35-2 x86_64 gnulinux '
    config_args='-de -Dprefix=/home/david/cpantesting/perl-5.14.4 -Dusethreads -Duse64bitall'
    hint=recommended, useposix=true, d_sigaction=define
    useithreads=define, usemultiplicity=define
    useperlio=define, d_sfio=undef, uselargefiles=define, usesocks=undef
    use64bitint=define, use64bitall=define, uselongdouble=undef
    usemymalloc=n, bincompat5005=undef
  Compiler:
    cc='cc', ccflags ='-D_REENTRANT -D_GNU_SOURCE -fno-strict-aliasing -pipe -fstack-protector -I/usr/local/include -D_LARGEFILE_SOURCE -D_FILE_OFFSET_BITS=64',
    optimize='-O2',
    cppflags='-D_REENTRANT -D_GNU_SOURCE -fno-strict-aliasing -pipe -fstack-protector -I/usr/local/include'
    ccversion='', gccversion='4.1.2 20061115 (prerelease) (Debian 4.1.1-21)', gccosandvers=''
    intsize=4, longsize=8, ptrsize=8, doublesize=8, byteorder=12345678
    d_longlong=define, longlongsize=8, d_longdbl=define, longdblsize=16
    ivtype='long', ivsize=8, nvtype='double', nvsize=8, Off_t='off_t', lseeksize=8
    alignbytes=8, prototype=define
  Linker and Libraries:
    ld='cc', ldflags =' -fstack-protector -L/usr/local/lib'
    libpth=/usr/local/lib /lib /usr/lib /lib64 /usr/lib64
    libs=-lnsl -lgdbm -ldb -ldl -lm -lcrypt -lutil -lpthread -lc -lgdbm_compat
    perllibs=-lnsl -ldl -lm -lcrypt -lutil -lpthread -lc
    libc=/lib/libc-2.3.6.so, so=so, useshrplib=false, libperl=libperl.a
    gnulibc_version='2.3.6'
  Dynamic Linking:
    dlsrc=dl_dlopen.xs, dlext=so, d_dlsymun=undef, ccdlflags='-Wl,-E'
    cccdlflags='-fPIC', lddlflags='-shared -O2 -L/usr/local/lib -fstack-protector'


Characteristics of this binary (from libperl): 
  Compile-time options: MULTIPLICITY PERL_DONT_CREATE_GVSV
                        PERL_IMPLICIT_CONTEXT PERL_MALLOC_WRAP
                        PERL_PRESERVE_IVUV USE_64_BIT_ALL USE_64_BIT_INT
                        USE_ITHREADS USE_LARGE_FILES USE_PERLIO USE_PERL_ATOF
                        USE_REENTRANT_API
  Built under linux
  Compiled at Mar 22 2013 21:25:13
  %ENV:
    PERL="5.14.4"
    PERL5LIB=""
    PERL5OPT=""
    PERL5_CPANPLUS_IS_RUNNING="4940"
    PERL5_CPAN_IS_RUNNING="4940"
    PERLVER="5.14.4"
    PERL_INLINE_DIRECTORY="/home/david/.Inline-5.14.4"
    PERL_MM_USE_DEFAULT="1"
  @INC:
    /home/david/cpantesting/perl-5.14.4/lib/site_perl/5.14.4/x86_64-linux-thread-multi
    /home/david/cpantesting/perl-5.14.4/lib/site_perl/5.14.4
    /home/david/cpantesting/perl-5.14.4/lib/5.14.4/x86_64-linux-thread-multi
    /home/david/cpantesting/perl-5.14.4/lib/5.14.4
    .