Test-Roo-DataDriven vv0.4.0 Perl 5 v5.18.0 x86_64-linux-thread-multi

Status
Pass
From
Nigel Horne
Dist
Test-Roo-DataDriven vv0.4.0
Platform
Perl 5 v5.18.0 x86_64-linux-thread-multi
Date
2018-09-11 23:46:37
ID
ec37ca2c-b61c-11e8-8c4c-9fff2ef46f3b
This distribution has been tested as part of the CPAN Testers
project, supporting the Perl programming language.  See
http://wiki.cpantesters.org/ for more information or email
questions to cpan-testers-discuss@perl.org


--
Dear Robert Rothenberg,

This is a computer-generated report for Test-Roo-DataDriven-v0.4.0
on perl 5.18.0, created by CPAN-Reporter-1.2018.

Thank you for uploading your work to CPAN.  Congratulations!
All tests were successful.

Sections of this report:

    * Tester comments
    * Program output
    * Prerequisites
    * Environment and other context

------------------------------
TESTER COMMENTS
------------------------------

Additional comments from tester:

this report is from an automated smoke testing program
and was not reviewed by a human for accuracy

------------------------------
PROGRAM OUTPUT
------------------------------

Output from '/usr/bin/make test':

PERL_DL_NONLAZY=1 "/home/njh/perl5/perlbrew/perls/perl-5.18.0/bin/perl" "-MExtUtils::Command::MM" "-MTest::Harness" "-e" "undef *Test::Harness::Switches; test_harness(0, 'blib/lib', 'blib/arch')" t/*.t
# 
# Versions for all modules listed in MYMETA.json (including optional ones):
# 
# === Configure Requires ===
# 
#     Module              Want Have
#     ------------------- ---- ----
#     ExtUtils::MakeMaker  any 7.34
# 
# === Build Requires ===
# 
#     Module              Want Have
#     ------------------- ---- ----
#     ExtUtils::MakeMaker  any 7.34
# 
# === Test Requires ===
# 
#     Module            Want     Have
#     ---------------- ----- --------
#     Class::Inspector   any     1.28
#     File::Spec         any     3.74
#     JSON::PP          2.00  2.27400
#     Module::Metadata   any 1.000033
#     Path::Tiny       0.004    0.098
#     Test::More         any 1.302136
#     Test::Most         any     0.35
#     Test::Roo          any    1.004
#     Time::Piece       1.16     1.21
#     Time::Seconds      any     1.21
# 
# === Test Recommends ===
# 
#     Module         Want     Have
#     ---------- -------- --------
#     CPAN::Meta 2.120900 2.150005
# 
# === Runtime Requires ===
# 
#     Module                Want     Have
#     -------------------- ----- --------
#     Class::Unload          any     0.11
#     Path::Tiny           0.004    0.098
#     Ref::Util              any    0.101
#     Test::Roo::Role        any    1.004
#     curry                  any 1.001000
#     namespace::autoclean   any     0.28
# 
# === Runtime Recommends ===
# 
#     Module        Want    Have
#     ------------- ---- -------
#     App::Prove     any    3.36
#     Ref::Util::XS  any missing
# 
t/00-report-prereqs.t ........ ok
t/03-parsing-errors.t ........ ok
t/02-json.t .................. ok
t/01-example.t ............... ok
t/author-clean-namespaces.t .. skipped: these tests are for testing by the author
t/author-critic.t ............ skipped: these tests are for testing by the author
t/author-eof.t ............... skipped: these tests are for testing by the author
t/author-eol.t ............... skipped: these tests are for testing by the author
t/author-no-tabs.t ........... skipped: these tests are for testing by the author
t/author-pod-coverage.t ...... skipped: these tests are for testing by the author
t/author-pod-linkcheck.t ..... skipped: these tests are for testing by the author
t/author-pod-syntax.t ........ skipped: these tests are for testing by the author
t/author-portability.t ....... skipped: these tests are for testing by the author
t/release-check-manifest.t ... skipped: these tests are for release candidate testing
t/release-fixme.t ............ skipped: these tests are for release candidate testing
t/release-kwalitee.t ......... skipped: these tests are for release candidate testing
t/release-minimum-version.t .. skipped: these tests are for release candidate testing
t/release-trailing-space.t ... skipped: these tests are for release candidate testing
t/04-skip_all.t .............. ok
t/05-argv-disabled.t ......... ok
t/05-argv-enabled.t .......... ok
All tests successful.
Files=21, Tests=27,  0 wallclock secs ( 0.09 usr  0.01 sys +  0.97 cusr  0.15 csys =  1.22 CPU)
Result: PASS

------------------------------
PREREQUISITES
------------------------------

Prerequisite modules loaded:

requires:

    Module               Need     Have    
    -------------------- -------- --------
    Class::Unload        0        0.11    
    curry                0        1.001000
    namespace::autoclean 0        0.28    
    Path::Tiny           0.004    0.098   
    perl                 5.008000 5.018000
    Ref::Util            0        0.101   
    Test::Roo::Role      0        1.004   

build_requires:

    Module               Need     Have    
    -------------------- -------- --------
    Class::Inspector     0        1.28    
    ExtUtils::MakeMaker  0        7.34    
    File::Spec           0        3.74    
    JSON::PP             2.00     2.27400 
    Module::Metadata     0        1.000033
    Path::Tiny           0.004    0.098   
    Test::More           0        1.302136
    Test::Most           0        0.35    
    Test::Roo            0        1.004   
    Time::Piece          1.16     1.21    
    Time::Seconds        0        1.21    

configure_requires:

    Module               Need     Have    
    -------------------- -------- --------
    ExtUtils::MakeMaker  0        7.34    


------------------------------
ENVIRONMENT AND OTHER CONTEXT
------------------------------

Environment variables:

    AUTOMATED_TESTING = 1
    HARNESS_OPTIONS = j4
    LANG = en_GB.UTF-8
    LANGUAGE = en_GB:en
    PATH = /home/njh/perl5/perlbrew/bin:/home/njh/perl5/perlbrew/perls/perl-5.18.0/bin:/home/njh/src/njh/smoker/bin:/usr/bin:/bin
    PERL5LIB = /home/njh/.cpan/build/curry-1.001000-3/blib/arch:/home/njh/.cpan/build/curry-1.001000-3/blib/lib:/home/njh/.cpan/build/Class-Unload-0.11-3/blib/arch:/home/njh/.cpan/build/Class-Unload-0.11-3/blib/lib:/home/njh/.cpan/build/Test-Roo-1.004-3/blib/arch:/home/njh/.cpan/build/Test-Roo-1.004-3/blib/lib:/home/njh/.cpan/build/Test-TCP-2.19-3/blib/arch:/home/njh/.cpan/build/Test-TCP-2.19-3/blib/lib:/home/njh/.cpan/build/MooX-TypeTiny-0.001003-3/blib/arch:/home/njh/.cpan/build/MooX-TypeTiny-0.001003-3/blib/lib:/home/njh/.cpan/build/Type-Tiny-1.004002-2/blib/arch:/home/njh/.cpan/build/Type-Tiny-1.004002-2/blib/lib:/home/njh/.cpan/build/Exporter-Tiny-1.002001-1/blib/arch:/home/njh/.cpan/build/Exporter-Tiny-1.002001-1/blib/lib:/home/njh/.cpan/build/Moo-2.003004-2/blib/arch:/home/njh/.cpan/build/Moo-2.003004-2/blib/lib:/home/njh/.cpan/build/Sub-Quote-2.005001-2/blib/arch:/home/njh/.cpan/build/Sub-Quote-2.005001-2/blib/lib:/home/njh/.cpan/build/Module-Runtime-0.016-1/blib/arch:/home/njh/.cpan/build/Module-Runtime-0.016-1/blib/lib:/home/njh/.cpan/build/Devel-StrictMode-0.003-3/blib/arch:/home/njh/.cpan/build/Devel-StrictMode-0.003-3/blib/lib
    PERL5OPT = 
    PERL5_CPANPLUS_IS_RUNNING = 638
    PERL5_CPAN_IS_RUNNING = 638
    PERLBREW_HOME = /home/njh/.perlbrew
    PERLBREW_MANPATH = /home/njh/perl5/perlbrew/perls/perl-5.18.0/man
    PERLBREW_PATH = /home/njh/perl5/perlbrew/bin:/home/njh/perl5/perlbrew/perls/perl-5.18.0/bin
    PERLBREW_PERL = perl-5.18.0
    PERLBREW_ROOT = /home/njh/perl5/perlbrew
    PERLBREW_SHELLRC_VERSION = 0.82
    PERLBREW_VERSION = 0.82
    SHELL = /bin/sh
    TEMP = /tmp/user/1000
    TMPDIR = /tmp/user/1000/testwrapper.624

Perl special variables (and OS-specific diagnostics, for MSWin32):

    $^X = /home/njh/perl5/perlbrew/perls/perl-5.18.0/bin/perl
    $UID/$EUID = 1000 / 1000
    $GID = 1000 4 24 25 29 30 44 46 108 112 1000
    $EGID = 1000 4 24 25 29 30 44 46 108 112 1000

Perl module toolchain versions installed:

    Module              Have    
    ------------------- --------
    CPAN                2.16    
    CPAN::Meta          2.150005
    Cwd                 3.74    
    ExtUtils::CBuilder  0.280216
    ExtUtils::Command   7.34    
    ExtUtils::Install   2.06    
    ExtUtils::MakeMaker 7.34    
    ExtUtils::Manifest  1.70    
    ExtUtils::ParseXS   3.30    
    File::Spec          3.74    
    JSON                2.97001 
    JSON::PP            2.27400 
    Module::Build       0.4206  
    Module::Signature   0.73    
    Parse::CPAN::Meta   1.4422  
    Test::Harness       3.36    
    Test::More          1.302136
    YAML                1.26    
    YAML::Syck          1.30    
    version             0.9902  


--

Summary of my perl5 (revision 5 version 18 subversion 0) configuration:
   
  Platform:
    osname=linux, osvers=3.2.0-4-amd64, archname=x86_64-linux-thread-multi
    uname='linux nigelhorne.force9.co.uk 3.2.0-4-amd64 #1 smp debian 3.2.32-1 x86_64 gnulinux '
    config_args='-de -Dprefix=/home/njh/perl5/perlbrew/perls/perl-5.18.0 -Duseithreads -Dusemultiplicity -Accflags=-O2 -W -Wformat=2 -Wswitch -Wshadow -Wwrite-strings -Wuninitialized -Wall -pipe -mtune=native -march=native -fomit-frame-pointer -msse2 -msse -mmmx -mfpmath=sse -pedantic -D_FORTIFY_SOURCE=2 -Wpointer-arith -Wstrict-prototypes -fstack-protector -Wstack-protector -Wextra -Wbad-function-cast -Wcast-align -Wcast-qual -Wdisabled-optimization -Wendif-labels -Wfloat-equal -Wformat-nonliteral -Winline -Wmissing-declarations -Wmissing-prototypes -Wnested-externs -Wpointer-arith -Wundef -Wformat-security -ftree-vectorize -fassociative-math -ftree-vectorizer-verbose=2 -Aeval:scriptdir=/home/njh/perl5/perlbrew/perls/perl-5.18.0/bin'
    hint=recommended, useposix=true, d_sigaction=define
    useithreads=define, usemultiplicity=define
    useperlio=define, d_sfio=undef, uselargefiles=define, usesocks=undef
    use64bitint=define, use64bitall=define, uselongdouble=undef
    usemymalloc=n, bincompat5005=undef
  Compiler:
    cc='cc', ccflags ='-D_REENTRANT -D_GNU_SOURCE -O2 -W -Wformat=2 -Wswitch -Wshadow -Wwrite-strings -Wuninitialized -Wall -pipe -mtune=native -march=native -fomit-frame-pointer -msse2 -msse -mmmx -mfpmath=sse -pedantic -D_FORTIFY_SOURCE=2 -Wpointer-arith -Wstrict-prototypes -fstack-protector -Wstack-protector -Wextra -Wbad-function-cast -Wcast-align -Wcast-qual -Wdisabled-optimization -Wendif-labels -Wfloat-equal -Wformat-nonliteral -Winline -Wmissing-declarations -Wmissing-prototypes -Wnested-externs -Wpointer-arith -Wundef -Wformat-security -ftree-vectorize -fassociative-math -ftree-vectorizer-verbose=2 -fno-strict-aliasing -I/usr/local/include -D_LARGEFILE_SOURCE -D_FILE_OFFSET_BITS=64',
    optimize='-O2',
    cppflags='-D_REENTRANT -D_GNU_SOURCE -O2 -W -Wformat=2 -Wswitch -Wshadow -Wwrite-strings -Wuninitialized -Wall -pipe -mtune=native -march=native -fomit-frame-pointer -msse2 -msse -mmmx -mfpmath=sse -pedantic -D_FORTIFY_SOURCE=2 -Wpointer-arith -Wstrict-prototypes -fstack-protector -Wstack-protector -Wextra -Wbad-function-cast -Wcast-align -Wcast-qual -Wdisabled-optimization -Wendif-labels -Wfloat-equal -Wformat-nonliteral -Winline -Wmissing-declarations -Wmissing-prototypes -Wnested-externs -Wpointer-arith -Wundef -Wformat-security -ftree-vectorize -fassociative-math -ftree-vectorizer-verbose=2 -fno-strict-aliasing -I/usr/local/include'
    ccversion='', gccversion='4.7.3', gccosandvers=''
    intsize=4, longsize=8, ptrsize=8, doublesize=8, byteorder=12345678
    d_longlong=define, longlongsize=8, d_longdbl=define, longdblsize=16
    ivtype='long', ivsize=8, nvtype='double', nvsize=8, Off_t='off_t', lseeksize=8
    alignbytes=8, prototype=define
  Linker and Libraries:
    ld='cc', ldflags =' -fstack-protector -L/usr/local/lib'
    libpth=/usr/local/lib /lib/x86_64-linux-gnu /lib/../lib /usr/lib/x86_64-linux-gnu /usr/lib/../lib /lib /usr/lib
    libs=-lnsl -lgdbm -ldb -ldl -lm -lcrypt -lutil -lpthread -lc -lgdbm_compat
    perllibs=-lnsl -ldl -lm -lcrypt -lutil -lpthread -lc
    libc=, so=so, useshrplib=false, libperl=libperl.a
    gnulibc_version='2.17'
  Dynamic Linking:
    dlsrc=dl_dlopen.xs, dlext=so, d_dlsymun=undef, ccdlflags='-Wl,-E'
    cccdlflags='-fPIC', lddlflags='-shared -O2 -L/usr/local/lib -fstack-protector'


Characteristics of this binary (from libperl): 
  Compile-time options: HAS_TIMES MULTIPLICITY PERLIO_LAYERS
                        PERL_DONT_CREATE_GVSV
                        PERL_HASH_FUNC_ONE_AT_A_TIME_HARD
                        PERL_IMPLICIT_CONTEXT PERL_MALLOC_WRAP
                        PERL_PRESERVE_IVUV PERL_SAWAMPERSAND USE_64_BIT_ALL
                        USE_64_BIT_INT USE_ITHREADS USE_LARGE_FILES
                        USE_LOCALE USE_LOCALE_COLLATE USE_LOCALE_CTYPE
                        USE_LOCALE_NUMERIC USE_PERLIO USE_PERL_ATOF
                        USE_REENTRANT_API
  Built under linux
  Compiled at May 20 2013 00:08:47
  %ENV:
    PERL5LIB="/home/njh/.cpan/build/curry-1.001000-3/blib/arch:/home/njh/.cpan/build/curry-1.001000-3/blib/lib:/home/njh/.cpan/build/Class-Unload-0.11-3/blib/arch:/home/njh/.cpan/build/Class-Unload-0.11-3/blib/lib:/home/njh/.cpan/build/Test-Roo-1.004-3/blib/arch:/home/njh/.cpan/build/Test-Roo-1.004-3/blib/lib:/home/njh/.cpan/build/Test-TCP-2.19-3/blib/arch:/home/njh/.cpan/build/Test-TCP-2.19-3/blib/lib:/home/njh/.cpan/build/MooX-TypeTiny-0.001003-3/blib/arch:/home/njh/.cpan/build/MooX-TypeTiny-0.001003-3/blib/lib:/home/njh/.cpan/build/Type-Tiny-1.004002-2/blib/arch:/home/njh/.cpan/build/Type-Tiny-1.004002-2/blib/lib:/home/njh/.cpan/build/Exporter-Tiny-1.002001-1/blib/arch:/home/njh/.cpan/build/Exporter-Tiny-1.002001-1/blib/lib:/home/njh/.cpan/build/Moo-2.003004-2/blib/arch:/home/njh/.cpan/build/Moo-2.003004-2/blib/lib:/home/njh/.cpan/build/Sub-Quote-2.005001-2/blib/arch:/home/njh/.cpan/build/Sub-Quote-2.005001-2/blib/lib:/home/njh/.cpan/build/Module-Runtime-0.016-1/blib/arch:/home/njh/.cpan/build/Module-Runtime-0.016-1/blib/lib:/home/njh/.cpan/build/Devel-StrictMode-0.003-3/blib/arch:/home/njh/.cpan/build/Devel-StrictMode-0.003-3/blib/lib"
    PERL5OPT=""
    PERL5_CPANPLUS_IS_RUNNING="638"
    PERL5_CPAN_IS_RUNNING="638"
    PERLBREW_HOME="/home/njh/.perlbrew"
    PERLBREW_MANPATH="/home/njh/perl5/perlbrew/perls/perl-5.18.0/man"
    PERLBREW_PATH="/home/njh/perl5/perlbrew/bin:/home/njh/perl5/perlbrew/perls/perl-5.18.0/bin"
    PERLBREW_PERL="perl-5.18.0"
    PERLBREW_ROOT="/home/njh/perl5/perlbrew"
    PERLBREW_SHELLRC_VERSION="0.82"
    PERLBREW_VERSION="0.82"
  @INC:
    /home/njh/.cpan/build/curry-1.001000-3/blib/arch
    /home/njh/.cpan/build/curry-1.001000-3/blib/lib
    /home/njh/.cpan/build/Class-Unload-0.11-3/blib/arch
    /home/njh/.cpan/build/Class-Unload-0.11-3/blib/lib
    /home/njh/.cpan/build/Test-Roo-1.004-3/blib/arch
    /home/njh/.cpan/build/Test-Roo-1.004-3/blib/lib
    /home/njh/.cpan/build/Test-TCP-2.19-3/blib/arch
    /home/njh/.cpan/build/Test-TCP-2.19-3/blib/lib
    /home/njh/.cpan/build/MooX-TypeTiny-0.001003-3/blib/arch
    /home/njh/.cpan/build/MooX-TypeTiny-0.001003-3/blib/lib
    /home/njh/.cpan/build/Type-Tiny-1.004002-2/blib/arch
    /home/njh/.cpan/build/Type-Tiny-1.004002-2/blib/lib
    /home/njh/.cpan/build/Exporter-Tiny-1.002001-1/blib/arch
    /home/njh/.cpan/build/Exporter-Tiny-1.002001-1/blib/lib
    /home/njh/.cpan/build/Moo-2.003004-2/blib/arch
    /home/njh/.cpan/build/Moo-2.003004-2/blib/lib
    /home/njh/.cpan/build/Sub-Quote-2.005001-2/blib/arch
    /home/njh/.cpan/build/Sub-Quote-2.005001-2/blib/lib
    /home/njh/.cpan/build/Module-Runtime-0.016-1/blib/arch
    /home/njh/.cpan/build/Module-Runtime-0.016-1/blib/lib
    /home/njh/.cpan/build/Devel-StrictMode-0.003-3/blib/arch
    /home/njh/.cpan/build/Devel-StrictMode-0.003-3/blib/lib
    /home/njh/perl5/perlbrew/perls/perl-5.18.0/lib/site_perl/5.18.0/x86_64-linux-thread-multi
    /home/njh/perl5/perlbrew/perls/perl-5.18.0/lib/site_perl/5.18.0
    /home/njh/perl5/perlbrew/perls/perl-5.18.0/lib/5.18.0/x86_64-linux-thread-multi
    /home/njh/perl5/perlbrew/perls/perl-5.18.0/lib/5.18.0
    .