Net-Statsd-Server v0.20 Perl 5 v5.37.2 x86_64-linux-thread-multi

Status
Pass
From
Andreas J. König (ANDK)
Dist
Net-Statsd-Server v0.20
Platform
Perl 5 v5.37.2 x86_64-linux-thread-multi
Date
2022-08-04 03:17:08
ID
ec3d66ce-13a3-11ed-abb2-7a459322285f
This distribution has been tested as part of the CPAN Testers
project, supporting the Perl programming language.  See
http://wiki.cpantesters.org/ for more information or email
questions to cpan-testers-discuss@perl.org


--
Dear Cosimo Streppone,

This is a computer-generated report for Net-Statsd-Server-0.20
on perl 5.37.2, created by CPAN-Reporter-1.2018.

Thank you for uploading your work to CPAN.  Congratulations!
All tests were successful.

Sections of this report:

    * Tester comments
    * Program output
    * Prerequisites
    * Environment and other context

------------------------------
TESTER COMMENTS
------------------------------

Additional comments from tester:

this report is from an automated smoke testing program
and was not reviewed by a human for accuracy

------------------------------
PROGRAM OUTPUT
------------------------------

Output from '/usr/bin/make test':

PERL_DL_NONLAZY=1 "/tmp/basesmoker-reloperl-1mEb/bin/perl" "-MExtUtils::Command::MM" "-MTest::Harness" "-e" "undef *Test::Harness::Switches; test_harness(0, 'blib/lib', 'blib/arch')" t/*.t t/integration-tests/*.t
t/000-sanity.t ............................. ok
t/config.t ................................. ok
t/graphite.t ............................... ok
2022-08-04 03:16:18.000000 +0000 note  Net::Statsd::Server: Initializing Net::Statsd::Server::Backend::Console backend
2022-08-04 03:16:18.000000 +0000 note  Net::Statsd::Server: Initializing Net::Statsd::Server::Backend::Graphite backend
2022-08-04 03:16:18.000000 +0000 info  AnyEvent: Autoloaded model 'AnyEvent::Impl::EV', using it.
2022-08-04 03:16:18.603065 +0000 note  Net::Statsd::Server: statsd server started on 0.0.0.0:40001 (v0.17)
2022-08-04 03:16:18.603105 +0000 note  Net::Statsd::Server: manager interface started on 0.0.0.0:40002
2022-08-04 03:16:18.603140 +0000 note  Net::Statsd::Server: metrics flush will happen every 1s
2022-08-04 03:16:19.013467 +0000 warn  Net::Statsd::Server: Bad line: 1 in msg "a_bad_test_value|z"
2022-08-04 03:16:19.604168 +0000 note  Net::Statsd::Server: flushing metrics
Flushing stats at Thu Aug  4 03:16:19 2022
{"counters":{"statsd.bad_lines_seen":1,"statsd.packets_received":1},"counter_rates":{"statsd.bad_lines_seen":1,"statsd.packets_received":1},"gauges":{},"sets":null,"timers":{},"pctThreshold":[90],"timer_data":{}}
t/integration-tests/bad-message.t .......... ok
2022-08-04 03:16:19.000000 +0000 note  Net::Statsd::Server: Initializing Net::Statsd::Server::Backend::Console backend
2022-08-04 03:16:19.000000 +0000 note  Net::Statsd::Server: Initializing Net::Statsd::Server::Backend::Graphite backend
2022-08-04 03:16:19.000000 +0000 info  AnyEvent: Autoloaded model 'AnyEvent::Impl::EV', using it.
2022-08-04 03:16:19.912482 +0000 note  Net::Statsd::Server: statsd server started on 0.0.0.0:40001 (v0.17)
2022-08-04 03:16:19.912538 +0000 note  Net::Statsd::Server: manager interface started on 0.0.0.0:40002
2022-08-04 03:16:19.912585 +0000 note  Net::Statsd::Server: metrics flush will happen every 1s
2022-08-04 03:16:20.912173 +0000 note  Net::Statsd::Server: flushing metrics
Flushing stats at Thu Aug  4 03:16:20 2022
{"pctThreshold":[90],"counters":{"a_test_value":100,"statsd.bad_lines_seen":0,"statsd.packets_received":1},"timer_data":{},"counter_rates":{"a_test_value":100,"statsd.bad_lines_seen":0,"statsd.packets_received":1},"timers":{},"gauges":{},"sets":null}
# stats.counters.a_test_value.rate 100.000000 1659582980
# stats.counters.a_test_value.count 100 1659582980
# stats.counters.statsd.bad_lines_seen.rate 0.000000 1659582980
# stats.counters.statsd.bad_lines_seen.count 0 1659582980
# stats.counters.statsd.packets_received.rate 1.000000 1659582980
# stats.counters.statsd.packets_received.count 1 1659582980
# stats.statsd.numStats 3 1659582980
# stats.statsd.graphiteStats.calculationtime 0.041000 1659582980
# stats.statsd.processing_time 0.021 1659582980
# stats.statsd.graphiteStats.last_exception 94693275594160 1659582980
# stats.statsd.graphiteStats.last_flush 94693275594160 1659582980
t/integration-tests/counts-are-valid.t ..... ok
2022-08-04 03:16:21.000000 +0000 note  Net::Statsd::Server: Initializing Net::Statsd::Server::Backend::Graphite backend
2022-08-04 03:16:21.000000 +0000 info  AnyEvent: Autoloaded model 'AnyEvent::Impl::EV', using it.
2022-08-04 03:16:21.141554 +0000 note  Net::Statsd::Server: statsd server started on 0.0.0.0:40001 (v0.17)
2022-08-04 03:16:21.141597 +0000 note  Net::Statsd::Server: manager interface started on 0.0.0.0:40002
2022-08-04 03:16:21.141633 +0000 note  Net::Statsd::Server: metrics flush will happen every 1s
2022-08-04 03:16:22.143264 +0000 note  Net::Statsd::Server: flushing metrics
# First flush. Test gauge should be there.
2022-08-04 03:16:23.144681 +0000 note  Net::Statsd::Server: flushing metrics
# Second flush. deleteGauges=false should keep the test gauge.
t/integration-tests/delete-gauges-false.t .. ok
2022-08-04 03:16:23.000000 +0000 note  Net::Statsd::Server: Initializing Net::Statsd::Server::Backend::Graphite backend
2022-08-04 03:16:23.000000 +0000 info  AnyEvent: Autoloaded model 'AnyEvent::Impl::EV', using it.
2022-08-04 03:16:23.394802 +0000 note  Net::Statsd::Server: statsd server started on 0.0.0.0:40001 (v0.17)
2022-08-04 03:16:23.394836 +0000 note  Net::Statsd::Server: manager interface started on 0.0.0.0:40002
2022-08-04 03:16:23.394867 +0000 note  Net::Statsd::Server: metrics flush will happen every 1s
2022-08-04 03:16:24.396203 +0000 note  Net::Statsd::Server: flushing metrics
# First flush. Test gauge should be there.
2022-08-04 03:16:25.396167 +0000 note  Net::Statsd::Server: flushing metrics
# Second flush. deleteIdleStats should have cleared the test gauge.
t/integration-tests/delete-idle-stats.t .... ok
2022-08-04 03:16:25.000000 +0000 note  Net::Statsd::Server: Initializing Net::Statsd::Server::Backend::Console backend
2022-08-04 03:16:25.000000 +0000 note  Net::Statsd::Server: Initializing Net::Statsd::Server::Backend::Graphite backend
2022-08-04 03:16:25.000000 +0000 info  AnyEvent: Autoloaded model 'AnyEvent::Impl::EV', using it.
2022-08-04 03:16:25.634761 +0000 note  Net::Statsd::Server: statsd server started on 0.0.0.0:40001 (v0.17)
2022-08-04 03:16:25.635962 +0000 note  Net::Statsd::Server: manager interface started on 0.0.0.0:40002
2022-08-04 03:16:25.637002 +0000 note  Net::Statsd::Server: metrics flush will happen every 1s
2022-08-04 03:16:26.635843 +0000 note  Net::Statsd::Server: flushing metrics
Flushing stats at Thu Aug  4 03:16:26 2022
{"timers":{},"counters":{"statsd.packets_received":1,"statsd.bad_lines_seen":0,"a_test_value,category=web,severity=high":100},"pctThreshold":[90],"timer_data":{},"sets":null,"counter_rates":{"statsd.packets_received":1,"a_test_value,category=web,severity=high":100,"statsd.bad_lines_seen":0},"gauges":{}}
# stats.counters.statsd.packets_received.rate 1.000000 1659582986
# stats.counters.statsd.packets_received.count 1 1659582986
# stats.counters.statsd.bad_lines_seen.rate 0.000000 1659582986
# stats.counters.statsd.bad_lines_seen.count 0 1659582986
# stats.counters.a_test_value,category=web,severity=high.rate 100.000000 1659582986
# stats.counters.a_test_value,category=web,severity=high.count 100 1659582986
# stats.statsd.numStats 3 1659582986
# stats.statsd.graphiteStats.calculationtime 0.044000 1659582986
# stats.statsd.processing_time 0.022 1659582986
# stats.statsd.graphiteStats.last_exception 93900301946288 1659582986
# stats.statsd.graphiteStats.last_flush 93900301946288 1659582986
t/integration-tests/keys-with-tags.t ....... ok
2022-08-04 03:16:26.000000 +0000 note  Net::Statsd::Server: Initializing Net::Statsd::Server::Backend::Graphite backend
2022-08-04 03:16:26.000000 +0000 info  AnyEvent: Autoloaded model 'AnyEvent::Impl::EV', using it.
2022-08-04 03:16:26.963238 +0000 note  Net::Statsd::Server: statsd server started on 0.0.0.0:40001 (v0.17)
2022-08-04 03:16:26.963274 +0000 note  Net::Statsd::Server: manager interface started on 0.0.0.0:40002
2022-08-04 03:16:26.963308 +0000 note  Net::Statsd::Server: metrics flush will happen every 1s
# Expected mean value is 2027.16
2022-08-04 03:16:27.964173 +0000 note  Net::Statsd::Server: flushing metrics
# stats.counters.statsd.packets_received.rate 100.000000 1659582987
# stats.counters.statsd.packets_received.count 100 1659582987
# stats.counters.statsd.bad_lines_seen.rate 0.000000 1659582987
# stats.counters.statsd.bad_lines_seen.count 0 1659582987
# stats.timers.read_latency.sum_98 196751.000000 1659582987
# stats.timers.read_latency.mean_98 2007.663265 1659582987
# stats.timers.read_latency.sum_squares_95 401764136.000000 1659582987
# stats.timers.read_latency.median 2026.000000 1659582987
# stats.timers.read_latency.mean 2027.160000 1659582987
# stats.timers.read_latency.count_99 99.000000 1659582987
# stats.timers.read_latency.count 100.000000 1659582987
# stats.timers.read_latency.count_95 95.000000 1659582987
# stats.timers.read_latency.sum_squares_98 427503353.000000 1659582987
# stats.timers.read_latency.upper_98 2966.000000 1659582987
# stats.timers.read_latency.lower 1009.000000 1659582987
# stats.timers.read_latency.mean_95 1978.568421 1659582987
# stats.timers.read_latency.sum_95 187964.000000 1659582987
# stats.timers.read_latency.sum_squares 445294510.000000 1659582987
# stats.timers.read_latency.std 586.146257 1659582987
# stats.timers.read_latency.sum_squares_99 436300509.000000 1659582987
# stats.timers.read_latency.upper_99 2966.000000 1659582987
# stats.timers.read_latency.upper_95 2884.000000 1659582987
# stats.timers.read_latency.upper 2999.000000 1659582987
# stats.timers.read_latency.sum 202716.000000 1659582987
# stats.timers.read_latency.count_98 98.000000 1659582987
# stats.timers.read_latency.count_ps 100.000000 1659582987
# stats.timers.read_latency.mean_99 2017.343434 1659582987
# stats.timers.read_latency.sum_99 199717.000000 1659582987
# stats.statsd.numStats 3 1659582987
# stats.statsd.graphiteStats.calculationtime 0.093000 1659582987
# stats.statsd.processing_time 0.269 1659582987
# stats.statsd.graphiteStats.last_exception 94394119495088 1659582987
# stats.statsd.graphiteStats.last_flush 94394119495088 1659582987
t/integration-tests/percent-threshold.t .... ok
2022-08-04 03:16:28.000000 +0000 note  Net::Statsd::Server: Initializing Net::Statsd::Server::Backend::Console backend
2022-08-04 03:16:28.000000 +0000 note  Net::Statsd::Server: Initializing Net::Statsd::Server::Backend::Graphite backend
2022-08-04 03:16:28.000000 +0000 info  AnyEvent: Autoloaded model 'AnyEvent::Impl::EV', using it.
2022-08-04 03:16:28.206934 +0000 note  Net::Statsd::Server: statsd server started on 0.0.0.0:40001 (v0.17)
2022-08-04 03:16:28.206969 +0000 note  Net::Statsd::Server: manager interface started on 0.0.0.0:40002
2022-08-04 03:16:28.207003 +0000 note  Net::Statsd::Server: metrics flush will happen every 1s
2022-08-04 03:16:29.208206 +0000 note  Net::Statsd::Server: flushing metrics
Flushing stats at Thu Aug  4 03:16:29 2022
{"counter_rates":{"statsd.packets_received":1,"statsd.bad_lines_seen":0},"pctThreshold":["90"],"sets":null,"timer_data":{"a_test_value":{"sum_90":"100","std":0,"mean_90":"100","median":"100","count_90":1,"upper":"100","count_ps":1,"sum_squares_90":10000,"mean":100,"sum":"100","lower":"100","sum_squares":10000,"upper_90":"100","count":1}},"timers":{"a_test_value":["100"]},"gauges":{},"counters":{"statsd.bad_lines_seen":0,"statsd.packets_received":1}}
# stats.counters.statsd.bad_lines_seen.rate 0.000000 1659582989
# stats.counters.statsd.bad_lines_seen.count 0 1659582989
# stats.counters.statsd.packets_received.rate 1.000000 1659582989
# stats.counters.statsd.packets_received.count 1 1659582989
# stats.timers.a_test_value.sum_90 100.000000 1659582989
# stats.timers.a_test_value.std 0.000000 1659582989
# stats.timers.a_test_value.mean_90 100.000000 1659582989
# stats.timers.a_test_value.median 100.000000 1659582989
# stats.timers.a_test_value.count_90 1.000000 1659582989
# stats.timers.a_test_value.upper 100.000000 1659582989
# stats.timers.a_test_value.count_ps 1.000000 1659582989
# stats.timers.a_test_value.sum_squares_90 10000.000000 1659582989
# stats.timers.a_test_value.mean 100.000000 1659582989
# stats.timers.a_test_value.sum 100.000000 1659582989
# stats.timers.a_test_value.lower 100.000000 1659582989
# stats.timers.a_test_value.sum_squares 10000.000000 1659582989
# stats.timers.a_test_value.upper_90 100.000000 1659582989
# stats.timers.a_test_value.count 1.000000 1659582989
# stats.statsd.numStats 3 1659582989
# stats.statsd.graphiteStats.calculationtime 0.077000 1659582989
# stats.statsd.processing_time 0.098 1659582989
# stats.statsd.graphiteStats.last_exception 94342294576560 1659582989
# stats.statsd.graphiteStats.last_flush 94342294576560 1659582989
t/integration-tests/timers-are-valid.t ..... ok
t/process-metrics.t ........................ ok
t/trim.t ................................... ok
All tests successful.
Files=12, Tests=92, 12 wallclock secs ( 0.08 usr  0.03 sys +  1.59 cusr  0.34 csys =  2.04 CPU)
Result: PASS

------------------------------
PREREQUISITES
------------------------------

Prerequisite modules loaded:

requires:

    Module                Need Have    
    --------------------- ---- --------
    AnyEvent::Handle::UDP 0    0.050   
    IO::Socket::INET      0    1.50    
    JSON::XS              0    4.03    

build_requires:

    Module                Need Have    
    --------------------- ---- --------
    ExtUtils::MakeMaker   0    7.64    
    Test::More            0    1.302191

configure_requires:

    Module                Need Have    
    --------------------- ---- --------
    ExtUtils::MakeMaker   0    7.64    


------------------------------
ENVIRONMENT AND OTHER CONTEXT
------------------------------

Environment variables:

    AUTOMATED_TESTING = 1
    LANG = en_US.UTF-8
    PATH = /home/sand/bin:/usr/local/bin:/usr/local/sbin:/usr/sbin:/usr/bin:/sbin:/bin:/usr/games:/usr/local/games:/snap/bin:/usr/local/perl/bin:/usr/X11/bin
    PERL = /tmp/basesmoker-reloperl-1mEb/bin/perl
    PERL5LIB = /tmp/loop_over_bdir-3589605-XjwJT5/Business-Shipping-DataFiles-1.02-0/blib/arch:/tmp/loop_over_bdir-3589605-XjwJT5/Business-Shipping-DataFiles-1.02-0/blib/lib:/tmp/loop_over_bdir-3589605-XjwJT5/Lemonldap-NG-Cli-0.2-0/blib/arch:/tmp/loop_over_bdir-3589605-XjwJT5/Lemonldap-NG-Cli-0.2-0/blib/lib:/tmp/loop_over_bdir-3589605-XjwJT5/HTML-Menu-TreeView-1.22-0/blib/arch:/tmp/loop_over_bdir-3589605-XjwJT5/HTML-Menu-TreeView-1.22-0/blib/lib:/tmp/loop_over_bdir-3589605-XjwJT5/CORBA-Python-2.66-0/blib/arch:/tmp/loop_over_bdir-3589605-XjwJT5/CORBA-Python-2.66-0/blib/lib:/tmp/loop_over_bdir-3589605-XjwJT5/Dpkg-1.21.9-0/blib/arch:/tmp/loop_over_bdir-3589605-XjwJT5/Dpkg-1.21.9-0/blib/lib:/tmp/loop_over_bdir-3589605-XjwJT5/CGI-Application-NetNewsIface-0.0204-0/blib/arch:/tmp/loop_over_bdir-3589605-XjwJT5/CGI-Application-NetNewsIface-0.0204-0/blib/lib:/tmp/loop_over_bdir-3589605-XjwJT5/downsexta-0/blib/arch:/tmp/loop_over_bdir-3589605-XjwJT5/downsexta-0/blib/lib:/tmp/loop_over_bdir-3589605-XjwJT5/Lingua-YaTeA-0.626-0/blib/arch:/tmp/loop_over_bdir-3589605-XjwJT5/Lingua-YaTeA-0.626-0/blib/lib:/tmp/loop_over_bdir-3589605-XjwJT5/App-nrun-v1.1.2-0/blib/arch:/tmp/loop_over_bdir-3589605-XjwJT5/App-nrun-v1.1.2-0/blib/lib:/tmp/loop_over_bdir-3589605-XjwJT5/Devel-Required-0.16-0/blib/arch:/tmp/loop_over_bdir-3589605-XjwJT5/Devel-Required-0.16-0/blib/lib:/tmp/loop_over_bdir-3589605-XjwJT5/Net-ISP-Balance-1.31-0/blib/arch:/tmp/loop_over_bdir-3589605-XjwJT5/Net-ISP-Balance-1.31-0/blib/lib
    PERL5OPT = 
    PERL5_CPANPLUS_IS_RUNNING = 3589613
    PERL5_CPAN_IS_RUNNING = 3589613
    PERL_CANARY_STABILITY_NOPROMPT = 1
    PERL_MM_USE_DEFAULT = 1
    PERL_USE_UNSAFE_INC = 1
    SHELL = /usr/bin/zsh
    TERM = screen

Perl special variables (and OS-specific diagnostics, for MSWin32):

    $^X = /tmp/basesmoker-reloperl-1mEb/bin/perl
    $UID/$EUID = 1005 / 1005
    $GID = 1005 1005
    $EGID = 1005 1005

Perl module toolchain versions installed:

    Module              Have    
    ------------------- --------
    CPAN                2.34    
    CPAN::Meta          2.150010
    Cwd                 3.86    
    ExtUtils::CBuilder  0.280237
    ExtUtils::Command   7.64    
    ExtUtils::Install   2.20    
    ExtUtils::MakeMaker 7.64    
    ExtUtils::Manifest  1.73    
    ExtUtils::ParseXS   3.45    
    File::Spec          3.86    
    JSON                4.07    
    JSON::PP            4.10    
    Module::Build       0.4231  
    Module::Signature   0.88    
    Parse::CPAN::Meta   2.150010
    Test::Harness       3.44    
    Test::More          1.302191
    YAML                1.30    
    YAML::Syck          1.34    
    version             0.9929  


--

Summary of my perl5 (revision 5 version 37 subversion 2) configuration:
  Commit id: 7f9b65d969a1c8b44028cacbb9e88596d1e5a8a3
  Platform:
    osname=linux
    osvers=5.4.0-122-generic
    archname=x86_64-linux-thread-multi
    uname='linux k93focal 5.4.0-122-generic #138-ubuntu smp wed jun 22 15:00:31 utc 2022 x86_64 x86_64 x86_64 gnulinux '
    config_args='-Dprefix=/home/sand/src/perl/repoperls/installed-perls/host/k93focal/v5.37.2/d119 -Dmyhostname=k93focal -Dinstallusrbinperl=n -Uversiononly -Dusedevel -des -Ui_db -Dlibswanted=cl pthread socket inet nsl gdbm dbm malloc dl ld sun m crypt sec util c cposix posix ucb BSD gdbm_compat -Duseithreads -Uuselongdouble -DEBUGGING=both'
    hint=recommended
    useposix=true
    d_sigaction=define
    useithreads=define
    usemultiplicity=define
    use64bitint=define
    use64bitall=define
    uselongdouble=undef
    usemymalloc=n
    default_inc_excludes_dot=define
  Compiler:
    cc='cc'
    ccflags ='-D_REENTRANT -D_GNU_SOURCE -fwrapv -DDEBUGGING -fno-strict-aliasing -pipe -fstack-protector-strong -I/usr/local/include -D_LARGEFILE_SOURCE -D_FILE_OFFSET_BITS=64'
    optimize='-O2 -g'
    cppflags='-D_REENTRANT -D_GNU_SOURCE -fwrapv -DDEBUGGING -fno-strict-aliasing -pipe -fstack-protector-strong -I/usr/local/include'
    ccversion=''
    gccversion='9.4.0'
    gccosandvers=''
    intsize=4
    longsize=8
    ptrsize=8
    doublesize=8
    byteorder=12345678
    doublekind=3
    d_longlong=define
    longlongsize=8
    d_longdbl=define
    longdblsize=16
    longdblkind=3
    ivtype='long'
    ivsize=8
    nvtype='double'
    nvsize=8
    Off_t='off_t'
    lseeksize=8
    alignbytes=8
    prototype=define
  Linker and Libraries:
    ld='cc'
    ldflags =' -fstack-protector-strong -L/usr/local/lib'
    libpth=/usr/local/lib /usr/lib/x86_64-linux-gnu /usr/lib /usr/lib64
    libs=-lpthread -lnsl -ldl -lm -lcrypt -lutil -lc
    perllibs=-lpthread -lnsl -ldl -lm -lcrypt -lutil -lc
    libc=libc-2.31.so
    so=so
    useshrplib=false
    libperl=libperl.a
    gnulibc_version='2.31'
  Dynamic Linking:
    dlsrc=dl_dlopen.xs
    dlext=so
    d_dlsymun=undef
    ccdlflags='-Wl,-E'
    cccdlflags='-fPIC'
    lddlflags='-shared -O2 -g -L/usr/local/lib -fstack-protector-strong'


Characteristics of this binary (from libperl): 
  Compile-time options:
    DEBUGGING
    HAS_TIMES
    MULTIPLICITY
    PERLIO_LAYERS
    PERL_COPY_ON_WRITE
    PERL_DONT_CREATE_GVSV
    PERL_MALLOC_WRAP
    PERL_OP_PARENT
    PERL_PRESERVE_IVUV
    PERL_TRACK_MEMPOOL
    PERL_USE_DEVEL
    PERL_USE_SAFE_PUTENV
    USE_64_BIT_ALL
    USE_64_BIT_INT
    USE_ITHREADS
    USE_LARGE_FILES
    USE_LOCALE
    USE_LOCALE_COLLATE
    USE_LOCALE_CTYPE
    USE_LOCALE_NUMERIC
    USE_LOCALE_TIME
    USE_PERLIO
    USE_PERL_ATOF
    USE_REENTRANT_API
    USE_THREAD_SAFE_LOCALE
  Built under linux
  Compiled at Jul 30 2022 05:44:13
  %ENV:
    PERL="/tmp/basesmoker-reloperl-1mEb/bin/perl"
    PERL5LIB="/tmp/loop_over_bdir-3589605-XjwJT5/Business-Shipping-DataFiles-1.02-0/blib/arch:/tmp/loop_over_bdir-3589605-XjwJT5/Business-Shipping-DataFiles-1.02-0/blib/lib:/tmp/loop_over_bdir-3589605-XjwJT5/Lemonldap-NG-Cli-0.2-0/blib/arch:/tmp/loop_over_bdir-3589605-XjwJT5/Lemonldap-NG-Cli-0.2-0/blib/lib:/tmp/loop_over_bdir-3589605-XjwJT5/HTML-Menu-TreeView-1.22-0/blib/arch:/tmp/loop_over_bdir-3589605-XjwJT5/HTML-Menu-TreeView-1.22-0/blib/lib:/tmp/loop_over_bdir-3589605-XjwJT5/CORBA-Python-2.66-0/blib/arch:/tmp/loop_over_bdir-3589605-XjwJT5/CORBA-Python-2.66-0/blib/lib:/tmp/loop_over_bdir-3589605-XjwJT5/Dpkg-1.21.9-0/blib/arch:/tmp/loop_over_bdir-3589605-XjwJT5/Dpkg-1.21.9-0/blib/lib:/tmp/loop_over_bdir-3589605-XjwJT5/CGI-Application-NetNewsIface-0.0204-0/blib/arch:/tmp/loop_over_bdir-3589605-XjwJT5/CGI-Application-NetNewsIface-0.0204-0/blib/lib:/tmp/loop_over_bdir-3589605-XjwJT5/downsexta-0/blib/arch:/tmp/loop_over_bdir-3589605-XjwJT5/downsexta-0/blib/lib:/tmp/loop_over_bdir-3589605-XjwJT5/Lingua-YaTeA-0.626-0/blib/arch:/tmp/loop_over_bdir-3589605-XjwJT5/Lingua-YaTeA-0.626-0/blib/lib:/tmp/loop_over_bdir-3589605-XjwJT5/App-nrun-v1.1.2-0/blib/arch:/tmp/loop_over_bdir-3589605-XjwJT5/App-nrun-v1.1.2-0/blib/lib:/tmp/loop_over_bdir-3589605-XjwJT5/Devel-Required-0.16-0/blib/arch:/tmp/loop_over_bdir-3589605-XjwJT5/Devel-Required-0.16-0/blib/lib:/tmp/loop_over_bdir-3589605-XjwJT5/Net-ISP-Balance-1.31-0/blib/arch:/tmp/loop_over_bdir-3589605-XjwJT5/Net-ISP-Balance-1.31-0/blib/lib"
    PERL5OPT=""
    PERL5_CPANPLUS_IS_RUNNING="3589613"
    PERL5_CPAN_IS_RUNNING="3589613"
    PERL_CANARY_STABILITY_NOPROMPT="1"
    PERL_MM_USE_DEFAULT="1"
    PERL_USE_UNSAFE_INC="1"
  @INC:
    /tmp/loop_over_bdir-3589605-XjwJT5/Business-Shipping-DataFiles-1.02-0/blib/arch
    /tmp/loop_over_bdir-3589605-XjwJT5/Business-Shipping-DataFiles-1.02-0/blib/lib
    /tmp/loop_over_bdir-3589605-XjwJT5/Lemonldap-NG-Cli-0.2-0/blib/arch
    /tmp/loop_over_bdir-3589605-XjwJT5/Lemonldap-NG-Cli-0.2-0/blib/lib
    /tmp/loop_over_bdir-3589605-XjwJT5/HTML-Menu-TreeView-1.22-0/blib/arch
    /tmp/loop_over_bdir-3589605-XjwJT5/HTML-Menu-TreeView-1.22-0/blib/lib
    /tmp/loop_over_bdir-3589605-XjwJT5/CORBA-Python-2.66-0/blib/arch
    /tmp/loop_over_bdir-3589605-XjwJT5/CORBA-Python-2.66-0/blib/lib
    /tmp/loop_over_bdir-3589605-XjwJT5/Dpkg-1.21.9-0/blib/arch
    /tmp/loop_over_bdir-3589605-XjwJT5/Dpkg-1.21.9-0/blib/lib
    /tmp/loop_over_bdir-3589605-XjwJT5/CGI-Application-NetNewsIface-0.0204-0/blib/arch
    /tmp/loop_over_bdir-3589605-XjwJT5/CGI-Application-NetNewsIface-0.0204-0/blib/lib
    /tmp/loop_over_bdir-3589605-XjwJT5/downsexta-0/blib/arch
    /tmp/loop_over_bdir-3589605-XjwJT5/downsexta-0/blib/lib
    /tmp/loop_over_bdir-3589605-XjwJT5/Lingua-YaTeA-0.626-0/blib/arch
    /tmp/loop_over_bdir-3589605-XjwJT5/Lingua-YaTeA-0.626-0/blib/lib
    /tmp/loop_over_bdir-3589605-XjwJT5/App-nrun-v1.1.2-0/blib/arch
    /tmp/loop_over_bdir-3589605-XjwJT5/App-nrun-v1.1.2-0/blib/lib
    /tmp/loop_over_bdir-3589605-XjwJT5/Devel-Required-0.16-0/blib/arch
    /tmp/loop_over_bdir-3589605-XjwJT5/Devel-Required-0.16-0/blib/lib
    /tmp/loop_over_bdir-3589605-XjwJT5/Net-ISP-Balance-1.31-0/blib/arch
    /tmp/loop_over_bdir-3589605-XjwJT5/Net-ISP-Balance-1.31-0/blib/lib
    /home/sand/src/perl/repoperls/installed-perls/host/k93focal/v5.37.2/d119/lib/site_perl/5.37.2/x86_64-linux-thread-multi
    /home/sand/src/perl/repoperls/installed-perls/host/k93focal/v5.37.2/d119/lib/site_perl/5.37.2
    /home/sand/src/perl/repoperls/installed-perls/host/k93focal/v5.37.2/d119/lib/5.37.2/x86_64-linux-thread-multi
    /home/sand/src/perl/repoperls/installed-perls/host/k93focal/v5.37.2/d119/lib/5.37.2
    .