File-PathInfo-Ext v1.30 Perl 5 v5.32.1 x86_64-linux

Status
Pass
From
Slaven Rezić
Dist
File-PathInfo-Ext v1.30
Platform
Perl 5 v5.32.1 x86_64-linux
Date
2022-03-13 18:32:22
ID
ec41b2b0-a2fb-11ec-bdc4-5e291f24ea8f
This distribution has been tested as part of the CPAN Testers
project, supporting the Perl programming language.  See
http://wiki.cpantesters.org/ for more information or email
questions to cpan-testers-discuss@perl.org


--
Dear Leo Charre,

This is a computer-generated report for File-PathInfo-Ext-1.30
on perl 5.32.1, created by CPAN-Reporter-1.2018.

Thank you for uploading your work to CPAN.  Congratulations!
All tests were successful.

Sections of this report:

    * Tester comments
    * Program output
    * Prerequisites
    * Environment and other context

------------------------------
TESTER COMMENTS
------------------------------

Additional comments from tester:

none provided

------------------------------
PROGRAM OUTPUT
------------------------------

Output from '/usr/bin/make test':

PERL_DL_NONLAZY=1 "/opt/perl-5.32.1/bin/perl" "-MExtUtils::Command::MM" "-MTest::Harness" "-e" "undef *Test::Harness::Switches; test_harness(0, 'blib/lib', 'blib/arch')" t/*.t
Possible precedence issue with control flow operator at lib/File/PathInfo/Ext.pm line 146.


===================
PART [1], ./T/PUBLIC_HTML/DEMO

 stat key 'ctime' = '1647186739'
 stat key 'mtime' = '1259076971'
 stat key 'nlink' = '2'
 stat key 'size' = '4096'
 stat key 'blocks' = '8'
 stat key 'atime_pretty' = '2022/03/13 15:52'
 stat key 'mtime_pretty' = '2009/11/24 15:36'
 stat key 'ctime_pretty' = '2022/03/13 15:52'
 stat key 'ino' = '1456484'


===================
PART [2], ./T/PUBLIC_HTML/SEVEN.PDF

 stat key 'ctime' = '1647186739'
 stat key 'mtime' = '1179497048'
 stat key 'nlink' = '1'
 stat key 'size' = '769239'
 stat key 'blocks' = '1504'
 stat key 'atime_pretty' = '2022/03/13 15:52'
 stat key 'mtime_pretty' = '2007/05/18 14:04'
 stat key 'ctime_pretty' = '2022/03/13 15:52'
 stat key 'ino' = '1450828'


===================
PART [3], DEMO

 stat key 'ctime' = '1647186739'
 stat key 'mtime' = '1259076971'
 stat key 'nlink' = '2'
 stat key 'size' = '4096'
 stat key 'blocks' = '8'
 stat key 'atime_pretty' = '2022/03/13 15:52'
 stat key 'mtime_pretty' = '2009/11/24 15:36'
 stat key 'ctime_pretty' = '2022/03/13 15:52'
 stat key 'ino' = '1456484'


===================
PART [4], ./T/PUBLIC_HTML/DEMO/HELLOKITTY.GIF

 stat key 'ctime' = '1647186739'
 stat key 'mtime' = '1174604434'
 stat key 'nlink' = '1'
 stat key 'size' = '4099'
 stat key 'blocks' = '16'
 stat key 'atime_pretty' = '2022/03/13 15:52'
 stat key 'mtime_pretty' = '2007/03/22 23:00'
 stat key 'ctime_pretty' = '2022/03/13 15:52'
 stat key 'ino' = '1450830'


===================
PART [5], ./T/PUBLIC_HTML/DEMO/../DEMO/CIVIL.TXT

 stat key 'ctime' = '1647186739'
 stat key 'mtime' = '1174604434'
 stat key 'nlink' = '1'
 stat key 'size' = '51460'
 stat key 'blocks' = '104'
 stat key 'atime_pretty' = '2022/03/13 15:52'
 stat key 'mtime_pretty' = '2007/03/22 23:00'
 stat key 'ctime_pretty' = '2022/03/13 15:52'
 stat key 'ino' = '1450831'


===================
PART [6], DEMO/../DEMO/CIVIL.TXT

 stat key 'ctime' = '1647186739'
 stat key 'mtime' = '1174604434'
 stat key 'nlink' = '1'
 stat key 'size' = '51460'
 stat key 'blocks' = '104'
 stat key 'atime_pretty' = '2022/03/13 15:52'
 stat key 'mtime_pretty' = '2007/03/22 23:00'
 stat key 'ctime_pretty' = '2022/03/13 15:52'
 stat key 'ino' = '1450831'


===================
PART [7], DEMO/CIVIL.TXT

 stat key 'ctime' = '1647186739'
 stat key 'mtime' = '1174604434'
 stat key 'nlink' = '1'
 stat key 'size' = '51460'
 stat key 'blocks' = '104'
 stat key 'atime_pretty' = '2022/03/13 15:52'
 stat key 'mtime_pretty' = '2007/03/22 23:00'
 stat key 'ctime_pretty' = '2022/03/13 15:52'
 stat key 'ino' = '1450831'
t/0.t ................. ok
Possible precedence issue with control flow operator at lib/File/PathInfo/Ext.pm line 146.
newname cannot contain slashes at lib/File/PathInfo/Ext.pm line 16.
	File::PathInfo::Ext::rename(File::PathInfo::Ext=HASH(0x28ecfc8), "awe/gfaw/egawg/\\pou*()^T)(T3wt//n23") called at t/1.t line 21
ls for [/home/cpansand/.cpan/build/2022031315/File-PathInfo-Ext-1.30-0]
ls for [/home/cpansand/.cpan/build/2022031315/File-PathInfo-Ext-1.30-0/tmp2]
ls for [/home/cpansand/.cpan/build/2022031315/File-PathInfo-Ext-1.30-0/tmp2]
t/1.t ................. ok
Possible precedence issue with control flow operator at lib/File/PathInfo/Ext.pm line 146.



 SET 2 

 # on move newloc is : /home/cpansand/.cpan/build/2022031315/File-PathInfo-Ext-1.30-0/t/public_html/timp/incoming/movedme.txt

Can't move to '/home/cpansand/.cpan/build/2022031315/File-PathInfo-Ext-1.30-0/t/public_html/timp/movedme.txt', destination already exists at lib/File/PathInfo/Ext.pm line 136.
	File::PathInfo::Ext::move(File::PathInfo::Ext=HASH(0x2f32238), "/home/cpansand/.cpan/build/2022031315/File-PathInfo-Ext-1.30-"...) called at t/2_move.t line 92
t/2_move.t ............ ok
Possible precedence issue with control flow operator at lib/File/PathInfo/Ext.pm line 146.
Can't move '/home/cpansand/.cpan/build/2022031315/File-PathInfo-Ext-1.30-0/t/f1' to '/home/cpansand/.cpan/build/2022031315/File-PathInfo-Ext-1.30-0/t/f2', already exists. at lib/File/PathInfo/Ext.pm line 152.
	File::PathInfo::Ext::move(File::PathInfo::Ext=HASH(0x23a1f38), "/home/cpansand/.cpan/build/2022031315/File-PathInfo-Ext-1.30-"...) called at lib/File/PathInfo/Ext.pm line 17
	File::PathInfo::Ext::rename(File::PathInfo::Ext=HASH(0x23a1f38), "f2") called at t/3.t line 21
t/3.t ................. ok
Possible precedence issue with control flow operator at lib/File/PathInfo/Ext.pm line 146.

### $val: undef

### $val: 'this is'

### $val: 'this is a val for errstr'


--------------
----



--------------
----


### $val: '/home/cpansand/.cpan/build/2022031315/File-PathInfo-Ext-1.30-0/t/tmp/dir/file.txt'


--------------others
----

 arg './file.txt' = [/home/cpansand/.cpan/build/2022031315/File-PathInfo-Ext-1.30-0/file.txt]
 err? 

 arg './' = [NO RESULT]
 err? Can't set destination to '/home/cpansand/.cpan/build/2022031315/File-PathInfo-Ext-1.30-0', already exists.

 arg '.' = [NO RESULT]
 err? Can't resolve arg ..

 arg './../file.txt' = [/home/cpansand/.cpan/build/2022031315/file.txt]
 err? 

 arg './../bogus/thing' = [NO RESULT]
 err? Can't resolve arg ../bogus/thing

 arg './t/tmp/bogusdir/' = [NO RESULT]
 err? Can't resolve arg t/tmp/bogusdir/

t/4_resolve_arg_to.t .. ok
Possible precedence issue with control flow operator at lib/File/PathInfo/Ext.pm line 146.
 # NOW try to dirs



### $r: '/home/cpansand/.cpan/build/2022031315/File-PathInfo-Ext-1.30-0/t/tmp/dir/filealso.txt'
t/5_copy.t ............ ok
t/99_cleanup.t ........ ok
All tests successful.
Files=7, Tests=204,  1 wallclock secs ( 0.07 usr  0.01 sys +  0.80 cusr  0.22 csys =  1.10 CPU)
Result: PASS

------------------------------
PREREQUISITES
------------------------------

Prerequisite modules loaded:

requires:

    Module              Need Have    
    ------------------- ---- --------
    Carp                1    1.50    
    Cwd                 3    3.78    
    Digest::MD5         2    2.55_01 
    File::Copy          2    2.34    
    File::Path          1    2.16    
    File::PathInfo      1.27 1.27    
    File::Type          0    0.22    
    Test::Simple        0    1.302188
    YAML                0    1.30    

build_requires:

    Module              Need Have    
    ------------------- ---- --------
    ExtUtils::MakeMaker 0    7.62    

configure_requires:

    Module              Need Have    
    ------------------- ---- --------
    ExtUtils::MakeMaker 0    7.62    


------------------------------
ENVIRONMENT AND OTHER CONTEXT
------------------------------

Environment variables:

    LANG = en_US.UTF-8
    PATH = /usr/local/bin:/usr/bin:/bin:/usr/local/sbin:/usr/sbin:/sbin:/home/cpansand/bin/linux-gnu:/home/cpansand/bin/sh:/home/cpansand/bin:/usr/games:/home/cpansand/devel:/home/eserte/src/srezic-misc/scripts
    PERL5LIB = /home/cpansand/.cpan/build/2022031315/File-Type-0.22-0/blib/arch:/home/cpansand/.cpan/build/2022031315/File-Type-0.22-0/blib/lib:/home/cpansand/.cpan/build/2022031315/File-PathInfo-1.27-0/blib/arch:/home/cpansand/.cpan/build/2022031315/File-PathInfo-1.27-0/blib/lib:/home/cpansand/.cpan/build/2022031315/AnyEvent-Gearman-0.10-0/blib/arch:/home/cpansand/.cpan/build/2022031315/AnyEvent-Gearman-0.10-0/blib/lib:/home/cpansand/.cpan/build/2022031315/Object-Event-1.23-0/blib/arch:/home/cpansand/.cpan/build/2022031315/Object-Event-1.23-0/blib/lib:/home/cpansand/.cpan/build/2022031315/Object-Container-0.14-0/blib/arch:/home/cpansand/.cpan/build/2022031315/Object-Container-0.14-0/blib/lib:/home/cpansand/.cpan/build/2022031315/MouseX-Foreign-1.000-0/blib/arch:/home/cpansand/.cpan/build/2022031315/MouseX-Foreign-1.000-0/blib/lib
    PERL5OPT = 
    PERL5_CPANPLUS_IS_RUNNING = 8289
    PERL5_CPAN_IS_RUNNING = 8289
    PERL5_CPAN_IS_RUNNING_IN_RECURSION = 8189,8289
    PERLDOC = -MPod::Perldoc::ToTextOverstrike
    PERL_BATCH = yes
    PERL_CANARY_STABILITY_NOPROMPT = 1
    PERL_CPAN_REPORTER_CONFIG = /var/tmp/cpansmoker-1023/2022031315/cpanreporter_001_config.ini
    PERL_EXTUTILS_AUTOINSTALL = --defaultdeps
    PERL_USE_UNSAFE_INC = 1
    SHELL = /usr/bin/zsh
    TERM = screen
    TMPDIR = /var/tmp/cpansmoker-1023/2022031315

Perl special variables (and OS-specific diagnostics, for MSWin32):

    $^X = /opt/perl-5.32.1/bin/perl
    $UID/$EUID = 1023 / 1023
    $GID = 1023 1023
    $EGID = 1023 1023

Perl module toolchain versions installed:

    Module              Have    
    ------------------- --------
    CPAN                2.27    
    CPAN::Meta          2.150010
    Cwd                 3.78    
    ExtUtils::CBuilder  0.280234
    ExtUtils::Command   7.62    
    ExtUtils::Install   2.20    
    ExtUtils::MakeMaker 7.62    
    ExtUtils::Manifest  1.72    
    ExtUtils::ParseXS   3.40    
    File::Spec          3.78    
    JSON                4.05    
    JSON::PP            4.04    
    Module::Build       0.4231  
    Module::Signature   0.87    
    Parse::CPAN::Meta   2.150010
    Test::Harness       3.42    
    Test::More          1.302188
    YAML                1.30    
    YAML::Syck          1.34    
    version             0.9924  


--

Summary of my perl5 (revision 5 version 32 subversion 1) configuration:
   
  Platform:
    osname=linux
    osvers=3.10.0-1160.11.1.el7.x86_64
    archname=x86_64-linux
    uname='linux cloud3.bbbike.org 3.10.0-1160.11.1.el7.x86_64 #1 smp fri dec 18 16:34:56 utc 2020 x86_64 x86_64 x86_64 gnulinux '
    config_args='-ds -e -Dprefix=/opt/perl-5.32.1 -Dcf_email=srezic@cpan.org'
    hint=recommended
    useposix=true
    d_sigaction=define
    useithreads=undef
    usemultiplicity=undef
    use64bitint=define
    use64bitall=define
    uselongdouble=undef
    usemymalloc=n
    default_inc_excludes_dot=define
    bincompat5005=undef
  Compiler:
    cc='cc'
    ccflags ='-fwrapv -fno-strict-aliasing -pipe -fstack-protector-strong -I/usr/local/include -D_LARGEFILE_SOURCE -D_FILE_OFFSET_BITS=64 -D_FORTIFY_SOURCE=2'
    optimize='-O2'
    cppflags='-fwrapv -fno-strict-aliasing -pipe -fstack-protector-strong -I/usr/local/include'
    ccversion=''
    gccversion='4.8.5 20150623 (Red Hat 4.8.5-44)'
    gccosandvers=''
    intsize=4
    longsize=8
    ptrsize=8
    doublesize=8
    byteorder=12345678
    doublekind=3
    d_longlong=define
    longlongsize=8
    d_longdbl=define
    longdblsize=16
    longdblkind=3
    ivtype='long'
    ivsize=8
    nvtype='double'
    nvsize=8
    Off_t='off_t'
    lseeksize=8
    alignbytes=8
    prototype=define
  Linker and Libraries:
    ld='cc'
    ldflags =' -fstack-protector-strong -L/usr/local/lib'
    libpth=/usr/local/lib /usr/lib /lib/../lib64 /usr/lib/../lib64 /lib /lib64 /usr/lib64 /usr/local/lib64
    libs=-lpthread -lnsl -lgdbm -ldb -ldl -lm -lcrypt -lutil -lc -lgdbm_compat
    perllibs=-lpthread -lnsl -ldl -lm -lcrypt -lutil -lc
    libc=libc-2.17.so
    so=so
    useshrplib=false
    libperl=libperl.a
    gnulibc_version='2.17'
  Dynamic Linking:
    dlsrc=dl_dlopen.xs
    dlext=so
    d_dlsymun=undef
    ccdlflags='-Wl,-E'
    cccdlflags='-fPIC'
    lddlflags='-shared -O2 -L/usr/local/lib -fstack-protector-strong'


Characteristics of this binary (from libperl): 
  Compile-time options:
    HAS_TIMES
    PERLIO_LAYERS
    PERL_COPY_ON_WRITE
    PERL_DONT_CREATE_GVSV
    PERL_MALLOC_WRAP
    PERL_OP_PARENT
    PERL_PRESERVE_IVUV
    USE_64_BIT_ALL
    USE_64_BIT_INT
    USE_LARGE_FILES
    USE_LOCALE
    USE_LOCALE_COLLATE
    USE_LOCALE_CTYPE
    USE_LOCALE_NUMERIC
    USE_LOCALE_TIME
    USE_PERLIO
    USE_PERL_ATOF
  Built under linux
  Compiled at Jan 24 2021 21:40:39
  %ENV:
    PERL5LIB="/home/cpansand/.cpan/build/2022031315/File-Type-0.22-0/blib/arch:/home/cpansand/.cpan/build/2022031315/File-Type-0.22-0/blib/lib:/home/cpansand/.cpan/build/2022031315/File-PathInfo-1.27-0/blib/arch:/home/cpansand/.cpan/build/2022031315/File-PathInfo-1.27-0/blib/lib:/home/cpansand/.cpan/build/2022031315/AnyEvent-Gearman-0.10-0/blib/arch:/home/cpansand/.cpan/build/2022031315/AnyEvent-Gearman-0.10-0/blib/lib:/home/cpansand/.cpan/build/2022031315/Object-Event-1.23-0/blib/arch:/home/cpansand/.cpan/build/2022031315/Object-Event-1.23-0/blib/lib:/home/cpansand/.cpan/build/2022031315/Object-Container-0.14-0/blib/arch:/home/cpansand/.cpan/build/2022031315/Object-Container-0.14-0/blib/lib:/home/cpansand/.cpan/build/2022031315/MouseX-Foreign-1.000-0/blib/arch:/home/cpansand/.cpan/build/2022031315/MouseX-Foreign-1.000-0/blib/lib"
    PERL5OPT=""
    PERL5_CPANPLUS_IS_RUNNING="8289"
    PERL5_CPAN_IS_RUNNING="8289"
    PERL5_CPAN_IS_RUNNING_IN_RECURSION="8189,8289"
    PERLDOC="-MPod::Perldoc::ToTextOverstrike"
    PERL_BATCH="yes"
    PERL_CANARY_STABILITY_NOPROMPT="1"
    PERL_CPAN_REPORTER_CONFIG="/var/tmp/cpansmoker-1023/2022031315/cpanreporter_001_config.ini"
    PERL_EXTUTILS_AUTOINSTALL="--defaultdeps"
    PERL_USE_UNSAFE_INC="1"
  @INC:
    /home/cpansand/.cpan/build/2022031315/File-Type-0.22-0/blib/arch
    /home/cpansand/.cpan/build/2022031315/File-Type-0.22-0/blib/lib
    /home/cpansand/.cpan/build/2022031315/File-PathInfo-1.27-0/blib/arch
    /home/cpansand/.cpan/build/2022031315/File-PathInfo-1.27-0/blib/lib
    /home/cpansand/.cpan/build/2022031315/AnyEvent-Gearman-0.10-0/blib/arch
    /home/cpansand/.cpan/build/2022031315/AnyEvent-Gearman-0.10-0/blib/lib
    /home/cpansand/.cpan/build/2022031315/Object-Event-1.23-0/blib/arch
    /home/cpansand/.cpan/build/2022031315/Object-Event-1.23-0/blib/lib
    /home/cpansand/.cpan/build/2022031315/Object-Container-0.14-0/blib/arch
    /home/cpansand/.cpan/build/2022031315/Object-Container-0.14-0/blib/lib
    /home/cpansand/.cpan/build/2022031315/MouseX-Foreign-1.000-0/blib/arch
    /home/cpansand/.cpan/build/2022031315/MouseX-Foreign-1.000-0/blib/lib
    /opt/perl-5.32.1/lib/site_perl/5.32.1/x86_64-linux
    /opt/perl-5.32.1/lib/site_perl/5.32.1
    /opt/perl-5.32.1/lib/5.32.1/x86_64-linux
    /opt/perl-5.32.1/lib/5.32.1
    .