Back
From: metabase:user:314402c4-2aae-11df-837a-5e0a49663a4f
Subject: PASS WWW-Mechanize-Script-0.101 v5.20.0 RC1 GNU/Linux
Date: 2014-05-17T15:50:08Z
This distribution has been tested as part of the CPAN Testers
project, supporting the Perl programming language.  See
http://wiki.cpantesters.org/ for more information or email
questions to cpan-testers-discuss@perl.org
--
Dear Jens Rehsack,
This is a computer-generated report for WWW-Mechanize-Script-0.101
on perl 5.20.0, created by CPAN-Reporter-1.2011.
Thank you for uploading your work to CPAN.  Congratulations!
All tests were successful.
Sections of this report:
    * Tester comments
    * Program output
    * Prerequisites
    * Environment and other context
------------------------------
TESTER COMMENTS
------------------------------
Additional comments from tester:
none provided
------------------------------
PROGRAM OUTPUT
------------------------------
Output from '/usr/bin/make test':
PERL_DL_NONLAZY=1 /opt/perl-5.20.0-RC1/bin/perl "-MExtUtils::Command::MM" "-MTest::Harness" "-e" "undef *Test::Harness::Switches; test_harness(0, 'blib/lib', 'blib/arch')" t/*.t
# Testing WWW::Mechanize::Script 0.100, Perl 5.020000, /opt/perl-5.20.0-RC1/bin/perl
t/00-load.t ....... ok
t/10-live.t ....... ok
t/manifest.t ...... skipped: Author tests not required for installation
t/pod-coverage.t .. ok
t/pod.t ........... ok
All tests successful.
Files=5, Tests=24,  2 wallclock secs ( 0.12 usr  0.08 sys +  1.47 cusr  0.44 csys =  2.11 CPU)
Result: PASS
------------------------------
PREREQUISITES
------------------------------
Prerequisite modules loaded:
requires:
    Module                    Need  Have    
    ------------------------- ----- --------
    base                      0     2.22    
    Config::Any               0     0.24    
    Config::Any::Base         0     0       
    constant                  0     1.31    
    Cwd                       0     3.47    
    Exporter                  0     5.70    
    File::Basename            0     2.85    
    File::ConfigDir           0.004 0.013   
    File::Find::Rule          0     0.33    
    File::Path                0     2.09    
    File::Slurp               0     9999.19 
    Getopt::Long              0     2.42    
    Hash::Merge               0.12  0.200   
    IO::File                  0     1.16    
    JSON                      2.00  2.90    
    List::MoreUtils           0.22  0.33    
    Module::Pluggable         4.0   5.1     
    Module::Pluggable::Object 0     5.1     
    Params::Util              0.33  1.07    
    parent                    0     0.228   
    Pod::Usage                0     1.63    
    strict                    0     1.08    
    Template                  2.20  2.25    
    Text::Balanced            0     2.02    
    vars                      0     1.03    
    warnings                  0     1.23    
    WWW::Mechanize            1.72  1.73    
    WWW::Mechanize::Timed     0.44  0.44    
build_requires:
    Module                    Need  Have    
    ------------------------- ----- --------
    File::Spec                0     3.47    
    HTTP::Daemon              0     6.01    
    HTTP::Status              0     6.03    
    IO::CaptureOutput         0     1.1103  
    IO::Select                0     1.22    
    IO::Socket                0     1.37    
    POSIX                     0     1.38_03 
    Sys::Hostname             0     1.18    
    Test::More                0     1.001002
    URI                       0     1.60    
configure_requires:
    Module                    Need  Have    
    ------------------------- ----- --------
    ExtUtils::MakeMaker       6.30  6.98    
------------------------------
ENVIRONMENT AND OTHER CONTEXT
------------------------------
Environment variables:
    DBIC_NO_WARN_BAD_PERL = 1
    LANG = C
    LC_ALL = de_DE.UTF-8
    PATH = /usr/local/bin:/usr/bin:/bin:/usr/local/sbin:/usr/sbin:/sbin:/home/eserte/bin/linux-gnu:/home/eserte/bin/sh:/home/eserte/bin:/usr/games:/home/eserte/devel:/home/eserte/src/srezic-misc/scripts
    PERL5LIB = 
    PERL5OPT = 
    PERL5_CPANPLUS_IS_RUNNING = 21447
    PERL5_CPAN_IS_RUNNING = 21447
    PERL5_CPAN_IS_RUNNING_IN_RECURSION = 27052,21447
    PERLDOC = -MPod::Perldoc::ToTextOverstrike
    PERL_BATCH = yes
    PERL_CPAN_REPORTER_CONFIG = /var/tmp/cpansmoker-1001/u80piD0rei_config.ini
    PERL_EXTUTILS_AUTOINSTALL = --defaultdeps
    PERL_HTML_DISPLAY_CLASS = HTML::Display::Mozilla
    SHELL = /bin/zsh
    TERM = screen
    TMPDIR = /var/tmp/cpansmoker-1001
Perl special variables (and OS-specific diagnostics, for MSWin32):
    $^X = /opt/perl-5.20.0-RC1/bin/perl
    $UID/$EUID = 1001 / 1001
    $GID = 1001 109 1001
    $EGID = 1001 109 1001
Perl module toolchain versions installed:
    Module              Have    
    ------------------- --------
    CPAN                2.05    
    CPAN::Meta          2.140640
    Cwd                 3.47    
    ExtUtils::CBuilder  0.280216
    ExtUtils::Command   1.18    
    ExtUtils::Install   1.67    
    ExtUtils::MakeMaker 6.98    
    ExtUtils::Manifest  1.63    
    ExtUtils::ParseXS   3.24    
    File::Spec          3.47    
    JSON                2.90    
    JSON::PP            2.27203 
    Module::Build       0.4205  
    Module::Signature   n/a     
    Parse::CPAN::Meta   1.4414  
    Test::Harness       3.30    
    Test::More          1.001002
    YAML                0.90    
    YAML::Syck          1.27    
    version             0.9908  
--
Summary of my perl5 (revision 5 version 20 subversion 0) configuration:
   
  Platform:
    osname=linux, osvers=3.2.0-4-amd64, archname=x86_64-linux
    uname='linux eserte 3.2.0-4-amd64 #1 smp debian 3.2.57-3 x86_64 gnulinux '
    config_args='-ds -e -Dprefix=/opt/perl-5.20.0-RC1'
    hint=previous, useposix=true, d_sigaction=define
    useithreads=undef, usemultiplicity=undef
    use64bitint=define, use64bitall=define, uselongdouble=undef
    usemymalloc=n, bincompat5005=undef
  Compiler:
    cc='cc', ccflags ='-fwrapv -fno-strict-aliasing -pipe -fstack-protector -I/usr/local/include -D_LARGEFILE_SOURCE -D_FILE_OFFSET_BITS=64',
    optimize='-O2',
    cppflags='-fwrapv -fno-strict-aliasing -pipe -fstack-protector -I/usr/local/include -fwrapv -fno-strict-aliasing -pipe -fstack-protector -I/usr/local/include -D_LARGEFILE_SOURCE -D_FILE_OFFSET_BITS=64'
    ccversion='', gccversion='4.7.2', gccosandvers=''
    intsize=4, longsize=8, ptrsize=8, doublesize=8, byteorder=12345678
    d_longlong=define, longlongsize=8, d_longdbl=define, longdblsize=16
    ivtype='long', ivsize=8, nvtype='double', nvsize=8, Off_t='off_t', lseeksize=8
    alignbytes=8, prototype=define
  Linker and Libraries:
    ld='cc', ldflags =' -fstack-protector -L/usr/local/lib'
    libpth=/usr/local/lib /usr/lib/gcc/x86_64-linux-gnu/4.7/include-fixed /usr/include/x86_64-linux-gnu /usr/lib /lib/x86_64-linux-gnu /lib/../lib /usr/lib/x86_64-linux-gnu /usr/lib/../lib /lib /usr/local/lib /usr/lib/gcc/x86_64-linux-gnu/4.7/include-fixed /usr/include/x86_64-linux-gnu /usr/lib
    libs=-lnsl -ldb -ldl -lm -lcrypt -lutil -lc
    perllibs=-lnsl -ldl -lm -lcrypt -lutil -lc
    libc=libc-2.13.so, so=so, useshrplib=false, libperl=libperl.a
    gnulibc_version='2.13'
  Dynamic Linking:
    dlsrc=dl_dlopen.xs, dlext=so, d_dlsymun=undef, ccdlflags='-Wl,-E'
    cccdlflags='-fPIC', lddlflags='-shared -O2 -L/usr/local/lib -fstack-protector'
Characteristics of this binary (from libperl): 
  Compile-time options: HAS_TIMES PERLIO_LAYERS PERL_DONT_CREATE_GVSV
                        PERL_HASH_FUNC_ONE_AT_A_TIME_HARD PERL_MALLOC_WRAP
                        PERL_NEW_COPY_ON_WRITE PERL_PRESERVE_IVUV
                        USE_64_BIT_ALL USE_64_BIT_INT USE_LARGE_FILES
                        USE_LOCALE USE_LOCALE_COLLATE USE_LOCALE_CTYPE
                        USE_LOCALE_NUMERIC USE_PERLIO USE_PERL_ATOF
  Locally applied patches:
	RC1
  Built under linux
  Compiled at May 17 2014 08:51:28
  %ENV:
    PERL5LIB=""
    PERL5OPT=""
    PERL5_CPANPLUS_IS_RUNNING="21447"
    PERL5_CPAN_IS_RUNNING="21447"
    PERL5_CPAN_IS_RUNNING_IN_RECURSION="27052,21447"
    PERLDOC="-MPod::Perldoc::ToTextOverstrike"
    PERL_BATCH="yes"
    PERL_CPAN_REPORTER_CONFIG="/var/tmp/cpansmoker-1001/u80piD0rei_config.ini"
    PERL_EXTUTILS_AUTOINSTALL="--defaultdeps"
    PERL_HTML_DISPLAY_CLASS="HTML::Display::Mozilla"
  @INC:
    /opt/perl-5.20.0-RC1/lib/site_perl/5.20.0/x86_64-linux
    /opt/perl-5.20.0-RC1/lib/site_perl/5.20.0
    /opt/perl-5.20.0-RC1/lib/5.20.0/x86_64-linux
    /opt/perl-5.20.0-RC1/lib/5.20.0
    .