Catalyst-Plugin-Session v0.40 Perl 5 v5.27.5 amd64-netbsd

Status
Pass
From
Carlos Guevara
Dist
Catalyst-Plugin-Session v0.40
Platform
Perl 5 v5.27.5 amd64-netbsd
Date
2017-09-25 23:40:33
ID
ec633d4c-a24a-11e7-bae4-2d3ddc099058
This distribution has been tested as part of the CPAN Testers
project, supporting the Perl programming language.  See
http://wiki.cpantesters.org/ for more information or email
questions to cpan-testers-discuss@perl.org


--
Dear John Napiorkowski,

This is a computer-generated report for Catalyst-Plugin-Session-0.40
on perl 5.27.5, created by CPAN-Reporter-1.2018.

Thank you for uploading your work to CPAN.  Congratulations!
All tests were successful.

Sections of this report:

    * Tester comments
    * Program output
    * Prerequisites
    * Environment and other context

------------------------------
TESTER COMMENTS
------------------------------

Additional comments from tester:

none provided

------------------------------
PROGRAM OUTPUT
------------------------------

Output from '/usr/bin/make test':

PERL_DL_NONLAZY=1 "/home/cpan/bin/perl-blead/bin/perl5.27.5" "-MExtUtils::Command::MM" "-MTest::Harness" "-e" "undef *Test::Harness::Switches; test_harness(0, 'inc', 'blib/lib', 'blib/arch')" t/*.t
t/00_basic_sanity.t ........... ok
t/01_setup.t .................. ok
t/03_flash.t .................. ok
t/05_semi_persistent_flash.t .. skipped: Catalyst::Plugin::Session::State::Cookie version 0.03 or higher is required for this test
t/cat_test.t .................. skipped: Need Catalyst::Plugin::Session::State::Cookie
t/live_accessor.t ............. skipped: Catalyst::Plugin::Session::State::Cookie 0.03 or higher is required for this test
t/live_app.t .................. skipped: Catalyst::Plugin::Session::State::Cookie 0.03 or higher is required for this test
t/live_expiry_threshold.t ..... skipped: Catalyst::Plugin::Session::State::Cookie 0.03 or higher is required for this test
t/live_session_fixation.t ..... skipped: Catalyst::Plugin::Session::State::Cookie 0.03 or higher is required for this test
t/live_verify_address.t ....... skipped: Catalyst::Plugin::Session::State::Cookie 0.03 or higher is required for this test
t/live_verify_user_agent.t .... skipped: Catalyst::Plugin::Session::State::Cookie 0.03 or higher is required for this test
t/session_valid.t ............. skipped: Catalyst::Plugin::Session::State::Cookie 0.03 or higher is required for this test
All tests successful.
Files=12, Tests=26,  2 wallclock secs ( 0.04 usr  0.04 sys +  1.36 cusr  0.64 csys =  2.08 CPU)
Result: PASS

------------------------------
PREREQUISITES
------------------------------

Prerequisite modules loaded:

requires:

    Module                                 Need    Have    
    -------------------------------------- ------- --------
    Catalyst::Runtime                      5.71001 5.90115 
    Digest                                 0       1.17_01 
    File::Spec                             0       3.68    
    File::Temp                             0       0.2304  
    List::Util                             0       1.49    
    Moose                                  0.76    2.2006  
    MooseX::Emulate::Class::Accessor::Fast 0.00801 0.00903 
    MRO::Compat                            0       0.13    
    namespace::clean                       0.10    0.27    
    Object::Signature                      0       1.07    
    perl                                   5.008   5.027005
    Test::More                             0.88    1.302096
    Tie::RefHash                           1.34    1.39    

build_requires:

    Module                                 Need    Have    
    -------------------------------------- ------- --------
    ExtUtils::MakeMaker                    6.59    7.30    
    Test::Deep                             0       1.127   
    Test::Exception                        0       0.43    
    Test::WWW::Mechanize::PSGI             0       0.37    

configure_requires:

    Module                                 Need    Have    
    -------------------------------------- ------- --------
    ExtUtils::MakeMaker                    6.59    7.30    


------------------------------
ENVIRONMENT AND OTHER CONTEXT
------------------------------

Environment variables:

    LC_ALL = C
    NONINTERACTIVE_TESTING = 1
    PATH = /home/cpan/bin:/home/cpan/bin/perl-blead/bin:/home/cpan/bin:/home/cpan/bin:/bin:/sbin:/usr/bin:/usr/sbin:/usr/X11R7/bin:/usr/X11R6/bin:/usr/pkg/bin:/usr/pkg/sbin:/usr/games:/usr/local/bin:/usr/local/sbin
    PERL5LIB = 
    PERL5OPT = 
    PERL5_CPANPLUS_IS_RUNNING = 9803
    PERL5_CPAN_IS_RUNNING = 9803
    PERL_MM_USE_DEFAULT = 1
    PERL_USE_UNSAFE_INC = 1
    SHELL = /usr/pkg/bin/bash
    TERM = screen
    TMPDIR = /home/cpan/tmp

Perl special variables (and OS-specific diagnostics, for MSWin32):

    $^X = /home/cpan/bin/perl-blead/bin/perl5.27.5
    $UID/$EUID = 1002 / 1002
    $GID = 100 100
    $EGID = 100 100

Perl module toolchain versions installed:

    Module              Have    
    ------------------- --------
    CPAN                2.18    
    CPAN::Meta          2.150010
    Cwd                 3.68    
    ExtUtils::CBuilder  0.280228
    ExtUtils::Command   7.30    
    ExtUtils::Install   2.14    
    ExtUtils::MakeMaker 7.30    
    ExtUtils::Manifest  1.70    
    ExtUtils::ParseXS   3.35    
    File::Spec          3.68    
    JSON                2.94    
    JSON::PP            2.94    
    Module::Build       0.4224  
    Module::Signature   0.81    
    Parse::CPAN::Meta   2.150010
    Test::Harness       3.39    
    Test::More          1.302096
    YAML                1.23    
    YAML::Syck          n/a     
    version             0.9918  


--

Summary of my perl5 (revision 5 version 27 subversion 5) configuration:
  Commit id: 60dfa515ef51ddf3e702d92aee4fffb166ad4d38
  Platform:
    osname=netbsd
    osvers=7.1
    archname=amd64-netbsd
    uname='netbsd cjg-netbsd7.localdomain 7.1 netbsd 7.1 (generic.201703111743z) amd64 '
    config_args='-des -Dprefix=~/bin/perl-blead -Dscriptdir=~/bin/perl-blead/bin -Duse64bitall -Dusedevel'
    hint=recommended
    useposix=true
    d_sigaction=define
    useithreads=undef
    usemultiplicity=undef
    use64bitint=define
    use64bitall=define
    uselongdouble=undef
    usemymalloc=n
    default_inc_excludes_dot=define
    bincompat5005=undef
  Compiler:
    cc='cc'
    ccflags ='-fwrapv -fno-strict-aliasing -pipe -fstack-protector -I/usr/pkg/include -D_FORTIFY_SOURCE=2'
    optimize='-O'
    cppflags='-fwrapv -fno-strict-aliasing -pipe -fstack-protector -I/usr/pkg/include'
    ccversion=''
    gccversion='4.8.5'
    gccosandvers=''
    intsize=4
    longsize=8
    ptrsize=8
    doublesize=8
    byteorder=12345678
    doublekind=3
    d_longlong=define
    longlongsize=8
    d_longdbl=define
    longdblsize=16
    longdblkind=3
    ivtype='long'
    ivsize=8
    nvtype='double'
    nvsize=8
    Off_t='off_t'
    lseeksize=8
    alignbytes=8
    prototype=define
  Linker and Libraries:
    ld='cc'
    ldflags =' -Wl,-rpath,/usr/pkg/lib -Wl,-rpath,/usr/local/lib -fstack-protector -L/usr/pkg/lib'
    libpth=/usr/include/gcc-4.8 /usr/lib /usr/pkg/lib /lib
    libs=-lpthread -lm -lcrypt -lutil -lc -lposix
    perllibs=-lpthread -lm -lcrypt -lutil -lc -lposix
    libc=/lib/libc.so
    so=so
    useshrplib=false
    libperl=libperl.a
    gnulibc_version=''
  Dynamic Linking:
    dlsrc=dl_dlopen.xs
    dlext=so
    d_dlsymun=undef
    ccdlflags='-Wl,-E '
    cccdlflags='-DPIC -fPIC '
    lddlflags='-shared  -L/usr/pkg/lib -fstack-protector'


Characteristics of this binary (from libperl): 
  Compile-time options:
    HAS_TIMES
    PERLIO_LAYERS
    PERL_COPY_ON_WRITE
    PERL_DONT_CREATE_GVSV
    PERL_MALLOC_WRAP
    PERL_OP_PARENT
    PERL_PRESERVE_IVUV
    PERL_USE_DEVEL
    USE_64_BIT_ALL
    USE_64_BIT_INT
    USE_LARGE_FILES
    USE_LOCALE
    USE_LOCALE_COLLATE
    USE_LOCALE_CTYPE
    USE_LOCALE_NUMERIC
    USE_LOCALE_TIME
    USE_PERLIO
    USE_PERL_ATOF
  Built under netbsd
  Compiled at Sep 25 2017 16:11:53
  %ENV:
    PERL5LIB=""
    PERL5OPT=""
    PERL5_CPANPLUS_IS_RUNNING="9803"
    PERL5_CPAN_IS_RUNNING="9803"
    PERL_MM_USE_DEFAULT="1"
    PERL_USE_UNSAFE_INC="1"
  @INC:
    /home/cpan/bin/perl-blead/lib/site_perl/5.27.5/amd64-netbsd
    /home/cpan/bin/perl-blead/lib/site_perl/5.27.5
    /home/cpan/bin/perl-blead/lib/5.27.5/amd64-netbsd
    /home/cpan/bin/perl-blead/lib/5.27.5
    .