Back
From: metabase:user:f1e7c708-5357-11e1-bfbb-e0305faeeaee
Subject: PASS Ado-Plugin-Admin-0.12 v5.14.4 GNU/Linux
Date: 2015-03-30T00:01:32Z
This distribution has been tested as part of the CPAN Testers
project, supporting the Perl programming language. See
http://wiki.cpantesters.org/ for more information or email
questions to cpan-testers-discuss@perl.org
--
Dear BEROV,
This is a computer-generated report for Ado-Plugin-Admin-0.12
on perl 5.14.4, created by App::cpanminus::reporter 0.12 (1.7009).
Thank you for uploading your work to CPAN. Congratulations!
All tests were successful.
Sections of this report:
* Tester comments
* Program output
* Prerequisites
* Environment and other context
------------------------------
TESTER COMMENTS
------------------------------
Additional comments from tester:
none provided
------------------------------
PROGRAM OUTPUT
------------------------------
Output from '':
Building and testing Ado-Plugin-Admin-0.12
Building Ado-Plugin-Admin
t/manifest.t ........... skipped: Author test. Set $ENV{TEST_AUTHOR} to a true value to run.
t/perl-critic.t ........ skipped: Author test. Set $ENV{TEST_AUTHOR} to a true value to run.
t/pod-coverage.t ....... skipped: Author test. Set $ENV{TEST_AUTHOR} to a true value to run.
t/pod.t ................ ok
t/plugin/admin_menu.t .. ok
t/plugin/admin-00.t .... ok
All tests successful.
Files=6, Tests=23, 2 wallclock secs ( 0.10 usr 0.01 sys + 2.00 cusr 0.17 csys = 2.28 CPU)
Result: PASS
------------------------------
PREREQUISITES
------------------------------
Prerequisite modules loaded:
No requirements found
------------------------------
ENVIRONMENT AND OTHER CONTEXT
------------------------------
Environment variables:
LANG = en_US.UTF-8
LANGUAGE = en
LC_ADDRESS = bg_BG.UTF-8
LC_IDENTIFICATION = bg_BG.UTF-8
LC_MEASUREMENT = bg_BG.UTF-8
LC_MONETARY = bg_BG.UTF-8
LC_NAME = bg_BG.UTF-8
LC_NUMERIC = bg_BG.UTF-8
LC_PAPER = bg_BG.UTF-8
LC_TELEPHONE = bg_BG.UTF-8
LC_TIME = bg_BG.UTF-8
PATH = /home/berov/perl5/perlbrew/bin:/home/berov/perl5/perlbrew/perls/perl-5.14.4/bin:/home/berov/opt/jdk1.7.0_51/bin:/home/berov/opt/apache-maven-3.0.4/bin:/home/berov/bin:/home/berov/opt/pgsql935/bin:/home/berov/opt/ActivePerl-5.18/site/bin:/home/berov/opt/ActivePerl-5.18/bin:/home/berov/opt/node/bin:/home/berov/opt/groovy-2.1.3/bin:/home/berov/opt/phantomjs/bin:/home/berov/opt/go/bin:/home/berov/bin:/usr/local/sbin:/usr/local/bin:/usr/sbin:/usr/bin:/sbin:/bin:/usr/games:/usr/local/games
PERL5LIB = /home/berov/opt/public_dev/pod-simple/lib
PERLBREW_BASHRC_VERSION = 0.67
PERLBREW_HOME = /home/berov/.perlbrew
PERLBREW_MANPATH = /home/berov/perl5/perlbrew/perls/perl-5.14.4/man
PERLBREW_PATH = /home/berov/perl5/perlbrew/bin:/home/berov/perl5/perlbrew/perls/perl-5.14.4/bin
PERLBREW_PERL = perl-5.14.4
PERLBREW_ROOT = /home/berov/perl5/perlbrew
PERLBREW_VERSION = 0.69
RELEASE_TESTING = 1
SHELL = /bin/bash
TERM = xterm
TMPDIR = /home/berov/tmp
Perl special variables (and OS-specific diagnostics, for MSWin32):
EGID = 1000 4 24 27 30 46 108 124 125 1000
EUID = 1000
EXECUTABLE_NAME = /home/berov/perl5/perlbrew/perls/perl-5.14.4/bin/perl
GID = 1000 4 24 27 30 46 108 124 125 1000
UID = 1000
Perl module toolchain versions installed:
Module Have
------------------- --------
CPAN 2.00
CPAN::Meta 2.142060
Cwd 3.40
ExtUtils::CBuilder 0.280212
ExtUtils::Command 1.17
ExtUtils::Install 1.56
ExtUtils::MakeMaker 6.84
ExtUtils::Manifest 1.60
ExtUtils::ParseXS 2.2210
File::Spec 3.40
JSON 2.90
JSON::PP 2.27203
Module::Build 0.4210
Module::Signature n/a
Parse::CPAN::Meta 1.4414
Test::Harness 3.30
Test::More 1.001002
YAML n/a
YAML::Syck n/a
version 0.88
--
Summary of my perl5 (revision 5 version 14 subversion 4) configuration:
Platform:
osname=linux, osvers=3.8.0-33-generic, archname=x86_64-linux
uname='linux u165 3.8.0-33-generic #48-ubuntu smp wed oct 23 09:16:58 utc 2013 x86_64 x86_64 x86_64 gnulinux '
config_args='-de -Dprefix=/home/berov/perl5/perlbrew/perls/perl-5.14.4 -Aeval:scriptdir=/home/berov/perl5/perlbrew/perls/perl-5.14.4/bin'
hint=recommended, useposix=true, d_sigaction=define
useithreads=undef, usemultiplicity=undef
useperlio=define, d_sfio=undef, uselargefiles=define, usesocks=undef
use64bitint=define, use64bitall=define, uselongdouble=undef
usemymalloc=n, bincompat5005=undef
Compiler:
cc='cc', ccflags ='-fno-strict-aliasing -pipe -fstack-protector -I/usr/local/include -D_LARGEFILE_SOURCE -D_FILE_OFFSET_BITS=64',
optimize='-O2',
cppflags='-fno-strict-aliasing -pipe -fstack-protector -I/usr/local/include'
ccversion='', gccversion='4.7.3', gccosandvers=''
intsize=4, longsize=8, ptrsize=8, doublesize=8, byteorder=12345678
d_longlong=define, longlongsize=8, d_longdbl=define, longdblsize=16
ivtype='long', ivsize=8, nvtype='double', nvsize=8, Off_t='off_t', lseeksize=8
alignbytes=8, prototype=define
Linker and Libraries:
ld='cc', ldflags =' -fstack-protector -L/usr/local/lib'
libpth=/usr/local/lib /lib/x86_64-linux-gnu /lib/../lib /usr/lib/x86_64-linux-gnu /usr/lib/../lib /lib /usr/lib
libs=-lnsl -ldl -lm -lcrypt -lutil -lc
perllibs=-lnsl -ldl -lm -lcrypt -lutil -lc
libc=, so=so, useshrplib=false, libperl=libperl.a
gnulibc_version='2.17'
Dynamic Linking:
dlsrc=dl_dlopen.xs, dlext=so, d_dlsymun=undef, ccdlflags='-Wl,-E'
cccdlflags='-fPIC', lddlflags='-shared -O2 -L/usr/local/lib -fstack-protector'
Characteristics of this binary (from libperl):
Compile-time options: PERL_DONT_CREATE_GVSV PERL_MALLOC_WRAP
PERL_PRESERVE_IVUV USE_64_BIT_ALL USE_64_BIT_INT
USE_LARGE_FILES USE_PERLIO USE_PERL_ATOF
Built under linux
Compiled at Dec 9 2013 23:24:41
%ENV:
PERL5LIB="/home/berov/opt/public_dev/pod-simple/lib"
PERLBREW_BASHRC_VERSION="0.67"
PERLBREW_HOME="/home/berov/.perlbrew"
PERLBREW_MANPATH="/home/berov/perl5/perlbrew/perls/perl-5.14.4/man"
PERLBREW_PATH="/home/berov/perl5/perlbrew/bin:/home/berov/perl5/perlbrew/perls/perl-5.14.4/bin"
PERLBREW_PERL="perl-5.14.4"
PERLBREW_ROOT="/home/berov/perl5/perlbrew"
PERLBREW_VERSION="0.69"
@INC:
/home/berov/opt/public_dev/pod-simple/lib
/home/berov/perl5/perlbrew/perls/perl-5.14.4/lib/site_perl/5.14.4/x86_64-linux
/home/berov/perl5/perlbrew/perls/perl-5.14.4/lib/site_perl/5.14.4
/home/berov/perl5/perlbrew/perls/perl-5.14.4/lib/5.14.4/x86_64-linux
/home/berov/perl5/perlbrew/perls/perl-5.14.4/lib/5.14.4
.