Report for Text-MacroScript-2.10_03

Back
From: metabase:user:314402c4-2aae-11df-837a-5e0a49663a4f
Subject: PASS Text-MacroScript-2.10_03 v5.20.0 GNU/Linux
Date: 2015-07-31T00:41:47Z

This distribution has been tested as part of the CPAN Testers
project, supporting the Perl programming language.  See
http://wiki.cpantesters.org/ for more information or email
questions to cpan-testers-discuss@perl.org


--
Dear Paulo Custodio,

This is a computer-generated report for Text-MacroScript-2.10_03
on perl 5.20.0, created by CPAN-Reporter-1.2011.

Thank you for uploading your work to CPAN.  Congratulations!
All tests were successful.

Sections of this report:

    * Tester comments
    * Program output
    * Prerequisites
    * Environment and other context

------------------------------
TESTER COMMENTS
------------------------------

Additional comments from tester:

none provided

------------------------------
PROGRAM OUTPUT
------------------------------

Output from '/usr/bin/make test':

PERL_DL_NONLAZY=1 "/bbbike/perl-5.20.0/bin/perl5.20.0" "-MExtUtils::Command::MM" "-MTest::Harness" "-e" "undef *Test::Harness::Switches; test_harness(0, 'blib/lib', 'blib/arch')" t/*.t
	(in cleanup) Can't call method "start_line_nr" on an undefined value at /tmpfs/.cpan-build/2015073100/Text-MacroScript-2.10_03-DRaWaT/blib/lib/Text/MacroScript.pm line 226 during global destruction.
	(in cleanup) Can't call method "start_line_nr" on an undefined value at /tmpfs/.cpan-build/2015073100/Text-MacroScript-2.10_03-DRaWaT/blib/lib/Text/MacroScript.pm line 226 during global destruction.
	(in cleanup) Can't call method "start_line_nr" on an undefined value at /tmpfs/.cpan-build/2015073100/Text-MacroScript-2.10_03-DRaWaT/blib/lib/Text/MacroScript.pm line 226 during global destruction.
	(in cleanup) Can't call method "start_line_nr" on an undefined value at /tmpfs/.cpan-build/2015073100/Text-MacroScript-2.10_03-DRaWaT/blib/lib/Text/MacroScript.pm line 226 during global destruction.
	(in cleanup) Can't call method "start_line_nr" on an undefined value at /tmpfs/.cpan-build/2015073100/Text-MacroScript-2.10_03-DRaWaT/blib/lib/Text/MacroScript.pm line 226 during global destruction.
	(in cleanup) Can't call method "start_line_nr" on an undefined value at /tmpfs/.cpan-build/2015073100/Text-MacroScript-2.10_03-DRaWaT/blib/lib/Text/MacroScript.pm line 226 during global destruction.
	(in cleanup) Can't call method "start_line_nr" on an undefined value at /tmpfs/.cpan-build/2015073100/Text-MacroScript-2.10_03-DRaWaT/blib/lib/Text/MacroScript.pm line 226 during global destruction.
	(in cleanup) Can't call method "start_line_nr" on an undefined value at /tmpfs/.cpan-build/2015073100/Text-MacroScript-2.10_03-DRaWaT/blib/lib/Text/MacroScript.pm line 226 during global destruction.
t/expand_file.t ................ ok
t/fix_002.t .................... ok
t/fix_003.t .................... ok
t/fix_004.t .................... ok
t/fix_007.t .................... ok
t/fix_027.t .................... ok
t/fix_028_037.t ................ ok
t/fix_038.t .................... ok
t/fix_039.t .................... ok
t/fix_040.t .................... ok
t/fix_041.t .................... ok
t/fix_046.t .................... ok
t/fix_048.t .................... ok
t/fix_049.t .................... ok
t/fix_063.t .................... ok
# Issue #10: macrodir always in embedded mode, ignoring -p option
# Issue #10: macrodir always in embedded mode, ignoring -p option
# Issue #10: macrodir always in embedded mode, ignoring -p option
# Issue #10: macrodir always in embedded mode, ignoring -p option
# Issue #10: macrodir always in embedded mode, ignoring -p option
# Issue #10: macrodir always in embedded mode, ignoring -p option
# Issue #10: macrodir always in embedded mode, ignoring -p option
# Issue #10: macrodir always in embedded mode, ignoring -p option
# Issue #10: macrodir always in embedded mode, ignoring -p option
# Issue #9: macrodir -d: does not replicate source tree in target directory
# Issue #10: macrodir always in embedded mode, ignoring -p option
# Issue #10: macrodir always in embedded mode, ignoring -p option
# Issue #10: macrodir always in embedded mode, ignoring -p option
# Issue #10: macrodir always in embedded mode, ignoring -p option
# Issue #10: macrodir always in embedded mode, ignoring -p option
# Issue #10: macrodir always in embedded mode, ignoring -p option
# Issue #10: macrodir always in embedded mode, ignoring -p option
# Issue #10: macrodir always in embedded mode, ignoring -p option
# Issue #10: macrodir always in embedded mode, ignoring -p option
# Issue #10: macrodir always in embedded mode, ignoring -p option
t/macrodir.t ................... ok
# Issue #23: macropp: report errors on syntax error
# Issue #23: macropp: report errors on syntax error
t/macropp.t .................... ok
# Issue #1: expansion depends on size of macro name
# Issue #1: expansion depends on size of macro name
t/macros.t ..................... ok
t/macroscript.t ................ ok
t/new.t ........................ ok
	(in cleanup) Error at file - line 1: Unbalanced open structure at end of file
t/new_case.t ................... ok
t/new_comment.t ................ ok
	(in cleanup) Can't call method "start_line_nr" on an undefined value at /tmpfs/.cpan-build/2015073100/Text-MacroScript-2.10_03-DRaWaT/blib/lib/Text/MacroScript.pm line 226 during global destruction.
	(in cleanup) Can't call method "start_line_nr" on an undefined value at /tmpfs/.cpan-build/2015073100/Text-MacroScript-2.10_03-DRaWaT/blib/lib/Text/MacroScript.pm line 226 during global destruction.
t/new_define_macro.t ........... ok
	(in cleanup) Can't call method "start_line_nr" on an undefined value at /tmpfs/.cpan-build/2015073100/Text-MacroScript-2.10_03-DRaWaT/blib/lib/Text/MacroScript.pm line 226 during global destruction.
	(in cleanup) Can't call method "start_line_nr" on an undefined value at /tmpfs/.cpan-build/2015073100/Text-MacroScript-2.10_03-DRaWaT/blib/lib/Text/MacroScript.pm line 226 during global destruction.
t/new_define_script.t .......... ok
	(in cleanup) Can't call method "start_line_nr" on an undefined value at /tmpfs/.cpan-build/2015073100/Text-MacroScript-2.10_03-DRaWaT/blib/lib/Text/MacroScript.pm line 226 during global destruction.
t/new_define_variable.t ........ ok
t/new_embedded.t ............... ok
t/new_escapes.t ................ ok
t/new_expand_file.t ............ ok
t/new_list_macro.t ............. ok
t/new_list_script.t ............ ok
t/new_list_variable.t .......... ok
t/new_load_file.t .............. ok
t/new_require.t ................ ok
t/new_undefine_all_macro.t ..... ok
t/new_undefine_all_script.t .... ok
t/new_undefine_all_variable.t .. ok
t/new_undefine_macro.t ......... ok
t/new_undefine_script.t ........ ok
t/new_undefine_variable.t ...... ok
# Issue #7: expansion depends on size of script name
t/scripts.t .................... ok
t/variables.t .................. ok
All tests successful.
Files=41, Tests=1128, 11 wallclock secs ( 0.20 usr  0.29 sys +  5.40 cusr  1.89 csys =  7.78 CPU)
Result: PASS

------------------------------
PREREQUISITES
------------------------------

Prerequisite modules loaded:

requires:

    Module              Need     Have    
    ------------------- -------- --------
    Capture::Tiny       0.22     0.30    
    enum                1.1      1.10    
    Object::Tiny::RW    1.07     1.07    
    Path::Tiny          0.068    0.070   
    perl                5.01     5.020000
    Test::Differences   0.61     0.63    
    Test::More          1.001014 1.001014

build_requires:

    Module              Need     Have    
    ------------------- -------- --------
    ExtUtils::MakeMaker 0        7.04    

configure_requires:

    Module              Need     Have    
    ------------------- -------- --------
    ExtUtils::MakeMaker 0        7.04    


------------------------------
ENVIRONMENT AND OTHER CONTEXT
------------------------------

Environment variables:

    DBIC_NO_WARN_BAD_PERL = 1
    LANG = C
    LC_ALL = de_DE.UTF-8
    PATH = /usr/local/bin:/usr/bin:/bin:/usr/local/sbin:/usr/sbin:/sbin:/home/eserte/bin/linux-gnu:/home/eserte/bin/sh:/home/eserte/bin:/usr/games:/home/eserte/devel:/home/eserte/src/srezic-misc/scripts
    PERL5LIB = /home/eserte/.cpan/build/2015073100/Object-Tiny-RW-1.07-lQu7cv/blib/arch:/home/eserte/.cpan/build/2015073100/Object-Tiny-RW-1.07-lQu7cv/blib/lib
    PERL5OPT = 
    PERL5_CPANPLUS_IS_RUNNING = 31308
    PERL5_CPAN_IS_RUNNING = 31308
    PERL5_CPAN_IS_RUNNING_IN_RECURSION = 31246,31308
    PERLDOC = -MPod::Perldoc::ToTextOverstrike
    PERL_BATCH = yes
    PERL_CANARY_STABILITY_NOPROMPT = 1
    PERL_CPAN_REPORTER_CONFIG = /var/tmp/cpansmoker-1001/2015073100/cpanreporter_000_config.ini
    PERL_EXTUTILS_AUTOINSTALL = --defaultdeps
    PERL_HTML_DISPLAY_CLASS = HTML::Display::Mozilla
    PERL_PARALLEL_SMOKER = yes
    SHELL = /bin/zsh
    TERM = screen
    TMPDIR = /var/tmp/cpansmoker-1001/2015073100

Perl special variables (and OS-specific diagnostics, for MSWin32):

    $^X = /bbbike/perl-5.20.0/bin/perl5.20.0
    $UID/$EUID = 1001 / 1001
    $GID = 1001 109 1001
    $EGID = 1001 109 1001

Perl module toolchain versions installed:

    Module              Have    
    ------------------- --------
    CPAN                2.05    
    CPAN::Meta          2.150005
    Cwd                 3.47    
    ExtUtils::CBuilder  0.280223
    ExtUtils::Command   1.18    
    ExtUtils::Install   2.04    
    ExtUtils::MakeMaker 7.04    
    ExtUtils::Manifest  1.68    
    ExtUtils::ParseXS   3.24    
    File::Spec          3.47    
    JSON                2.90    
    JSON::PP            2.27203 
    Module::Build       0.4214  
    Module::Signature   0.78    
    Parse::CPAN::Meta   1.4414  
    Test::Harness       3.34    
    Test::More          1.001014
    YAML                1.15    
    YAML::Syck          1.29    
    version             0.9912  


--

Summary of my perl5 (revision 5 version 20 subversion 0) configuration:
   
  Platform:
    osname=linux, osvers=3.2.0-4-amd64, archname=x86_64-linux
    uname='linux eserte 3.2.0-4-amd64 #1 smp debian 3.2.57-3+deb7u1 x86_64 gnulinux '
    config_args='-ds -e -Dprefix=/opt/perl-5.20.0'
    hint=recommended, useposix=true, d_sigaction=define
    useithreads=undef, usemultiplicity=undef
    use64bitint=define, use64bitall=define, uselongdouble=undef
    usemymalloc=n, bincompat5005=undef
  Compiler:
    cc='cc', ccflags ='-fwrapv -fno-strict-aliasing -pipe -fstack-protector -I/usr/local/include -D_LARGEFILE_SOURCE -D_FILE_OFFSET_BITS=64',
    optimize='-O2',
    cppflags='-fwrapv -fno-strict-aliasing -pipe -fstack-protector -I/usr/local/include'
    ccversion='', gccversion='4.7.2', gccosandvers=''
    intsize=4, longsize=8, ptrsize=8, doublesize=8, byteorder=12345678
    d_longlong=define, longlongsize=8, d_longdbl=define, longdblsize=16
    ivtype='long', ivsize=8, nvtype='double', nvsize=8, Off_t='off_t', lseeksize=8
    alignbytes=8, prototype=define
  Linker and Libraries:
    ld='cc', ldflags =' -fstack-protector -L/usr/local/lib'
    libpth=/usr/local/lib /usr/lib/gcc/x86_64-linux-gnu/4.7/include-fixed /usr/include/x86_64-linux-gnu /usr/lib /lib/x86_64-linux-gnu /lib/../lib /usr/lib/x86_64-linux-gnu /usr/lib/../lib /lib
    libs=-lnsl -ldb -ldl -lm -lcrypt -lutil -lc
    perllibs=-lnsl -ldl -lm -lcrypt -lutil -lc
    libc=libc-2.13.so, so=so, useshrplib=false, libperl=libperl.a
    gnulibc_version='2.13'
  Dynamic Linking:
    dlsrc=dl_dlopen.xs, dlext=so, d_dlsymun=undef, ccdlflags='-Wl,-E'
    cccdlflags='-fPIC', lddlflags='-shared -O2 -L/usr/local/lib -fstack-protector'


Characteristics of this binary (from libperl): 
  Compile-time options: HAS_TIMES PERLIO_LAYERS PERL_DONT_CREATE_GVSV
                        PERL_HASH_FUNC_ONE_AT_A_TIME_HARD PERL_MALLOC_WRAP
                        PERL_NEW_COPY_ON_WRITE PERL_PRESERVE_IVUV
                        USE_64_BIT_ALL USE_64_BIT_INT USE_LARGE_FILES
                        USE_LOCALE USE_LOCALE_COLLATE USE_LOCALE_CTYPE
                        USE_LOCALE_NUMERIC USE_PERLIO USE_PERL_ATOF
  Built under linux
  Compiled at May 28 2014 04:18:43
  %ENV:
    PERL5LIB="/home/eserte/.cpan/build/2015073100/Object-Tiny-RW-1.07-lQu7cv/blib/arch:/home/eserte/.cpan/build/2015073100/Object-Tiny-RW-1.07-lQu7cv/blib/lib"
    PERL5OPT=""
    PERL5_CPANPLUS_IS_RUNNING="31308"
    PERL5_CPAN_IS_RUNNING="31308"
    PERL5_CPAN_IS_RUNNING_IN_RECURSION="31246,31308"
    PERLDOC="-MPod::Perldoc::ToTextOverstrike"
    PERL_BATCH="yes"
    PERL_CANARY_STABILITY_NOPROMPT="1"
    PERL_CPAN_REPORTER_CONFIG="/var/tmp/cpansmoker-1001/2015073100/cpanreporter_000_config.ini"
    PERL_EXTUTILS_AUTOINSTALL="--defaultdeps"
    PERL_HTML_DISPLAY_CLASS="HTML::Display::Mozilla"
    PERL_PARALLEL_SMOKER="yes"
  @INC:
    /home/eserte/.cpan/build/2015073100/Object-Tiny-RW-1.07-lQu7cv/blib/arch
    /home/eserte/.cpan/build/2015073100/Object-Tiny-RW-1.07-lQu7cv/blib/lib
    /opt/perl-5.20.0/lib/site_perl/5.20.0/x86_64-linux
    /opt/perl-5.20.0/lib/site_perl/5.20.0
    /opt/perl-5.20.0/lib/5.20.0/x86_64-linux
    /opt/perl-5.20.0/lib/5.20.0
    .