Soar-WM v0.04 Perl 5 v5.27.2 x86_64-linux-thread-multi-ld

Status
Pass
From
Andreas J. König (ANDK)
Dist
Soar-WM v0.04
Platform
Perl 5 v5.27.2 x86_64-linux-thread-multi-ld
Date
2017-09-03 16:28:31
ID
ec7e5ccc-90c4-11e7-994c-15b6d8a57ab1
This distribution has been tested as part of the CPAN Testers
project, supporting the Perl programming language.  See
http://wiki.cpantesters.org/ for more information or email
questions to cpan-testers-discuss@perl.org


--
Dear Nathan Gary Glenn,

This is a computer-generated report for Soar-WM-0.04
on perl 5.27.2, created by CPAN-Reporter-1.2018.

Thank you for uploading your work to CPAN.  Congratulations!
All tests were successful.

Sections of this report:

    * Tester comments
    * Program output
    * Prerequisites
    * Environment and other context

------------------------------
TESTER COMMENTS
------------------------------

Additional comments from tester:

this report is from an automated smoke testing program
and was not reviewed by a human for accuracy

------------------------------
PROGRAM OUTPUT
------------------------------

Output from './Build test':

t/00-compile.t ................ ok
# 
# 
# Generated by Dist::Zilla::Plugin::ReportVersions::Tiny v1.08
# perl: 5.027002 (wanted 5.010) on linux from /home/sand/src/perl/repoperls/installed-perls/host/k93msid/v5.27.2/5ea4/bin/perl
# 
# Carp                                          => 1.43       (want any version)
# Data::Dumper                                  => 2.167      (want any version)
# Data::Section::Simple                         => 0.07       (want any version)
# Exporter                                      => 5.72       (want any version)
# File::Find                                    => 1.34       (want any version)
# File::Spec                                    => 3.68       (want any version)
# File::Temp                                    => 0.2304     (want any version)
# FindBin                                       => 1.51       (want any version)
# Module::Build                                 => 0.4224     (want 0.3601) 
# Pod::Coverage::TrustPod                       => module not found. (want any version)
# Test::CPAN::Meta                              => module not found. (want any version)
# Test::Deep                                    => 1.127      (want any version)
# Test::More                                    => 1.302095   (want 0.88)   
# Test::NoWarnings                              => 1.04       (want any version)
# Test::Pod                                     => 1.51       (want 1.41)   
# Test::Pod::Coverage                           => 1.10       (want 1.08)   
# Test::Warn                                    => 0.32       (want any version)
# autodie                                       => 2.29       (want any version)
# base                                          => 2.25       (want any version)
# strict                                        => 1.11       (want any version)
# version                                       => 0.9918     (want 0.9901) 
# warnings                                      => 1.37       (want any version)
# 
# Thanks for using my code.  I hope it works for you.
# If not, please try and include this output in the bug report.
# That will help me reproduce the issue and solve your problem.
# 
t/000-report-versions-tiny.t .. ok
t/01-slurp.t .................. ok
t/02-wm.t ..................... ok
t/03-traversal.t .............. ok
t/04-errors.t ................. ok
All tests successful.
Files=6, Tests=34,  1 wallclock secs ( 0.02 usr  0.06 sys +  0.59 cusr  0.23 csys =  0.90 CPU)
Result: PASS

------------------------------
PREREQUISITES
------------------------------

Prerequisite modules loaded:

requires:

    Module                Need   Have    
    --------------------- ------ --------
    autodie               0      2.29    
    base                  0      2.25    
    Carp                  0      1.43    
    Exporter              0      5.72    
    perl                  5.010  5.027002
    strict                0      1.11    
    warnings              0      1.37    

build_requires:

    Module                Need   Have    
    --------------------- ------ --------
    Data::Dumper          0      2.167   
    Data::Section::Simple 0      0.07    
    File::Find            0      1.34    
    File::Spec            0      3.68    
    File::Temp            0      0.2304  
    FindBin               0      1.51    
    Module::Build         0.3601 0.4224  
    Test::Deep            0      1.127   
    Test::More            0.88   1.302095
    Test::NoWarnings      0      1.04    
    Test::Warn            0      0.32    

configure_requires:

    Module                Need   Have    
    --------------------- ------ --------
    Module::Build         0.3601 0.4224  


------------------------------
ENVIRONMENT AND OTHER CONTEXT
------------------------------

Environment variables:

    AUTOMATED_TESTING = 1
    LANG = en_US.UTF-8
    PATH = /home/sand/bin:/usr/local/bin:/usr/bin:/bin:/usr/games:/usr/local/perl/bin:/usr/X11/bin:/sbin:/usr/sbin
    PERL5LIB = /tmp/loop_over_bdir-32552-iaSZYU/GraphViz-2.24-0/blib/arch:/tmp/loop_over_bdir-32552-iaSZYU/GraphViz-2.24-0/blib/lib:/tmp/loop_over_bdir-32552-iaSZYU/XML-XPath-1.42-0/blib/arch:/tmp/loop_over_bdir-32552-iaSZYU/XML-XPath-1.42-0/blib/lib:/tmp/loop_over_bdir-32552-iaSZYU/XML-Twig-3.52-0/blib/arch:/tmp/loop_over_bdir-32552-iaSZYU/XML-Twig-3.52-0/blib/lib:/tmp/loop_over_bdir-32552-iaSZYU/Data-Section-Simple-0.07-0/blib/arch:/tmp/loop_over_bdir-32552-iaSZYU/Data-Section-Simple-0.07-0/blib/lib
    PERL5OPT = 
    PERL5_CPANPLUS_IS_RUNNING = 32558
    PERL5_CPAN_IS_RUNNING = 32558
    PERL5_CPAN_IS_RUNNING_IN_RECURSION = 18372,32558
    PERL_CANARY_STABILITY_NOPROMPT = 1
    PERL_MM_USE_DEFAULT = 1
    PERL_USE_UNSAFE_INC = 1
    SHELL = /usr/bin/zsh
    TERM = screen

Perl special variables (and OS-specific diagnostics, for MSWin32):

    $^X = /home/sand/src/perl/repoperls/installed-perls/host/k93msid/v5.27.2/5ea4/bin/perl
    $UID/$EUID = 1005 / 1005
    $GID = 1005 1005
    $EGID = 1005 1005

Perl module toolchain versions installed:

    Module              Have    
    ------------------- --------
    CPAN                2.18    
    CPAN::Meta          2.150010
    Cwd                 3.68    
    ExtUtils::CBuilder  0.280228
    ExtUtils::Command   7.30    
    ExtUtils::Install   2.14    
    ExtUtils::MakeMaker 7.30    
    ExtUtils::Manifest  1.70    
    ExtUtils::ParseXS   3.34    
    File::Spec          3.68    
    JSON                2.94    
    JSON::PP            2.94    
    Module::Build       0.4224  
    Module::Signature   0.81    
    Parse::CPAN::Meta   2.150010
    Test::Harness       3.39    
    Test::More          1.302095
    YAML                1.23    
    YAML::Syck          1.30    
    version             0.9918  


--

Summary of my perl5 (revision 5 version 27 subversion 2) configuration:
  Commit id: cf07591c56a81be8313edfa55671e8e741db95b3
  Platform:
    osname=linux
    osvers=4.9.0-2-amd64
    archname=x86_64-linux-thread-multi-ld
    uname='linux k93msid 4.9.0-2-amd64 #1 smp debian 4.9.18-1 (2017-03-30) x86_64 gnulinux '
    config_args='-Dprefix=/home/sand/src/perl/repoperls/installed-perls/host/k93msid/v5.27.2/5ea4 -Dmyhostname=k93msid -Dinstallusrbinperl=n -Uversiononly -Dusedevel -des -Ui_db -Dlibswanted=cl pthread socket inet nsl gdbm dbm malloc dl ld sun m crypt sec util c cposix posix ucb BSD gdbm_compat -Duseithreads -Duselongdouble -DDEBUGGING=-g'
    hint=recommended
    useposix=true
    d_sigaction=define
    useithreads=define
    usemultiplicity=define
    use64bitint=define
    use64bitall=define
    uselongdouble=define
    usemymalloc=n
    default_inc_excludes_dot=define
    bincompat5005=undef
  Compiler:
    cc='cc'
    ccflags ='-D_REENTRANT -D_GNU_SOURCE -fwrapv -fno-strict-aliasing -pipe -fstack-protector-strong -I/usr/local/include -D_LARGEFILE_SOURCE -D_FILE_OFFSET_BITS=64'
    optimize='-O2 -g'
    cppflags='-D_REENTRANT -D_GNU_SOURCE -fwrapv -fno-strict-aliasing -pipe -fstack-protector-strong -I/usr/local/include'
    ccversion=''
    gccversion='6.3.0 20170406'
    gccosandvers=''
    intsize=4
    longsize=8
    ptrsize=8
    doublesize=8
    byteorder=12345678
    doublekind=3
    d_longlong=define
    longlongsize=8
    d_longdbl=define
    longdblsize=16
    longdblkind=3
    ivtype='long'
    ivsize=8
    nvtype='long double'
    nvsize=16
    Off_t='off_t'
    lseeksize=8
    alignbytes=16
    prototype=define
  Linker and Libraries:
    ld='cc'
    ldflags =' -fstack-protector-strong -L/usr/local/lib'
    libpth=/usr/local/lib /usr/lib/gcc/x86_64-linux-gnu/6/include-fixed /usr/include/x86_64-linux-gnu /usr/lib /lib/x86_64-linux-gnu /lib/../lib /usr/lib/x86_64-linux-gnu /usr/lib/../lib /lib
    libs=-lpthread -lnsl -ldl -lm -lcrypt -lutil -lc
    perllibs=-lpthread -lnsl -ldl -lm -lcrypt -lutil -lc
    libc=libc-2.24.so
    so=so
    useshrplib=false
    libperl=libperl.a
    gnulibc_version='2.24'
  Dynamic Linking:
    dlsrc=dl_dlopen.xs
    dlext=so
    d_dlsymun=undef
    ccdlflags='-Wl,-E'
    cccdlflags='-fPIC'
    lddlflags='-shared -O2 -g -L/usr/local/lib -fstack-protector-strong'


Characteristics of this binary (from libperl): 
  Compile-time options:
    HAS_TIMES
    MULTIPLICITY
    PERLIO_LAYERS
    PERL_COPY_ON_WRITE
    PERL_DONT_CREATE_GVSV
    PERL_IMPLICIT_CONTEXT
    PERL_MALLOC_WRAP
    PERL_OP_PARENT
    PERL_PRESERVE_IVUV
    PERL_USE_DEVEL
    USE_64_BIT_ALL
    USE_64_BIT_INT
    USE_ITHREADS
    USE_LARGE_FILES
    USE_LOCALE
    USE_LOCALE_COLLATE
    USE_LOCALE_CTYPE
    USE_LOCALE_NUMERIC
    USE_LOCALE_TIME
    USE_LONG_DOUBLE
    USE_PERLIO
    USE_PERL_ATOF
    USE_REENTRANT_API
  Built under linux
  Compiled at Aug 25 2017 20:26:40
  %ENV:
    PERL5LIB="/tmp/loop_over_bdir-32552-iaSZYU/GraphViz-2.24-0/blib/arch:/tmp/loop_over_bdir-32552-iaSZYU/GraphViz-2.24-0/blib/lib:/tmp/loop_over_bdir-32552-iaSZYU/XML-XPath-1.42-0/blib/arch:/tmp/loop_over_bdir-32552-iaSZYU/XML-XPath-1.42-0/blib/lib:/tmp/loop_over_bdir-32552-iaSZYU/XML-Twig-3.52-0/blib/arch:/tmp/loop_over_bdir-32552-iaSZYU/XML-Twig-3.52-0/blib/lib:/tmp/loop_over_bdir-32552-iaSZYU/Data-Section-Simple-0.07-0/blib/arch:/tmp/loop_over_bdir-32552-iaSZYU/Data-Section-Simple-0.07-0/blib/lib"
    PERL5OPT=""
    PERL5_CPANPLUS_IS_RUNNING="32558"
    PERL5_CPAN_IS_RUNNING="32558"
    PERL5_CPAN_IS_RUNNING_IN_RECURSION="18372,32558"
    PERL_CANARY_STABILITY_NOPROMPT="1"
    PERL_MM_USE_DEFAULT="1"
    PERL_USE_UNSAFE_INC="1"
  @INC:
    /tmp/loop_over_bdir-32552-iaSZYU/GraphViz-2.24-0/blib/arch
    /tmp/loop_over_bdir-32552-iaSZYU/GraphViz-2.24-0/blib/lib
    /tmp/loop_over_bdir-32552-iaSZYU/XML-XPath-1.42-0/blib/arch
    /tmp/loop_over_bdir-32552-iaSZYU/XML-XPath-1.42-0/blib/lib
    /tmp/loop_over_bdir-32552-iaSZYU/XML-Twig-3.52-0/blib/arch
    /tmp/loop_over_bdir-32552-iaSZYU/XML-Twig-3.52-0/blib/lib
    /tmp/loop_over_bdir-32552-iaSZYU/Data-Section-Simple-0.07-0/blib/arch
    /tmp/loop_over_bdir-32552-iaSZYU/Data-Section-Simple-0.07-0/blib/lib
    /home/sand/src/perl/repoperls/installed-perls/host/k93msid/v5.27.2/5ea4/lib/site_perl/5.27.2/x86_64-linux-thread-multi-ld
    /home/sand/src/perl/repoperls/installed-perls/host/k93msid/v5.27.2/5ea4/lib/site_perl/5.27.2
    /home/sand/src/perl/repoperls/installed-perls/host/k93msid/v5.27.2/5ea4/lib/5.27.2/x86_64-linux-thread-multi-ld
    /home/sand/src/perl/repoperls/installed-perls/host/k93msid/v5.27.2/5ea4/lib/5.27.2
    .