Text-Template-Simple v0.91 Perl 5 v5.34.3 x86_64-linux-ld

Status
Pass
From
Andreas J. König (ANDK)
Dist
Text-Template-Simple v0.91
Platform
Perl 5 v5.34.3 x86_64-linux-ld
Date
2023-12-04 12:16:16
ID
ec81d34c-929e-11ee-b921-5068509adf0f
This distribution has been tested as part of the CPAN Testers
project, supporting the Perl programming language.  See
http://wiki.cpantesters.org/ for more information or email
questions to cpan-testers-discuss@perl.org


--
Dear Burak Gursoy,

This is a computer-generated report for Text-Template-Simple-0.91
on perl 5.34.3, created by CPAN-Reporter-1.2019.

Thank you for uploading your work to CPAN.  Congratulations!
All tests were successful.

Sections of this report:

    * Tester comments
    * Program output
    * Prerequisites
    * Environment and other context

------------------------------
TESTER COMMENTS
------------------------------

Additional comments from tester:

this report is from an automated smoke testing program
and was not reviewed by a human for accuracy

------------------------------
PROGRAM OUTPUT
------------------------------

Output from '/usr/bin/make test':

PERL_DL_NONLAZY=1 "/home/sand/src/perl/repoperls/installed-perls/host/k93msid/v5.34.3/af11/bin/perl" "-MExtUtils::Command::MM" "-MTest::Harness" "-e" "undef *Test::Harness::Switches; test_harness(0, 'blib/lib', 'blib/arch')" t/*.t
t/00-compile.t ....................... ok
# 
# Versions for all modules listed in MYMETA.json (including optional ones):
# 
# === Configure Requires ===
# 
#     Module              Want Have
#     ------------------- ---- ----
#     ExtUtils::MakeMaker  any 7.70
# 
# === Build Requires ===
# 
#     Module              Want Have
#     ------------------- ---- ----
#     ExtUtils::MakeMaker  any 7.70
# 
# === Test Requires ===
# 
#     Module              Want     Have
#     ------------------- ---- --------
#     ExtUtils::MakeMaker  any     7.70
#     File::Spec           any     3.80
#     IO::Handle           any     1.46
#     IPC::Open3           any     1.21
#     Test::More           any 1.302197
# 
# === Test Recommends ===
# 
#     Module         Want     Have
#     ---------- -------- --------
#     CPAN::Meta 2.120900 2.150010
# 
# === Runtime Requires ===
# 
#     Module      Want Have
#     ----------- ---- ----
#     Digest::MD5    1 2.58
# 
# === Runtime Recommends ===
# 
#     Module       Want    Have
#     ----------- ----- -------
#     Devel::Size  0.77    0.83
#     Perl::Tidy    any missing
#     Text::Table 1.107   1.135
# 
t/00-report-prereqs.t ................ ok
t/003-simple.t ....................... ok
t/004-extend.t ....................... ok
t/005-safe.t ......................... ok
t/006-iolayer.t ...................... ok
t/007-stack.t ........................ ok
t/008-escape-delim.t ................. ok
t/009-subclass.t ..................... ok
t/010-subclass-define-bufvar.t ....... ok
t/011-cache-mem.t .................... ok
t/012-cache-disk.t ................... ok
t/013-cache-other.t .................. ok
t/015-connector.t .................... ok
t/016-include-static.t ............... ok
t/017-include-dynamic.t .............. ok
t/018-include-dynamic-recursive.t .... ok
t/019-dynamic-static-interpolate.t ... ok
t/020-fake-include-recursive.t ....... ok
t/021-comment.t ...................... ok
t/022-monolith.t ..................... ok
t/023-change-delims.t ................ ok
t/024-include-paths.t ................ ok
t/025-chomp.t ........................ ok
t/026-template-name-dollar-zero.t .... ok
t/027-include-param.t ................ ok
t/028-include-filter.t ............... ok
t/029-block-filter.t ................. ok
t/030-toke-substr.t .................. ok
t/031-capture-warnings.t ............. ok
t/032-empty-includes.t ............... ok
t/033-dynamic-include-shared-vars.t .. ok
t/author-pod-coverage.t .............. skipped: these tests are for testing by the author
t/author-pod-syntax.t ................ skipped: these tests are for testing by the author
t/release-distmeta.t ................. skipped: these tests are for release candidate testing
All tests successful.
Files=35, Tests=345,  5 wallclock secs ( 0.10 usr  0.06 sys +  3.14 cusr  0.75 csys =  4.05 CPU)
Result: PASS

------------------------------
PREREQUISITES
------------------------------

Prerequisite modules loaded:

requires:

    Module              Need  Have    
    ------------------- ----- --------
    Digest::MD5         1     2.58    
    perl                5.010 5.034003

build_requires:

    Module              Need  Have    
    ------------------- ----- --------
    ExtUtils::MakeMaker 0     7.70    
    File::Spec          0     3.80    
    IO::Handle          0     1.46    
    IPC::Open3          0     1.21    
    Test::More          0     1.302197

configure_requires:

    Module              Need  Have    
    ------------------- ----- --------
    ExtUtils::MakeMaker 0     7.70    

opt_requires:

    Module              Need  Have    
    ------------------- ----- --------
    Devel::Size         0.77  0.83    
  ! Perl::Tidy          0     n/a     
    Text::Table         1.107 1.135   


------------------------------
ENVIRONMENT AND OTHER CONTEXT
------------------------------

Environment variables:

    AUTOMATED_TESTING = 1
    LANG = en_US.UTF-8
    LANGUAGE = en_US:en
    PATH = /home/sand/bin:/usr/local/bin:/usr/bin:/bin:/usr/games:/usr/local/perl/bin:/usr/X11/bin:/sbin:/usr/sbin
    PERL5LIB = 
    PERL5OPT = 
    PERL5_CPANPLUS_IS_RUNNING = 1240837
    PERL5_CPAN_IS_RUNNING = 1240837
    PERL_CANARY_STABILITY_NOPROMPT = 1
    PERL_MM_USE_DEFAULT = 1
    PERL_USE_UNSAFE_INC = 1
    SHELL = /usr/bin/zsh
    TERM = screen

Perl special variables (and OS-specific diagnostics, for MSWin32):

    $^X = /home/sand/src/perl/repoperls/installed-perls/host/k93msid/v5.34.3/af11/bin/perl
    $UID/$EUID = 1005 / 1005
    $GID = 1005 1005
    $EGID = 1005 1005

Perl module toolchain versions installed:

    Module              Have    
    ------------------- --------
    CPAN                2.36    
    CPAN::Meta          2.150010
    Cwd                 3.80    
    ExtUtils::CBuilder  0.280236
    ExtUtils::Command   7.70    
    ExtUtils::Install   2.20    
    ExtUtils::MakeMaker 7.70    
    ExtUtils::Manifest  1.73    
    ExtUtils::ParseXS   3.43    
    File::Spec          3.80    
    JSON                4.10    
    JSON::PP            4.16    
    Module::Build       0.4234  
    Module::Signature   0.88    
    Parse::CPAN::Meta   2.150010
    Test2               1.302197
    Test::Harness       3.48    
    Test::More          1.302197
    YAML                1.30    
    YAML::Syck          1.34    
    version             0.9930  


--

Summary of my perl5 (revision 5 version 34 subversion 3) configuration:
  Commit id: 81db88e83a981f603c5207a1fc4cc41da8dd5d79
  Platform:
    osname=linux
    osvers=6.5.0-4-amd64
    archname=x86_64-linux-ld
    uname='linux k93msid 6.5.0-4-amd64 #1 smp preempt_dynamic debian 6.5.10-1 (2023-11-03) x86_64 gnulinux '
    config_args='-Dprefix=/home/sand/src/perl/repoperls/installed-perls/host/k93msid/v5.34.3/af11 -Dmyhostname=k93msid -Dinstallusrbinperl=n -Uversiononly -Dusedevel -des -Ui_db -Dlibswanted=cl pthread socket inet nsl gdbm dbm malloc dl ld sun m crypt sec util c cposix posix ucb BSD gdbm_compat -Uuseithreads -Duselongdouble -DEBUGGING=-g'
    hint=recommended
    useposix=true
    d_sigaction=define
    useithreads=undef
    usemultiplicity=undef
    use64bitint=define
    use64bitall=define
    uselongdouble=define
    usemymalloc=n
    default_inc_excludes_dot=define
  Compiler:
    cc='cc'
    ccflags ='-fwrapv -fno-strict-aliasing -pipe -fstack-protector-strong -I/usr/local/include -D_LARGEFILE_SOURCE -D_FILE_OFFSET_BITS=64 -D_FORTIFY_SOURCE=2'
    optimize='-O2 -g'
    cppflags='-fwrapv -fno-strict-aliasing -pipe -fstack-protector-strong -I/usr/local/include'
    ccversion=''
    gccversion='13.2.0'
    gccosandvers=''
    intsize=4
    longsize=8
    ptrsize=8
    doublesize=8
    byteorder=12345678
    doublekind=3
    d_longlong=define
    longlongsize=8
    d_longdbl=define
    longdblsize=16
    longdblkind=3
    ivtype='long'
    ivsize=8
    nvtype='long double'
    nvsize=16
    Off_t='off_t'
    lseeksize=8
    alignbytes=16
    prototype=define
  Linker and Libraries:
    ld='cc'
    ldflags =' -fstack-protector-strong -L/usr/local/lib'
    libpth=/usr/local/lib /usr/lib/x86_64-linux-gnu /usr/lib /usr/lib64
    libs=-lpthread -lnsl -ldl -lm -lcrypt -lutil -lc
    perllibs=-lpthread -lnsl -ldl -lm -lcrypt -lutil -lc
    libc=/lib/x86_64-linux-gnu/libc.so.6
    so=so
    useshrplib=false
    libperl=libperl.a
    gnulibc_version='2.37'
  Dynamic Linking:
    dlsrc=dl_dlopen.xs
    dlext=so
    d_dlsymun=undef
    ccdlflags='-Wl,-E'
    cccdlflags='-fPIC'
    lddlflags='-shared -O2 -g -L/usr/local/lib -fstack-protector-strong'


Characteristics of this binary (from libperl): 
  Compile-time options:
    HAS_TIMES
    PERLIO_LAYERS
    PERL_COPY_ON_WRITE
    PERL_DONT_CREATE_GVSV
    PERL_MALLOC_WRAP
    PERL_OP_PARENT
    PERL_PRESERVE_IVUV
    PERL_USE_DEVEL
    USE_64_BIT_ALL
    USE_64_BIT_INT
    USE_LARGE_FILES
    USE_LOCALE
    USE_LOCALE_COLLATE
    USE_LOCALE_CTYPE
    USE_LOCALE_NUMERIC
    USE_LOCALE_TIME
    USE_LONG_DOUBLE
    USE_PERLIO
    USE_PERL_ATOF
  Built under linux
  Compiled at Nov 30 2023 11:28:44
  %ENV:
    PERL5LIB=""
    PERL5OPT=""
    PERL5_CPANPLUS_IS_RUNNING="1240837"
    PERL5_CPAN_IS_RUNNING="1240837"
    PERL_CANARY_STABILITY_NOPROMPT="1"
    PERL_MM_USE_DEFAULT="1"
    PERL_USE_UNSAFE_INC="1"
  @INC:
    /home/sand/src/perl/repoperls/installed-perls/host/k93msid/v5.34.3/af11/lib/site_perl/5.34.3/x86_64-linux-ld
    /home/sand/src/perl/repoperls/installed-perls/host/k93msid/v5.34.3/af11/lib/site_perl/5.34.3
    /home/sand/src/perl/repoperls/installed-perls/host/k93msid/v5.34.3/af11/lib/5.34.3/x86_64-linux-ld
    /home/sand/src/perl/repoperls/installed-perls/host/k93msid/v5.34.3/af11/lib/5.34.3
    .