Back
From: metabase:user:30ae4450-2aae-11df-837a-5e0a49663a4f
Subject: PASS Soar-Production-0.03 v5.16.1
Date: 2013-10-18T15:26:27Z
This distribution has been tested as part of the CPAN Testers
project, supporting the Perl programming language. See
http://wiki.cpantesters.org/ for more information or email
questions to cpan-testers-discuss@perl.org
--
Dear Nathan Gary Glenn,
This is a computer-generated report for Soar-Production-0.03
on perl 5.16.1, created by CPAN-Reporter-1.2010_01.
Thank you for uploading your work to CPAN. Congratulations!
All tests were successful.
Sections of this report:
* Tester comments
* Program output
* Prerequisites
* Environment and other context
------------------------------
TESTER COMMENTS
------------------------------
Additional comments from tester:
this report is from an automated smoke testing program
and was not reviewed by a human for accuracy
------------------------------
PROGRAM OUTPUT
------------------------------
Output from 'C:\strawberry5161\perl\bin\perl.exe ./Build test':
t/0-use.t ........................ ok
t/00-compile.t ................... ok
#
#
# Generated by Dist::Zilla::Plugin::ReportVersions::Tiny v1.08
# perl: 5.016001 (wanted 5.010) on MSWin32 from C:\strawberry5161\perl\bin\perl.exe
#
# Carp => 1.26 (want any version)
# Data::Diver => 1.0101 (want any version)
# Data::Dumper => 2.135_06 (want any version)
# Exporter::Easy => 0.16 (want any version)
# File::Find => 1.20 (want any version)
# File::Spec => 3.40 (want any version)
# File::Spec::Functions => 3.40 (want any version)
# File::Temp => 0.22 (want any version)
# FindBin => 1.51 (want any version)
# Module::Build => 0.4007 (want 0.3601)
# Parse::RecDescent => 1.967009 (want any version)
# Path::Tiny => 0.040 (want any version)
# Pod::Coverage::TrustPod => 0.100002 (want any version)
# Test::Base => 0.60 (want any version)
# Test::Base::Filter => <undef> (want any version)
# Test::CPAN::Meta => 0.23 (want any version)
# Test::Deep => 0.11 (want any version)
# Test::Exception => 0.31 (want any version)
# Test::LongString => 0.15 (want any version)
# Test::More => 0.98 (want 0.88)
# Test::Pod => 1.48 (want 1.41)
# Test::Pod::Coverage => 1.08 (want 1.08)
# Test::Warn => 0.24 (want any version)
# strict => 1.07 (want any version)
# utf8 => 1.09 (want any version)
# version => 0.9904 (want 0.9901)
# warnings => 1.13 (want any version)
#
# Thanks for using my code. I hope it works for you.
# If not, please try and include this output in the bug report.
# That will help me reproduce the issue and solve your problem.
#
t/000-report-versions-tiny.t ..... ok
t/1-basic.t ...................... ok
t/parser/00-use.t ................ ok
t/parser/01-bad_input.t .......... ok
t/parser/01_5-comments.t ......... ok
t/parser/02-split-productions.t .. ok
Subroutine main::is redefined at t/parser/03-production-names.t line 4.
t/parser/03-production-names.t ... ok
Subroutine main::is redefined at t/parser/04-documentation.t line 5.
t/parser/04-documentation.t ...... ok
Subroutine main::is redefined at t/parser/05-Flags.t line 5.
t/parser/05-Flags.t .............. ok
Subroutine main::is redefined at t/parser/06-State.t line 6.
t/parser/06-State.t .............. ok
Subroutine main::is redefined at t/parser/07-variables.t line 6.
t/parser/07-variables.t .......... ok
Subroutine main::is redefined at t/parser/08-attributes.t line 6.
t/parser/08-attributes.t ......... ok
Subroutine main::is redefined at t/parser/09-int.t line 6.
t/parser/09-int.t ................ ok
Subroutine main::is redefined at t/parser/10-float.t line 6.
t/parser/10-float.t .............. ok
Subroutine main::is redefined at t/parser/11-string.t line 5.
t/parser/11-string.t ............. ok
Subroutine main::is redefined at t/parser/12-quoted.t line 5.
t/parser/12-quoted.t ............. ok
Subroutine main::is redefined at t/parser/13-disjunct.t line 5.
t/parser/13-disjunct.t ........... ok
Subroutine main::is redefined at t/parser/14-conjunct.t line 5.
t/parser/14-conjunct.t ........... ok
Subroutine main::is redefined at t/parser/15-predicate.t line 5.
t/parser/15-predicate.t .......... ok
Subroutine main::is redefined at t/parser/16-preference.t line 6.
t/parser/16-preference.t ......... ok
Subroutine main::is redefined at t/parser/17-function.t line 5.
t/parser/17-function.t ........... ok
Subroutine main::is redefined at t/parser/18-negative.t line 5.
t/parser/18-negative.t ........... ok
Subroutine main::is redefined at t/parser/19-conjunctiveCond.t line 5.
t/parser/19-conjunctiveCond.t .... ok
t/parser/20-test_data.t .......... ok
t/printer/0-use.t ................ ok
t/printer/1-test_data.t .......... ok
All tests successful.
Files=28, Tests=1816, 150 wallclock secs ( 0.01 usr + 0.22 sys = 0.23 CPU)
Result: PASS
------------------------------
PREREQUISITES
------------------------------
Prerequisite modules loaded:
requires:
Module Need Have
--------------------- ------ --------
Carp 0 1.26
Data::Dumper 0 2.135_06
Exporter::Easy 0 0.16
Parse::RecDescent 0 1.967009
perl 5.010 5.016001
strict 0 1.07
warnings 0 1.13
build_requires:
Module Need Have
--------------------- ------ --------
Data::Diver 0 1.0101
File::Find 0 1.20
File::Spec 0 3.40
File::Spec::Functions 0 3.40
File::Temp 0 0.22
FindBin 0 1.51
Module::Build 0.3601 0.4007
Path::Tiny 0 0.040
Test::Base 0 0.60
Test::Base::Filter 0 0
Test::Deep 0 0.110
Test::Exception 0 0.31
Test::LongString 0 0.15
Test::More 0.88 0.98
Test::Warn 0 0.24
utf8 0 1.09
configure_requires:
Module Need Have
--------------------- ------ --------
Module::Build 0.3601 0.4007
------------------------------
ENVIRONMENT AND OTHER CONTEXT
------------------------------
Environment variables:
AUTOMATED_TESTING = 1
COMSPEC = C:\WINDOWS\system32\cmd.exe
NUMBER_OF_PROCESSORS = 1
PATH = C:\Program Files\Far Manager\;C:\WINDOWS\system32;C:\WINDOWS;C:\WINDOWS\System32\Wbem;C:\strawberry5161\c\bin;C:\strawberry5161\perl\site\bin;C:\strawberry5161\perl\bin
PERL5LIB = C:\strawberry5161\cpan\build\Data-Diver-1.0101-zBeOJz/blib/arch;C:\strawberry5161\cpan\build\Data-Diver-1.0101-zBeOJz/blib/lib
PERL5OPT =
PERL5_CPANPLUS_IS_RUNNING = 728
PERL5_CPAN_IS_RUNNING = 728
PERL5_CPAN_IS_RUNNING_IN_RECURSION = 1760,728
PERL_CR_SMOKER_CURRENT = Soar-Production-0.03
PERL_EXTUTILS_AUTOINSTALL = --defaultdeps
PERL_MM_USE_DEFAULT = 1
PROCESSOR_IDENTIFIER = x86 Family 16 Model 5 Stepping 3, AuthenticAMD
TEMP = C:\DOCUME~1\c\LOCALS~1\Temp
TERM = dumb
Perl special variables (and OS-specific diagnostics, for MSWin32):
$^X = C:\strawberry5161\perl\bin\perl.exe
$UID/$EUID = 0 / 0
$GID = 0
$EGID = 0
Win32::GetOSName = WinXP/.Net
Win32::GetOSVersion = Service Pack 3, 5, 1, 2600, 2, 3, 0, 256, 1
Win32::FsType = NTFS
Win32::IsAdminUser = 1
Perl module toolchain versions installed:
Module Have
------------------- --------
CPAN 2.00
CPAN::Meta 2.132661
Cwd 3.40
ExtUtils::CBuilder 0.280206
ExtUtils::Command 1.17
ExtUtils::Install 1.58
ExtUtils::MakeMaker 6.63_02
ExtUtils::Manifest 1.61
ExtUtils::ParseXS 3.16
File::Spec 3.40
JSON 2.59
JSON::PP 2.27200
Module::Build 0.4007
Module::Signature 0.68
Parse::CPAN::Meta 1.4404
Test::Harness 3.29
Test::More 0.98
YAML 0.84
YAML::Syck 1.27
version 0.9904
--
Summary of my perl5 (revision 5 version 16 subversion 1) configuration:
Platform:
osname=MSWin32, osvers=4.0, archname=MSWin32-x86-multi-thread
uname='Win32 strawberry-perl 5.16.1.1 #1 Thu Aug 9 09:54:46 2012 i386'
config_args='undef'
hint=recommended, useposix=true, d_sigaction=undef
useithreads=define, usemultiplicity=define
useperlio=define, d_sfio=undef, uselargefiles=define, usesocks=undef
use64bitint=undef, use64bitall=undef, uselongdouble=undef
usemymalloc=n, bincompat5005=undef
Compiler:
cc='gcc', ccflags =' -s -O2 -DWIN32 -DPERL_TEXTMODE_SCRIPTS -DPERL_IMPLICIT_CONTEXT -DPERL_IMPLICIT_SYS -fno-strict-aliasing -mms-bitfields',
optimize='-s -O2',
cppflags='-DWIN32'
ccversion='', gccversion='4.6.3', gccosandvers=''
intsize=4, longsize=4, ptrsize=4, doublesize=8, byteorder=1234
d_longlong=undef, longlongsize=8, d_longdbl=define, longdblsize=12
ivtype='long', ivsize=4, nvtype='double', nvsize=8, Off_t='long long', lseeksize=8
alignbytes=8, prototype=define
Linker and Libraries:
ld='g++', ldflags ='-s -L"C:\strawberry5161\perl\lib\CORE" -L"C:\strawberry5161\c\lib"'
libpth=C:\strawberry5161\c\lib C:\strawberry5161\c\i686-w64-mingw32\lib
libs=-lmoldname -lkernel32 -luser32 -lgdi32 -lwinspool -lcomdlg32 -ladvapi32 -lshell32 -lole32 -loleaut32 -lnetapi32 -luuid -lws2_32 -lmpr -lwinmm -lversion -lodbc32 -lodbccp32 -lcomctl32
perllibs=-lmoldname -lkernel32 -luser32 -lgdi32 -lwinspool -lcomdlg32 -ladvapi32 -lshell32 -lole32 -loleaut32 -lnetapi32 -luuid -lws2_32 -lmpr -lwinmm -lversion -lodbc32 -lodbccp32 -lcomctl32
libc=, so=dll, useshrplib=true, libperl=libperl516.a
gnulibc_version=''
Dynamic Linking:
dlsrc=dl_win32.xs, dlext=dll, d_dlsymun=undef, ccdlflags=' '
cccdlflags=' ', lddlflags='-mdll -s -L"C:\strawberry5161\perl\lib\CORE" -L"C:\strawberry5161\c\lib"'
Characteristics of this binary (from libperl):
Compile-time options: HAS_TIMES HAVE_INTERP_INTERN MULTIPLICITY
PERLIO_LAYERS PERL_DONT_CREATE_GVSV
PERL_IMPLICIT_CONTEXT PERL_IMPLICIT_SYS
PERL_MALLOC_WRAP PERL_PRESERVE_IVUV PL_OP_SLAB_ALLOC
USE_ITHREADS USE_LARGE_FILES USE_LOCALE
USE_LOCALE_COLLATE USE_LOCALE_CTYPE
USE_LOCALE_NUMERIC USE_PERLIO USE_PERL_ATOF
Built under MSWin32
Compiled at Aug 9 2012 10:03:09
%ENV:
PERL5LIB="C:\strawberry5161\cpan\build\Data-Diver-1.0101-zBeOJz/blib/arch;C:\strawberry5161\cpan\build\Data-Diver-1.0101-zBeOJz/blib/lib"
PERL5_CPANPLUS_IS_RUNNING="728"
PERL5_CPAN_IS_RUNNING="728"
PERL5_CPAN_IS_RUNNING_IN_RECURSION="1760,728"
PERL_CR_SMOKER_CURRENT="Soar-Production-0.03"
PERL_EXTUTILS_AUTOINSTALL="--defaultdeps"
PERL_MM_USE_DEFAULT="1"
@INC:
C:\strawberry5161\cpan\build\Data-Diver-1.0101-zBeOJz/blib/arch
C:\strawberry5161\cpan\build\Data-Diver-1.0101-zBeOJz/blib/lib
C:/strawberry5161/perl/site/lib
C:/strawberry5161/perl/vendor/lib
C:/strawberry5161/perl/lib
.