Catalyst-Authentication-Credential-HTTP v1.018 Perl 5 v5.24.1 darwin-thread-multi-2level

Status
Pass
From
Gary Greene
Dist
Catalyst-Authentication-Credential-HTTP v1.018
Platform
Perl 5 v5.24.1 darwin-thread-multi-2level
Date
2019-05-22 15:47:38
ID
eccbc2ba-7ca8-11e9-9a2e-875d88a0af96
This distribution has been tested as part of the CPAN Testers
project, supporting the Perl programming language.  See
http://wiki.cpantesters.org/ for more information or email
questions to cpan-testers-discuss@perl.org


--
Dear Karen Etheridge,

This is a computer-generated report for Catalyst-Authentication-Credential-HTTP-1.018
on perl 5.24.1, created by CPAN-Reporter-1.2018.

Thank you for uploading your work to CPAN.  Congratulations!
All tests were successful.

Sections of this report:

    * Tester comments
    * Program output
    * Prerequisites
    * Environment and other context

------------------------------
TESTER COMMENTS
------------------------------

Additional comments from tester:

none provided

------------------------------
PROGRAM OUTPUT
------------------------------

Output from './Build test':

# 
# Versions for all modules listed in MYMETA.json (including optional ones):
# 
# === Configure Requires ===
# 
#     Module               Want  Have
#     ------------------- ----- -----
#     Module::Build::Tiny 0.034 0.039
# 
# === Test Requires ===
# 
#     Module                    Want       Have
#     ------------------------- ---- ----------
#     Catalyst::Controller       any      undef
#     File::Spec                 any       3.75
#     FindBin                    any       1.51
#     HTTP::Headers              any       6.18
#     HTTP::Request              any       6.18
#     Module::Metadata           any   1.000036
#     Test::Exception            any       0.43
#     Test::MockObject           any 1.20180705
#     Test::MockObject::Extends  any 1.20180705
#     Test::More                 any   1.302164
#     Test::Needs                any   0.002006
#     lib                        any       0.63
# 
# === Test Recommends ===
# 
#     Module         Want     Have
#     ---------- -------- --------
#     CPAN::Meta 2.120900 2.150010
# 
# === Runtime Requires ===
# 
#     Module                                            Want     Have
#     ---------------------------------------------- ------- --------
#     Catalyst                                           any  5.90124
#     Catalyst::Authentication::Credential::Password     any    undef
#     Catalyst::Plugin::Authentication               0.10005  0.10023
#     Class::Accessor::Fast                              any     0.51
#     Data::UUID                                        0.11    1.224
#     Digest::MD5                                        any     2.55
#     String::Escape                                     any 2010.002
#     URI::Escape                                        any     3.31
#     base                                               any     2.23
#     strict                                             any     1.11
#     warnings                                           any     1.36
# 
# === Other Modules ===
# 
#     Module        Have
#     ------------- ----
#     JSON::PP      4.02
#     Pod::Coverage 0.23
#     Sub::Name     0.21
#     YAML          1.29
#     autodie       2.29
# 
t/00-report-prereqs.t ....... ok
# Catalyst 5.90124
# Catalyst::Plugin::Authentication 0.10023
# Catalyst::Authentication::Credential::HTTP 1.018
t/00use.t ................... ok
t/basic.t ................... ok
t/live_app.t ................ ok
t/live_app_digest.t ......... skipped: Need Catalyst::Plugin::Cache
t/live_app_digest_dotnet.t .. skipped: Need Catalyst::Plugin::Cache
All tests successful.
Files=6, Tests=45,  3 wallclock secs ( 0.03 usr  0.01 sys +  2.36 cusr  0.23 csys =  2.63 CPU)
Result: PASS

------------------------------
PREREQUISITES
------------------------------

Prerequisite modules loaded:

requires:

    Module                                         Need     Have      
    ---------------------------------------------- -------- ----------
    base                                           0        2.23      
    Catalyst                                       0        5.90124   
    Catalyst::Authentication::Credential::Password 0        0         
    Catalyst::Plugin::Authentication               0.10005  0.10023   
    Class::Accessor::Fast                          0        0.51      
    Data::UUID                                     0.11     1.224     
    Digest::MD5                                    0        2.55      
    perl                                           5.006    5.024001  
    strict                                         0        1.11      
    String::Escape                                 0        2010.002  
    URI::Escape                                    0        3.31      
    warnings                                       0        1.36      

build_requires:

    Module                                         Need     Have      
    ---------------------------------------------- -------- ----------
    Catalyst::Controller                           0        0         
    File::Spec                                     0        3.75      
    FindBin                                        0        1.51      
    HTTP::Headers                                  0        6.18      
    HTTP::Request                                  0        6.18      
    lib                                            0        0.63      
    Module::Metadata                               0        1.000036  
    perl                                           5.006    5.024001  
    Test::Exception                                0        0.43      
    Test::MockObject                               0        1.20180705
    Test::MockObject::Extends                      0        1.20180705
    Test::More                                     0        1.302164  
    Test::Needs                                    0        0.002006  

configure_requires:

    Module                                         Need     Have      
    ---------------------------------------------- -------- ----------
    Module::Build::Tiny                            0.034    0.039     
    perl                                           5.006    5.024001  

opt_build_requires:

    Module                                         Need     Have      
    ---------------------------------------------- -------- ----------
    CPAN::Meta                                     2.120900 2.150010  


------------------------------
ENVIRONMENT AND OTHER CONTEXT
------------------------------

Environment variables:

    LANG = en_US.UTF-8
    LC_ALL = en_US.UTF-8
    LC_CTYPE = C
    PATH = /opt/Perl/bin:/opt/Perl/sbin:/opt/google/kubernetes/bin:/opt/coreos/bin:/opt/coreos/sbin:/opt/packer/bin:/opt/vagrant/bin:/Applications/VirtualBox.app/Contents/MacOS/:/Users/ggreen99/.chefdk/gem/ruby/2.3.0/bin:/Users/ggreen99/bin:/opt/chefdk/bin:/opt/chefdk/embedded/bin:/opt/X11/bin:/usr/local/go/bin:/opt/local/bin:/opt/local/sbin:/opt/local/libexec/gnubin:/opt/local/libexec/qt4/bin:/opt/local/Library/Frameworks/wxWidgets.framework/Versions/wxWidgets/3.1/bin:/usr/local/mysql/bin:/Users/ggreene99/Development/hrs:/bin:/sbin:/usr/bin:/usr/sbin:/usr/local/bin:/usr/local/sbin:/Users/ggreen99/.rvm/bin
    PERL5LIB = 
    PERL5OPT = 
    PERL5_CPANPLUS_IS_RUNNING = 10149
    PERL5_CPAN_IS_RUNNING = 10149
    PERL_USE_UNSAFE_INC = 1
    SHELL = /bin/zsh
    TERM = xterm
    TMPDIR = /var/folders/rz/kxg21j6s3nd00x242vzhlmtd3ybnw8/T/

Perl special variables (and OS-specific diagnostics, for MSWin32):

    $^X = /opt/Perl/bin/perl
    $UID/$EUID = 1206245256 / 1206245256
    $GID = 998356008 998356008 702 206 12 62 79 80 81 98 503 109106038 574656082 817903461 1211601704 1280871927 1655261767
    $EGID = 998356008 998356008 702 206 12 62 79 80 81 98 503 109106038 574656082 817903461 1211601704 1280871927 1655261767

Perl module toolchain versions installed:

    Module              Have    
    ------------------- --------
    CPAN                2.26    
    CPAN::Meta          2.150010
    Cwd                 3.75    
    ExtUtils::CBuilder  0.280231
    ExtUtils::Command   7.36    
    ExtUtils::Install   2.14    
    ExtUtils::MakeMaker 7.36    
    ExtUtils::Manifest  1.72    
    ExtUtils::ParseXS   3.35    
    File::Spec          3.75    
    JSON                4.02    
    JSON::PP            4.02    
    Module::Build       0.4229  
    Module::Signature   0.83    
    Parse::CPAN::Meta   2.150010
    Test::Harness       3.42    
    Test::More          1.302164
    YAML                1.29    
    YAML::Syck          1.31    
    version             0.9924  


--

Summary of my perl5 (revision 5 version 24 subversion 1) configuration:
   
  Platform:
    osname=darwin, osvers=16.6.0, archname=darwin-thread-multi-2level
    uname='darwin mgc000002952.fmcc.ford.com 16.6.0 darwin kernel version 16.6.0: fri apr 14 16:21:16 pdt 2017; root:xnu-3789.60.24~6release_x86_64 x86_64 i386 macbookpro13,3 darwin '
    config_args=''
    hint=previous, useposix=true, d_sigaction=define
    useithreads=define, usemultiplicity=define
    use64bitint=define, use64bitall=define, uselongdouble=undef
    usemymalloc=n, bincompat5005=undef
  Compiler:
    cc='cc', ccflags ='-fno-common -DPERL_DARWIN -mmacosx-version-min=10.12 -fno-strict-aliasing -pipe -fstack-protector-strong -I/opt/local/include -DPERL_USE_SAFE_PUTENV -Werror=partial-availability',
    optimize='-O3',
    cppflags='-fno-common -DPERL_DARWIN -mmacosx-version-min=10.12 -fno-strict-aliasing -pipe -fstack-protector-strong -I/opt/local/include'
    ccversion='', gccversion='4.2.1 Compatible Apple LLVM 8.1.0 (clang-802.0.41)', gccosandvers=''
    intsize=4, longsize=8, ptrsize=8, doublesize=8, byteorder=12345678, doublekind=3
    d_longlong=define, longlongsize=8, d_longdbl=define, longdblsize=16, longdblkind=3
    ivtype='long', ivsize=8, nvtype='double', nvsize=8, Off_t='off_t', lseeksize=8
    alignbytes=8, prototype=define
  Linker and Libraries:
    ld='cc', ldflags =' -mmacosx-version-min=10.12 -fstack-protector-strong -L/usr/local/lib -L/opt/local/lib'
    libpth=/Applications/Xcode.app/Contents/Developer/Toolchains/XcodeDefault.xctoolchain/usr/bin/../lib/clang/8.1.0/lib /Applications/Xcode.app/Contents/Developer/Toolchains/XcodeDefault.xctoolchain/usr/lib /usr/lib /usr/local/lib /opt/local/lib /Applications/Xcode.app/Contents/Developer/Toolchains/XcodeDefault.xctoolchain/usr/bin/../lib/clang/8.1.0/lib /Applications/Xcode.app/Contents/Developer/Toolchains/XcodeDefault.xctoolchain/usr/lib /usr/lib
    libs=-lpthread -lgdbm -ldbm -ldl -lm -lutil -lc
    perllibs=-lpthread -ldl -lm -lutil -lc
    libc=, so=dylib, useshrplib=false, libperl=libperl.a
    gnulibc_version=''
  Dynamic Linking:
    dlsrc=dl_dlopen.xs, dlext=bundle, d_dlsymun=undef, ccdlflags=' '
    cccdlflags=' ', lddlflags=' -mmacosx-version-min=10.12 -bundle -undefined dynamic_lookup -L/usr/local/lib -L/opt/local/lib -fstack-protector-strong'


Characteristics of this binary (from libperl): 
  Compile-time options: HAS_TIMES MULTIPLICITY PERLIO_LAYERS
                        PERL_COPY_ON_WRITE PERL_DONT_CREATE_GVSV
                        PERL_HASH_FUNC_ONE_AT_A_TIME_HARD
                        PERL_IMPLICIT_CONTEXT PERL_MALLOC_WRAP
                        PERL_PRESERVE_IVUV PERL_USE_SAFE_PUTENV
                        USE_64_BIT_ALL USE_64_BIT_INT USE_ITHREADS
                        USE_LARGE_FILES USE_LOCALE USE_LOCALE_COLLATE
                        USE_LOCALE_CTYPE USE_LOCALE_NUMERIC USE_LOCALE_TIME
                        USE_PERLIO USE_PERL_ATOF
  Built under darwin
  Compiled at May 22 2017 11:02:38
  %ENV:
    PERL5LIB=""
    PERL5OPT=""
    PERL5_CPANPLUS_IS_RUNNING="10149"
    PERL5_CPAN_IS_RUNNING="10149"
    PERL_USE_UNSAFE_INC="1"
  @INC:
    /opt/Perl/lib/perl5/site_perl/5.24.1/darwin-thread-multi-2level
    /opt/Perl/lib/perl5/site_perl/5.24.1
    /opt/Perl/lib/perl5/5.24.1/darwin-thread-multi-2level
    /opt/Perl/lib/perl5/5.24.1
    .