Crypt-OpenSSL-RSA v0.30 Perl 5 v5.8.5 arm-freebsd-thread-multi

Status
Pass
From
Nigel Horne
Dist
Crypt-OpenSSL-RSA v0.30
Platform
Perl 5 v5.8.5 arm-freebsd-thread-multi
Date
2018-05-10 07:51:19
ID
ecd8aae4-5426-11e8-9da6-f703c768dc7a
This distribution has been tested as part of the CPAN Testers
project, supporting the Perl programming language.  See
http://wiki.cpantesters.org/ for more information or email
questions to cpan-testers-discuss@perl.org


--
Dear Todd Rinaldo,

This is a computer-generated report for Crypt-OpenSSL-RSA-0.30
on perl 5.8.5, created by CPAN-Reporter-1.2018.

Thank you for uploading your work to CPAN.  Congratulations!
All tests were successful.

Sections of this report:

    * Tester comments
    * Program output
    * Prerequisites
    * Environment and other context

------------------------------
TESTER COMMENTS
------------------------------

Additional comments from tester:

this report is from an automated smoke testing program
and was not reviewed by a human for accuracy

------------------------------
PROGRAM OUTPUT
------------------------------

Output from '/usr/bin/make test':

"/home/njh/perl5/perlbrew/perls/perl-5.8.5/bin/perl5.8.5" -MExtUtils::Command::MM -e 'cp_nonempty' -- RSA.bs blib/arch/auto/Crypt/OpenSSL/RSA/RSA.bs 644
PERL_DL_NONLAZY=1 "/home/njh/perl5/perlbrew/perls/perl-5.8.5/bin/perl5.8.5" "-MExtUtils::Command::MM" "-MTest::Harness" "-e" "undef *Test::Harness::Switches; test_harness(0, 'blib/lib', 'blib/arch')" t/*.t
t/format.t .................. ok
t/bignum.t .................. skipped: Crypt::OpenSSL::Bignum required for bignum tests
t/z_kwalitee.t .............. skipped: This test is only run for the module author
t/z_meta.t .................. skipped: This test is only run for the module author
t/z_perl_minimum_version.t .. skipped: Author tests not required for installation
t/z_pod.t ................... skipped: This test is only run for the module author
t/z_pod-coverage.t .......... skipped: This test is only run for the module author
t/rsa.t ..................... ok
All tests successful.
Files=8, Tests=73,  4 wallclock secs ( 0.46 usr  0.23 sys +  8.49 cusr  3.08 csys = 12.26 CPU)
Result: PASS

------------------------------
PREREQUISITES
------------------------------

Prerequisite modules loaded:

requires:

    Module                 Need  Have    
    ---------------------- ----- --------
    Crypt::OpenSSL::Random 0     0.15    
    perl                   5.006 5.008005
    Test::More             0     1.302136

build_requires:

    Module                 Need  Have    
    ---------------------- ----- --------
    ExtUtils::MakeMaker    0     7.24    

configure_requires:

    Module                 Need  Have    
    ---------------------- ----- --------
    Crypt::OpenSSL::Guess  0.11  0.11    
    ExtUtils::MakeMaker    0     7.24    


------------------------------
ENVIRONMENT AND OTHER CONTEXT
------------------------------

Environment variables:

    AUTOMATED_TESTING = 1
    HARNESS_OPTIONS = j4
    PATH = /home/njh/perl5/perlbrew/bin:/home/njh/perl5/perlbrew/perls/perl-5.8.5/bin:/usr/local/bin:/bin:/usr/bin:src/njh/smoker/bin
    PERL5LIB = /tmp/build/Crypt-OpenSSL-Random-0.15-0/blib/arch:/tmp/build/Crypt-OpenSSL-Random-0.15-0/blib/lib:/tmp/build/Crypt-OpenSSL-Guess-0.11-0/blib/arch:/tmp/build/Crypt-OpenSSL-Guess-0.11-0/blib/lib:/tmp/build/Mail-AuthenticationResults-1.20180328-0/blib/arch:/tmp/build/Mail-AuthenticationResults-1.20180328-0/blib/lib:/tmp/build/ClamAV-Client-0.11-0/blib/arch:/tmp/build/ClamAV-Client-0.11-0/blib/lib:/tmp/build/Error-0.17025-0/blib/arch:/tmp/build/Error-0.17025-0/blib/lib
    PERL5OPT = 
    PERL5_CPANPLUS_IS_RUNNING = 90070
    PERL5_CPAN_IS_RUNNING = 90070
    PERLBREW_BASHRC_VERSION = 0.80
    PERLBREW_HOME = /home/njh/.perlbrew
    PERLBREW_MANPATH = /home/njh/perl5/perlbrew/perls/perl-5.8.5/man
    PERLBREW_PATH = /home/njh/perl5/perlbrew/bin:/home/njh/perl5/perlbrew/perls/perl-5.8.5/bin
    PERLBREW_PERL = perl-5.8.5
    PERLBREW_ROOT = /home/njh/perl5/perlbrew
    PERLBREW_VERSION = 0.80
    SHELL = /bin/sh
    TMPDIR = /tmp/testwrapper.90060

Perl special variables (and OS-specific diagnostics, for MSWin32):

    $^X = /home/njh/perl5/perlbrew/perls/perl-5.8.5/bin/perl5.8.5
    $UID/$EUID = 1000 / 1000
    $GID = 1000 0 1000
    $EGID = 1000 0 1000

Perl module toolchain versions installed:

    Module              Have    
    ------------------- --------
    CPAN                2.16    
    CPAN::Meta          2.143240
    Cwd                 3.74    
    ExtUtils::CBuilder  0.280224
    ExtUtils::Command   7.24    
    ExtUtils::Install   1.54    
    ExtUtils::MakeMaker 7.24    
    ExtUtils::Manifest  1.70    
    ExtUtils::ParseXS   3.30    
    File::Spec          3.74    
    JSON                2.90    
    JSON::PP            2.94    
    Module::Build       0.4220  
    Module::Signature   n/a     
    Parse::CPAN::Meta   1.4414  
    Test::Harness       3.36    
    Test::More          1.302136
    YAML                n/a     
    YAML::Syck          1.30    
    version             0.9917  


--

Summary of my perl5 (revision 5 version 8 subversion 5) configuration:
  Platform:
    osname=freebsd, osvers=11.0-rc1, archname=arm-freebsd-thread-multi
    uname='freebsd pi2b 11.0-rc1 freebsd 11.0-rc1 #0 r303979: fri aug 12 17:12:13 utc 2016 root@releng2.nyi.freebsd.org:usrobjarm.armv6usrsrcsysrpi2 arm '
    config_args='-de -Dprefix=/home/njh/perl5/perlbrew/perls/perl-5.8.5 -Duseithreads -Dusemultiplicity -Dusedevel -Accflags= -Aeval:scriptdir=/home/njh/perl5/perlbrew/perls/perl-5.8.5/bin'
    hint=recommended, useposix=true, d_sigaction=define
    usethreads=define use5005threads=undef useithreads=define usemultiplicity=define
    useperlio=define d_sfio=undef uselargefiles=define usesocks=undef
    use64bitint=undef use64bitall=undef uselongdouble=undef
    usemymalloc=n, bincompat5005=undef
  Compiler:
    cc='cc', ccflags ='-DHAS_FPSETMASK -DHAS_FLOATINGPOINT_H -fno-strict-aliasing -pipe -I/usr/local/include',
    optimize='-O',
    cppflags='-DHAS_FPSETMASK -DHAS_FLOATINGPOINT_H -fno-strict-aliasing -pipe -I/usr/local/include'
    ccversion='', gccversion='4.2.1 Compatible FreeBSD Clang 3.8.0 (tags/RELEASE_380/final 262564)', gccosandvers=''
    intsize=4, longsize=4, ptrsize=4, doublesize=8, byteorder=1234
    d_longlong=define, longlongsize=8, d_longdbl=define, longdblsize=8
    ivtype='long', ivsize=4, nvtype='double', nvsize=8, Off_t='off_t', lseeksize=8
    alignbytes=8, prototype=define
  Linker and Libraries:
    ld='cc', ldflags ='-pthread -Wl,-E  -L/usr/local/lib'
    libpth=/usr/lib /usr/local/lib
    libs=-lm -lcrypt -lutil
    perllibs=-lm -lcrypt -lutil
    libc=, so=so, useshrplib=false, libperl=libperl.a
    gnulibc_version=''
  Dynamic Linking:
    dlsrc=dl_dlopen.xs, dlext=so, d_dlsymun=undef, ccdlflags=' '
    cccdlflags='-DPIC -fPIC', lddlflags='-shared  -L/usr/local/lib'


Characteristics of this binary (from libperl): 
  Compile-time options: MULTIPLICITY USE_ITHREADS USE_LARGE_FILES PERL_IMPLICIT_CONTEXT
  Locally applied patches:
	Devel::PatchPerl 1.38
  Built under freebsd
  Compiled at Aug 29 2016 02:11:59
  %ENV:
    PERL5LIB="/tmp/build/Crypt-OpenSSL-Random-0.15-0/blib/arch:/tmp/build/Crypt-OpenSSL-Random-0.15-0/blib/lib:/tmp/build/Crypt-OpenSSL-Guess-0.11-0/blib/arch:/tmp/build/Crypt-OpenSSL-Guess-0.11-0/blib/lib:/tmp/build/Mail-AuthenticationResults-1.20180328-0/blib/arch:/tmp/build/Mail-AuthenticationResults-1.20180328-0/blib/lib:/tmp/build/ClamAV-Client-0.11-0/blib/arch:/tmp/build/ClamAV-Client-0.11-0/blib/lib:/tmp/build/Error-0.17025-0/blib/arch:/tmp/build/Error-0.17025-0/blib/lib"
    PERL5OPT=""
    PERL5_CPANPLUS_IS_RUNNING="90070"
    PERL5_CPAN_IS_RUNNING="90070"
    PERLBREW_BASHRC_VERSION="0.80"
    PERLBREW_HOME="/home/njh/.perlbrew"
    PERLBREW_MANPATH="/home/njh/perl5/perlbrew/perls/perl-5.8.5/man"
    PERLBREW_PATH="/home/njh/perl5/perlbrew/bin:/home/njh/perl5/perlbrew/perls/perl-5.8.5/bin"
    PERLBREW_PERL="perl-5.8.5"
    PERLBREW_ROOT="/home/njh/perl5/perlbrew"
    PERLBREW_VERSION="0.80"
  @INC:
    /tmp/build/Crypt-OpenSSL-Random-0.15-0/blib/arch
    /tmp/build/Crypt-OpenSSL-Random-0.15-0/blib/lib
    /tmp/build/Crypt-OpenSSL-Guess-0.11-0/blib/arch
    /tmp/build/Crypt-OpenSSL-Guess-0.11-0/blib/lib
    /tmp/build/Mail-AuthenticationResults-1.20180328-0/blib/arch
    /tmp/build/Mail-AuthenticationResults-1.20180328-0/blib/lib
    /tmp/build/ClamAV-Client-0.11-0/blib/arch
    /tmp/build/ClamAV-Client-0.11-0/blib/lib
    /tmp/build/Error-0.17025-0/blib/arch
    /tmp/build/Error-0.17025-0/blib/lib
    /home/njh/perl5/perlbrew/perls/perl-5.8.5/lib/5.8.5/arm-freebsd-thread-multi
    /home/njh/perl5/perlbrew/perls/perl-5.8.5/lib/5.8.5
    /home/njh/perl5/perlbrew/perls/perl-5.8.5/lib/site_perl/5.8.5/arm-freebsd-thread-multi
    /home/njh/perl5/perlbrew/perls/perl-5.8.5/lib/site_perl/5.8.5
    /home/njh/perl5/perlbrew/perls/perl-5.8.5/lib/site_perl
    .