FTN-Outbound-BSO v20180823 Perl 5 v5.14.3 i686-linux-thread-multi

Status
Pass
From
Nigel Horne
Dist
FTN-Outbound-BSO v20180823
Platform
Perl 5 v5.14.3 i686-linux-thread-multi
Date
2018-08-23 07:48:29
ID
ece4c8d6-a6a8-11e8-8fb1-ef5133556b3f
This distribution has been tested as part of the CPAN Testers
project, supporting the Perl programming language.  See
http://wiki.cpantesters.org/ for more information or email
questions to cpan-testers-discuss@perl.org


--
Dear Valery Kalesnik,

This is a computer-generated report for FTN-Outbound-BSO-20180823
on perl 5.14.3, created by CPAN-Reporter-1.2018.

Thank you for uploading your work to CPAN.  Congratulations!
All tests were successful.

Sections of this report:

    * Tester comments
    * Program output
    * Prerequisites
    * Environment and other context

------------------------------
TESTER COMMENTS
------------------------------

Additional comments from tester:

this report is from an automated smoke testing program
and was not reviewed by a human for accuracy

------------------------------
PROGRAM OUTPUT
------------------------------

Output from '/usr/bin/make test':

PERL_DL_NONLAZY=1 "/home/njh/perl5/perlbrew/perls/perl-5.14.3/bin/perl" "-MExtUtils::Command::MM" "-MTest::Harness" "-e" "undef *Test::Harness::Switches; test_harness(0, 'blib/lib', 'blib/arch')" t/*.t
# Testing FTN::Outbound::BSO 20180823, Perl 5.014003, /home/njh/perl5/perlbrew/perls/perl-5.14.3/bin/perl
t/00-load.t .................... ok
t/01-select_domain_zone_dir.t .. ok
t/author-pod-coverage.t ........ skipped: these tests are for testing by the author
t/author-pod-syntax.t .......... skipped: these tests are for testing by the author
t/02-select_points_dir.t ....... ok
All tests successful.
Files=5, Tests=20,  0 wallclock secs ( 0.06 usr  0.00 sys +  0.43 cusr  0.04 csys =  0.53 CPU)
Result: PASS

------------------------------
PREREQUISITES
------------------------------

Prerequisite modules loaded:

requires:

    Module                        Need  Have    
    ----------------------------- ----- --------
    Encode                        0     2.78    
    Encode::Locale                0     1.05    
    Fcntl                         0     1.11    
    File::Spec                    0     3.74    
    FTN::Addr                     0     20160303
    FTN::Outbound::Reference_file 0     20170409
    Log::Log4perl                 0     1.49    
    perl                          5.010 5.014003
    Scalar::Util                  0     1.42    
    strict                        0     1.04    
    utf8                          0     1.09    
    warnings                      0     1.12    

build_requires:

    Module                        Need  Have    
    ----------------------------- ----- --------
    ExtUtils::MakeMaker           0     7.18    
    lib                           0     0.63    
    Test::More                    0     1.302136

configure_requires:

    Module                        Need  Have    
    ----------------------------- ----- --------
    ExtUtils::MakeMaker           0     7.18    


------------------------------
ENVIRONMENT AND OTHER CONTEXT
------------------------------

Environment variables:

    AUTOMATED_TESTING = 1
    HARNESS_OPTIONS = j2
    LANG = en_US.UTF-8
    PATH = /home/njh/perl5/perlbrew/bin:/home/njh/perl5/perlbrew/perls/perl-5.14.3/bin:/usr/bin:/bin:/home/njh/src/njh/smoker/bin
    PERL5LIB = /home/njh/.cpan/build/FTN-Outbound-Reference_file-20170409-6/blib/arch:/home/njh/.cpan/build/FTN-Outbound-Reference_file-20170409-6/blib/lib:/home/njh/.cpan/build/Log-Log4perl-1.49-5/blib/arch:/home/njh/.cpan/build/Log-Log4perl-1.49-5/blib/lib:/home/njh/.cpan/build/FTN-Addr-20160303-6/blib/arch:/home/njh/.cpan/build/FTN-Addr-20160303-6/blib/lib
    PERL5OPT = 
    PERL5_CPANPLUS_IS_RUNNING = 4446
    PERL5_CPAN_IS_RUNNING = 4446
    PERLBREW_BASHRC_VERSION = 0.73
    PERLBREW_HOME = /home/njh/.perlbrew
    PERLBREW_MANPATH = /home/njh/perl5/perlbrew/perls/perl-5.14.3/man
    PERLBREW_PATH = /home/njh/perl5/perlbrew/bin:/home/njh/perl5/perlbrew/perls/perl-5.14.3/bin
    PERLBREW_PERL = perl-5.14.3
    PERLBREW_ROOT = /home/njh/perl5/perlbrew
    PERLBREW_VERSION = 0.73
    SHELL = /bin/sh
    TEMP = /tmp/user/1000
    TMPDIR = /tmp/user/1000/testwrapper.4431

Perl special variables (and OS-specific diagnostics, for MSWin32):

    $^X = /home/njh/perl5/perlbrew/perls/perl-5.14.3/bin/perl
    $UID/$EUID = 1000 / 1000
    $GID = 1000 4 24 25 29 30 44 46 108 1000
    $EGID = 1000 4 24 25 29 30 44 46 108 1000

Perl module toolchain versions installed:

    Module              Have    
    ------------------- --------
    CPAN                2.16    
    CPAN::Meta          2.150005
    Cwd                 3.74    
    ExtUtils::CBuilder  0.280224
    ExtUtils::Command   7.18    
    ExtUtils::Install   2.04    
    ExtUtils::MakeMaker 7.18    
    ExtUtils::Manifest  1.70    
    ExtUtils::ParseXS   3.30    
    File::Spec          3.74    
    JSON                2.97001 
    JSON::PP            2.27300 
    Module::Build       0.4214  
    Module::Signature   n/a     
    Parse::CPAN::Meta   1.4417  
    Test::Harness       3.35    
    Test::More          1.302136
    YAML                1.26    
    YAML::Syck          1.30    
    version             0.9912  


--

Summary of my perl5 (revision 5 version 14 subversion 3) configuration:
   
  Platform:
    osname=linux, osvers=4.2.0-1-686-pae, archname=i686-linux-thread-multi
    uname='linux zack 4.2.0-1-686-pae #1 smp debian 4.2.6-1 (2015-11-10) i686 gnulinux '
    config_args='-de -Dprefix=/home/njh/perl5/perlbrew/perls/perl-5.14.3 -Duseithreads -Dusemultiplicity -Dusedevel -Accflags= -Aeval:scriptdir=/home/njh/perl5/perlbrew/perls/perl-5.14.3/bin'
    hint=recommended, useposix=true, d_sigaction=define
    useithreads=define, usemultiplicity=define
    useperlio=define, d_sfio=undef, uselargefiles=define, usesocks=undef
    use64bitint=undef, use64bitall=undef, uselongdouble=undef
    usemymalloc=n, bincompat5005=undef
  Compiler:
    cc='cc', ccflags ='-D_REENTRANT -D_GNU_SOURCE -fno-strict-aliasing -pipe -fstack-protector -I/usr/local/include -D_LARGEFILE_SOURCE -D_FILE_OFFSET_BITS=64',
    optimize='-O2',
    cppflags='-D_REENTRANT -D_GNU_SOURCE -fno-strict-aliasing -pipe -fstack-protector -I/usr/local/include'
    ccversion='', gccversion='5.2.1 20151121', gccosandvers=''
    intsize=4, longsize=4, ptrsize=4, doublesize=8, byteorder=1234
    d_longlong=define, longlongsize=8, d_longdbl=define, longdblsize=12
    ivtype='long', ivsize=4, nvtype='double', nvsize=8, Off_t='off_t', lseeksize=8
    alignbytes=4, prototype=define
  Linker and Libraries:
    ld='cc', ldflags =' -fstack-protector -L/usr/local/lib'
    libpth=/usr/local/lib /lib/i386-linux-gnu /lib/../lib /usr/lib/i386-linux-gnu /usr/lib/../lib /lib /usr/lib
    libs=-lnsl -lgdbm -ldb -ldl -lm -lcrypt -lutil -lpthread -lc -lgdbm_compat
    perllibs=-lnsl -ldl -lm -lcrypt -lutil -lpthread -lc
    libc=libc-2.19.so, so=so, useshrplib=false, libperl=libperl.a
    gnulibc_version='2.19'
  Dynamic Linking:
    dlsrc=dl_dlopen.xs, dlext=so, d_dlsymun=undef, ccdlflags='-Wl,-E'
    cccdlflags='-fPIC', lddlflags='-shared -O2 -L/usr/local/lib -fstack-protector'


Characteristics of this binary (from libperl): 
  Compile-time options: MULTIPLICITY PERL_DONT_CREATE_GVSV
                        PERL_IMPLICIT_CONTEXT PERL_MALLOC_WRAP
                        PERL_PRESERVE_IVUV PERL_USE_DEVEL USE_ITHREADS
                        USE_LARGE_FILES USE_PERLIO USE_PERL_ATOF
                        USE_REENTRANT_API
  Locally applied patches:
	Devel::PatchPerl 1.38
  Built under linux
  Compiled at Nov 24 2015 06:17:24
  %ENV:
    PERL5LIB="/home/njh/.cpan/build/FTN-Outbound-Reference_file-20170409-6/blib/arch:/home/njh/.cpan/build/FTN-Outbound-Reference_file-20170409-6/blib/lib:/home/njh/.cpan/build/Log-Log4perl-1.49-5/blib/arch:/home/njh/.cpan/build/Log-Log4perl-1.49-5/blib/lib:/home/njh/.cpan/build/FTN-Addr-20160303-6/blib/arch:/home/njh/.cpan/build/FTN-Addr-20160303-6/blib/lib"
    PERL5OPT=""
    PERL5_CPANPLUS_IS_RUNNING="4446"
    PERL5_CPAN_IS_RUNNING="4446"
    PERLBREW_BASHRC_VERSION="0.73"
    PERLBREW_HOME="/home/njh/.perlbrew"
    PERLBREW_MANPATH="/home/njh/perl5/perlbrew/perls/perl-5.14.3/man"
    PERLBREW_PATH="/home/njh/perl5/perlbrew/bin:/home/njh/perl5/perlbrew/perls/perl-5.14.3/bin"
    PERLBREW_PERL="perl-5.14.3"
    PERLBREW_ROOT="/home/njh/perl5/perlbrew"
    PERLBREW_VERSION="0.73"
  @INC:
    /home/njh/.cpan/build/FTN-Outbound-Reference_file-20170409-6/blib/arch
    /home/njh/.cpan/build/FTN-Outbound-Reference_file-20170409-6/blib/lib
    /home/njh/.cpan/build/Log-Log4perl-1.49-5/blib/arch
    /home/njh/.cpan/build/Log-Log4perl-1.49-5/blib/lib
    /home/njh/.cpan/build/FTN-Addr-20160303-6/blib/arch
    /home/njh/.cpan/build/FTN-Addr-20160303-6/blib/lib
    /home/njh/perl5/perlbrew/perls/perl-5.14.3/lib/site_perl/5.14.3/i686-linux-thread-multi
    /home/njh/perl5/perlbrew/perls/perl-5.14.3/lib/site_perl/5.14.3
    /home/njh/perl5/perlbrew/perls/perl-5.14.3/lib/5.14.3/i686-linux-thread-multi
    /home/njh/perl5/perlbrew/perls/perl-5.14.3/lib/5.14.3
    .