Report for AI-Categorizer-0.09

Back
From: metabase:user:e3434da8-b236-11df-85ca-0247c6d74bde
Subject: PASS AI-Categorizer-0.09 v5.8.9 GNU/Linux
Date: 2011-09-08T20:55:46Z

This distribution has been tested as part of the CPAN Testers
project, supporting the Perl programming language.  See
http://wiki.cpantesters.org/ for more information or email
questions to cpan-testers-discuss@perl.org


--
Dear Ken Williams,

This is a computer-generated report for AI-Categorizer-0.09
on perl 5.8.9, created by CPAN-Reporter-1.1902.

Thank you for uploading your work to CPAN.  Congratulations!
All tests were successful.

Sections of this report:

    * Tester comments
    * Program output
    * Prerequisites
    * Environment and other context

------------------------------
TESTER COMMENTS
------------------------------

Additional comments from tester:

this report is from an automated smoke testing program
and was not reviewed by a human for accuracy

------------------------------
PROGRAM OUTPUT
------------------------------

Output from './Build test':

t/01-naive_bayes.t ..... skipped: Algorithm::NaiveBayes not installed
t/02-experiment.t ...... ok
t/03-weka.t ............ skipped: Weka is not installed
t/04-decision_tree.t ... skipped: AI::DecisionTree 0.06 not installed
t/05-svm.t ............. skipped: Algorithm::SVM not installed
t/06-knn.t ............. ok
t/07-guesser.t ......... ok
t/09-rocchio.t ......... ok
t/10-tools.t ........... ok
t/11-feature_vector.t .. ok
t/12-hypothesis.t ...... ok
t/13-document.t ........ ok
t/14-collection.t ...... ok
t/15-knowledge_set.t ... ok
All tests successful.
Files=14, Tests=165,  2 wallclock secs ( 0.08 usr  0.05 sys +  0.63 cusr  0.23 csys =  0.99 CPU)
Result: PASS

------------------------------
PREREQUISITES
------------------------------

Prerequisite modules loaded:

requires:

    Module                  Need   Have    
    ----------------------- ------ --------
    Class::Container        0.09   0.12    
    File::Spec              0      3.29    
    Lingua::Stem            0.5    0.84    
    Params::Validate        0.18   1.00    
    perl                    v5.6.0 5.008009
    Statistics::Contingency 0.06   0.08    
    Storable                0      2.19    

build_requires:

    Module                  Need   Have    
    ----------------------- ------ --------
    Module::Build           0.2    0.3800  


------------------------------
ENVIRONMENT AND OTHER CONTEXT
------------------------------

Environment variables:

    AUTOMATED_TESTING = 1
    LANG = en_US.UTF-8
    LC_COLLATE = C
    LC_MONETARY = nl_NL.utf8
    PATH = /home/tester/perl5/perlbrew/bin:/home/tester/perl5/perlbrew/perls/perl-5.15.1/bin:/usr/lib64/qt-3.3/bin:/usr/lib64/ccache:/usr/local/bin:/bin:/usr/bin:/usr/local/sbin:/usr/sbin:/sbin:/home/tester/bin:/home/tester/bin
    PATH_WITHOUT_PERLBREW = /usr/lib64/qt-3.3/bin:/usr/lib64/ccache:/usr/local/bin:/bin:/usr/bin:/usr/local/sbin:/usr/sbin:/sbin:/home/tester/bin
    PERL5LIB = /home/perl58/.cpan/build/Statistics-Contingency-0.08-D2iBro/blib/arch:/home/perl58/.cpan/build/Statistics-Contingency-0.08-D2iBro/blib/lib:/home/perl58/.cpan/build/Class-Container-0.12-bYLGaN/blib/arch:/home/perl58/.cpan/build/Class-Container-0.12-bYLGaN/blib/lib:/home/perl58/.cpan/build/Lingua-Stem-0.84-IlF1yL/blib/arch:/home/perl58/.cpan/build/Lingua-Stem-0.84-IlF1yL/blib/lib:/home/perl58/.cpan/build/Lingua-Stem-Ru-0.01-dHeCnh/blib/arch:/home/perl58/.cpan/build/Lingua-Stem-Ru-0.01-dHeCnh/blib/lib:/home/perl58/.cpan/build/Lingua-Stem-Fr-0.02-XbctBU/blib/arch:/home/perl58/.cpan/build/Lingua-Stem-Fr-0.02-XbctBU/blib/lib:/home/perl58/.cpan/build/Params-Validate-1.00-4htoeG/blib/arch:/home/perl58/.cpan/build/Params-Validate-1.00-4htoeG/blib/lib:/home/perl58/.cpan/build/Attribute-Handlers-0.91-p4HZWT/blib/arch:/home/perl58/.cpan/build/Attribute-Handlers-0.91-p4HZWT/blib/lib
    PERL5OPT = 
    PERL5_CPANPLUS_IS_RUNNING = 7720
    PERL5_CPAN_IS_RUNNING = 7720
    PERL5_CPAN_IS_RUNNING_IN_RECURSION = 19870,7720
    PERLBREW_PATH = /home/tester/perl5/perlbrew/bin:/home/tester/perl5/perlbrew/perls/perl-5.15.1/bin
    PERLBREW_PERL = perl-5.15.1
    PERLBREW_ROOT = /home/tester/perl5/perlbrew
    PERLBREW_VERSION = 0.15
    PERL_CR_SMOKER_CURRENT = AI-Categorizer-0.09
    PERL_EXTUTILS_AUTOINSTALL = --defaultdeps
    PERL_MM_USE_DEFAULT = 1
    SHELL = /bin/bash
    TERM = screen

Perl special variables (and OS-specific diagnostics, for MSWin32):

    $^X = /home/perl58/testing/bin/perl5.8.9
    $UID/$EUID = 506 / 506
    $GID = 506 506
    $EGID = 506 506

Perl module toolchain versions installed:

    Module              Have    
    ------------------- --------
    CPAN                1.9600  
    Cwd                 3.29    
    ExtUtils::CBuilder  0.280202
    ExtUtils::Command   1.16    
    ExtUtils::Install   1.52    
    ExtUtils::MakeMaker 6.56    
    ExtUtils::Manifest  1.56    
    ExtUtils::ParseXS   2.2206  
    File::Spec          3.29    
    Module::Build       0.3800  
    Module::Signature   n/a     
    Test::Harness       3.23    
    Test::More          0.98    
    YAML                n/a     
    YAML::Syck          1.17    
    version             0.90    


--

Summary of my perl5 (revision 5 version 8 subversion 9) configuration:
  Platform:
    osname=linux, osvers=2.6.35.11-83.fc14.x86_64, archname=x86_64-linux-thread-multi
    uname='linux firenze.fritz.box 2.6.35.11-83.fc14.x86_64 #1 smp mon feb 7 07:06:44 utc 2011 x86_64 x86_64 x86_64 gnulinux '
    config_args='-Dprefix=/home/perl58/testing/ -Dusethreads -Dusedevel -des'
    hint=recommended, useposix=true, d_sigaction=define
    usethreads=define use5005threads=undef useithreads=define usemultiplicity=define
    useperlio=define d_sfio=undef uselargefiles=define usesocks=undef
    use64bitint=define use64bitall=define uselongdouble=undef
    usemymalloc=n, bincompat5005=undef
  Compiler:
    cc='cc', ccflags ='-D_REENTRANT -D_GNU_SOURCE -DTHREADS_HAVE_PIDS -fno-strict-aliasing -pipe -I/usr/local/include -D_LARGEFILE_SOURCE -D_FILE_OFFSET_BITS=64 -I/usr/include/gdbm',
    optimize='-O2',
    cppflags='-D_REENTRANT -D_GNU_SOURCE -DTHREADS_HAVE_PIDS -fno-strict-aliasing -pipe -I/usr/local/include -I/usr/include/gdbm'
    ccversion='', gccversion='4.5.1 20100924 (Red Hat 4.5.1-4)', gccosandvers=''
    intsize=4, longsize=8, ptrsize=8, doublesize=8, byteorder=12345678
    d_longlong=define, longlongsize=8, d_longdbl=define, longdblsize=16
    ivtype='long', ivsize=8, nvtype='double', nvsize=8, Off_t='off_t', lseeksize=8
    alignbytes=8, prototype=define
  Linker and Libraries:
    ld='cc', ldflags =' -L/usr/local/lib'
    libpth=/usr/local/lib /lib /usr/lib /lib64 /usr/lib64 /usr/local/lib64
    libs=-lnsl -lgdbm -ldb -ldl -lm -lcrypt -lutil -lpthread -lc
    perllibs=-lnsl -ldl -lm -lcrypt -lutil -lpthread -lc
    libc=, so=so, useshrplib=false, libperl=libperl.a
    gnulibc_version='2.13'
  Dynamic Linking:
    dlsrc=dl_dlopen.xs, dlext=so, d_dlsymun=undef, ccdlflags='-Wl,-E'
    cccdlflags='-fPIC', lddlflags='-shared -O2 -L/usr/local/lib'


Characteristics of this binary (from libperl): 
  Compile-time options: MULTIPLICITY PERL_IMPLICIT_CONTEXT PERL_MALLOC_WRAP
                        THREADS_HAVE_PIDS USE_64_BIT_ALL USE_64_BIT_INT
                        USE_FAST_STDIO USE_ITHREADS USE_LARGE_FILES
                        USE_PERLIO USE_REENTRANT_API
  Built under linux
  Compiled at Jun  4 2011 22:22:39
  %ENV:
    PERL5LIB="/home/perl58/.cpan/build/Statistics-Contingency-0.08-D2iBro/blib/arch:/home/perl58/.cpan/build/Statistics-Contingency-0.08-D2iBro/blib/lib:/home/perl58/.cpan/build/Class-Container-0.12-bYLGaN/blib/arch:/home/perl58/.cpan/build/Class-Container-0.12-bYLGaN/blib/lib:/home/perl58/.cpan/build/Lingua-Stem-0.84-IlF1yL/blib/arch:/home/perl58/.cpan/build/Lingua-Stem-0.84-IlF1yL/blib/lib:/home/perl58/.cpan/build/Lingua-Stem-Ru-0.01-dHeCnh/blib/arch:/home/perl58/.cpan/build/Lingua-Stem-Ru-0.01-dHeCnh/blib/lib:/home/perl58/.cpan/build/Lingua-Stem-Fr-0.02-XbctBU/blib/arch:/home/perl58/.cpan/build/Lingua-Stem-Fr-0.02-XbctBU/blib/lib:/home/perl58/.cpan/build/Params-Validate-1.00-4htoeG/blib/arch:/home/perl58/.cpan/build/Params-Validate-1.00-4htoeG/blib/lib:/home/perl58/.cpan/build/Attribute-Handlers-0.91-p4HZWT/blib/arch:/home/perl58/.cpan/build/Attribute-Handlers-0.91-p4HZWT/blib/lib"
    PERL5OPT=""
    PERL5_CPANPLUS_IS_RUNNING="7720"
    PERL5_CPAN_IS_RUNNING="7720"
    PERL5_CPAN_IS_RUNNING_IN_RECURSION="19870,7720"
    PERLBREW_PATH="/home/tester/perl5/perlbrew/bin:/home/tester/perl5/perlbrew/perls/perl-5.15.1/bin"
    PERLBREW_PERL="perl-5.15.1"
    PERLBREW_ROOT="/home/tester/perl5/perlbrew"
    PERLBREW_VERSION="0.15"
    PERL_CR_SMOKER_CURRENT="AI-Categorizer-0.09"
    PERL_EXTUTILS_AUTOINSTALL="--defaultdeps"
    PERL_MM_USE_DEFAULT="1"
  @INC:
    /home/perl58/.cpan/build/Statistics-Contingency-0.08-D2iBro/blib/arch
    /home/perl58/.cpan/build/Statistics-Contingency-0.08-D2iBro/blib/lib
    /home/perl58/.cpan/build/Class-Container-0.12-bYLGaN/blib/arch
    /home/perl58/.cpan/build/Class-Container-0.12-bYLGaN/blib/lib
    /home/perl58/.cpan/build/Lingua-Stem-0.84-IlF1yL/blib/arch
    /home/perl58/.cpan/build/Lingua-Stem-0.84-IlF1yL/blib/lib
    /home/perl58/.cpan/build/Lingua-Stem-Ru-0.01-dHeCnh/blib/arch
    /home/perl58/.cpan/build/Lingua-Stem-Ru-0.01-dHeCnh/blib/lib
    /home/perl58/.cpan/build/Lingua-Stem-Fr-0.02-XbctBU/blib/arch
    /home/perl58/.cpan/build/Lingua-Stem-Fr-0.02-XbctBU/blib/lib
    /home/perl58/.cpan/build/Params-Validate-1.00-4htoeG/blib/arch
    /home/perl58/.cpan/build/Params-Validate-1.00-4htoeG/blib/lib
    /home/perl58/.cpan/build/Attribute-Handlers-0.91-p4HZWT/blib/arch
    /home/perl58/.cpan/build/Attribute-Handlers-0.91-p4HZWT/blib/lib
    /home/perl58/testing/lib/5.8.9/x86_64-linux-thread-multi
    /home/perl58/testing/lib/5.8.9
    /home/perl58/testing/lib/site_perl/5.8.9/x86_64-linux-thread-multi
    /home/perl58/testing/lib/site_perl/5.8.9
    .