Module-Pluggable v6.1 Perl 5 v5.38.2 x86_64-linux-thread-multi
- Status
- Pass
- From
- Slaven Rezić
- Dist
-
Module-Pluggable v6.1
- Platform
- Perl 5 v5.38.2 x86_64-linux-thread-multi
- Date
- 2024-10-23 04:33:17
- ID
- ecfacbc8-90f7-11ef-b881-db4a6e8775ea
This distribution has been tested as part of the CPAN Testers
project, supporting the Perl programming language. See
http://wiki.cpantesters.org/ for more information or email
questions to cpan-testers-discuss@perl.org
--
Dear Simon Wistow,
This is a computer-generated report for Module-Pluggable-6.1
on perl 5.38.2, created by CPAN-Reporter-1.2019.
Thank you for uploading your work to CPAN. Congratulations!
All tests were successful.
Sections of this report:
* Tester comments
* Program output
* Prerequisites
* Environment and other context
------------------------------
TESTER COMMENTS
------------------------------
Additional comments from tester:
none provided
------------------------------
PROGRAM OUTPUT
------------------------------
Output from '/usr/bin/make test':
PERL_DL_NONLAZY=1 "/opt/perl-5.38.2t/bin/perl" "-MExtUtils::Command::MM" "-MTest::Harness" "-e" "undef *Test::Harness::Switches; test_harness(0, 'blib/lib', 'blib/arch')" t/*.t
t/01use.t .................... ok
t/02alsoworks.t .............. ok
t/02works.t .................. ok
t/02works_taint.t ............ ok
t/03diffname.t ............... ok
t/04acmedir.t ................ ok
t/04acmedir_single.t ......... ok
t/04acmepath.t ............... ok
t/04acmepath_single.t ........ ok
t/05postpath.t ............... ok
t/06multipath.t .............. ok
t/07instantiate.t ............ ok
t/08nothing.t ................ ok
t/09require.t ................ ok
t/10innerpack.t .............. ok
t/10innerpack_inner.t ........ ok
t/10innerpack_noinner.t ...... ok
t/10innerpack_onefile.t ...... ok
t/10innerpack_override.t ..... ok
t/10innerpack_super.t ........ ok
t/11usetwice.t ............... ok
t/12only.t ................... ok
t/12onlyarray.t .............. ok
t/12onlyregex.t .............. ok
t/12onlyrequire.t ............ ok
t/13except.t ................. ok
t/13exceptarray.t ............ ok
t/13exceptregex.t ............ ok
t/14package.t ................ ok
t/15topicsafe.t .............. ok
t/16different_extension.t .... ok
t/17devel_inner_package.t .... ok
t/18skipped_package.t ........ ok
t/19can_ok_clobber.t ......... ok
t/20dodgy_files.t ............ ok
t/21editor_junk.t ............ ok
t/22trigger.t ................ ok
t/23depth.t .................. ok
Possible precedence issue with control flow operator at /opt/perl-5.38.2t/lib/site_perl/5.38.2/Text/LTSV.pm line 127.
t/24local_inc_object.t ....... ok
Subroutine mark_raw redefined at /opt/perl-5.38.2t/lib/site_perl/5.38.2/x86_64-linux-thread-multi/Text/Xslate/PP.pm line 329.
Subroutine unmark_raw redefined at /opt/perl-5.38.2t/lib/site_perl/5.38.2/x86_64-linux-thread-multi/Text/Xslate/PP.pm line 338.
Subroutine html_escape redefined at /opt/perl-5.38.2t/lib/site_perl/5.38.2/x86_64-linux-thread-multi/Text/Xslate/PP.pm line 345.
Subroutine uri_escape redefined at /opt/perl-5.38.2t/lib/site_perl/5.38.2/x86_64-linux-thread-multi/Text/Xslate/PP.pm line 356.
Subroutine is_array_ref redefined at /opt/perl-5.38.2t/lib/site_perl/5.38.2/x86_64-linux-thread-multi/Text/Xslate/PP.pm line 366.
Subroutine is_hash_ref redefined at /opt/perl-5.38.2t/lib/site_perl/5.38.2/x86_64-linux-thread-multi/Text/Xslate/PP.pm line 367.
Subroutine is_code_ref redefined at /opt/perl-5.38.2t/lib/site_perl/5.38.2/x86_64-linux-thread-multi/Text/Xslate/PP.pm line 368.
Subroutine merge_hash redefined at /opt/perl-5.38.2t/lib/site_perl/5.38.2/x86_64-linux-thread-multi/Text/Xslate/PP.pm line 370.
Subroutine Text::Xslate::Util::escaped_string redefined at /opt/perl-5.38.2t/lib/site_perl/5.38.2/x86_64-linux-thread-multi/Text/Xslate/PP.pm line 328.
Possible precedence issue with control flow operator at /opt/perl-5.38.2t/lib/site_perl/5.38.2/Text/LTSV.pm line 127.
Couldn't require Text::Password::AutoMigration : Can't disable Moo::sification after inflation has been done at /opt/perl-5.38.2t/lib/site_perl/5.38.2/Text/Password/CoreCrypt.pm line 16.
BEGIN failed--compilation aborted at /opt/perl-5.38.2t/lib/site_perl/5.38.2/Text/Password/CoreCrypt.pm line 16.
Compilation failed in require at /opt/perl-5.38.2t/lib/site_perl/5.38.2/Text/Password/MD5.pm line 6.
Compilation failed in require at /opt/perl-5.38.2t/lib/site_perl/5.38.2/Text/Password/SHA.pm line 14.
Compilation failed in require at /opt/perl-5.38.2t/lib/site_perl/5.38.2/Text/Password/AutoMigration.pm line 7.
Compilation failed in require at /opt/perl-5.38.2t/lib/site_perl/5.38.2/Module/Runtime.pm line 314.
at /home/cpansand/.cpan/build/2024102304/Module-Pluggable-6.1-5/blib/lib/Module/Pluggable.pm line 31.
Couldn't require Text::Password::MD5 : Attempt to reload Text/Password/MD5.pm aborted.
Compilation failed in require at /opt/perl-5.38.2t/lib/site_perl/5.38.2/Module/Runtime.pm line 314.
at /home/cpansand/.cpan/build/2024102304/Module-Pluggable-6.1-5/blib/lib/Module/Pluggable.pm line 31.
Couldn't require Text::Password::CoreCrypt : Attempt to reload Text/Password/CoreCrypt.pm aborted.
Compilation failed in require at /opt/perl-5.38.2t/lib/site_perl/5.38.2/Module/Runtime.pm line 314.
at /home/cpansand/.cpan/build/2024102304/Module-Pluggable-6.1-5/blib/lib/Module/Pluggable.pm line 31.
Couldn't require Text::Password::SHA : Attempt to reload Text/Password/SHA.pm aborted.
Compilation failed in require at /opt/perl-5.38.2t/lib/site_perl/5.38.2/Module/Runtime.pm line 314.
at /home/cpansand/.cpan/build/2024102304/Module-Pluggable-6.1-5/blib/lib/Module/Pluggable.pm line 31.
Couldn't require Text::Markup::CommonMark : Can't locate CommonMark.pm in @INC (you may need to install the CommonMark module) (@INC entries checked: t/lib /home/cpansand/.cpan/build/2024102304/Module-Pluggable-6.1-5/blib/lib /home/cpansand/.cpan/build/2024102304/Module-Pluggable-6.1-5/blib/arch /opt/perl-5.38.2t/lib/site_perl/5.38.2/x86_64-linux-thread-multi /opt/perl-5.38.2t/lib/site_perl/5.38.2 /opt/perl-5.38.2t/lib/5.38.2/x86_64-linux-thread-multi /opt/perl-5.38.2t/lib/5.38.2 .) at /opt/perl-5.38.2t/lib/site_perl/5.38.2/Text/Markup/CommonMark.pm line 6.
BEGIN failed--compilation aborted at /opt/perl-5.38.2t/lib/site_perl/5.38.2/Text/Markup/CommonMark.pm line 6.
Compilation failed in require at /opt/perl-5.38.2t/lib/site_perl/5.38.2/Module/Runtime.pm line 314.
at /home/cpansand/.cpan/build/2024102304/Module-Pluggable-6.1-5/blib/lib/Module/Pluggable.pm line 31.
Couldn't require Text::Markup::Asciidoctor : Cannot find asciidoctor, or asciidoctor.py in path /usr/local/bin:/usr/bin:/bin:/usr/local/sbin:/usr/sbin:/sbin:/home/cpansand/bin/linux-gnu:/home/cpansand/bin/sh:/home/cpansand/bin:/usr/games:/home/cpansand/devel:/home/eserte/src/srezic-misc/scripts at /opt/perl-5.38.2t/lib/site_perl/5.38.2/Text/Markup/Asciidoctor.pm line 19.
Compilation failed in require at /opt/perl-5.38.2t/lib/site_perl/5.38.2/Module/Runtime.pm line 314.
at /home/cpansand/.cpan/build/2024102304/Module-Pluggable-6.1-5/blib/lib/Module/Pluggable.pm line 31.
Couldn't require Text::Markup::Rest : Missing required Python "docutils" module
Traceback (most recent call last):
File "<string>", line 1, in <module>
ModuleNotFoundError: No module named 'docutils'
at /opt/perl-5.38.2t/lib/site_perl/5.38.2/Text/Markup/Rest.pm line 24.
Compilation failed in require at /opt/perl-5.38.2t/lib/site_perl/5.38.2/Module/Runtime.pm line 314.
at /home/cpansand/.cpan/build/2024102304/Module-Pluggable-6.1-5/blib/lib/Module/Pluggable.pm line 31.
Couldn't require Text::Markup::Asciidoc : Cannot find asciidoc, or asciidoc.py in path /usr/local/bin:/usr/bin:/bin:/usr/local/sbin:/usr/sbin:/sbin:/home/cpansand/bin/linux-gnu:/home/cpansand/bin/sh:/home/cpansand/bin:/usr/games:/home/cpansand/devel:/home/eserte/src/srezic-misc/scripts at /opt/perl-5.38.2t/lib/site_perl/5.38.2/Text/Markup/Asciidoc.pm line 18.
Compilation failed in require at /opt/perl-5.38.2t/lib/site_perl/5.38.2/Module/Runtime.pm line 314.
at /home/cpansand/.cpan/build/2024102304/Module-Pluggable-6.1-5/blib/lib/Module/Pluggable.pm line 31.
t/24local_inc_package.t ...... ok
t/25single_letter_package.t .. ok
t/26inc_hook.t ............... ok
t/27app_fatpacker.t .......... ok
t/28appledouble.t ............ ok
t/29unreadable.t ............. ok
All tests successful.
Files=45, Tests=194, 5 wallclock secs ( 0.11 usr 0.07 sys + 3.91 cusr 0.90 csys = 4.99 CPU)
Result: PASS
------------------------------
PREREQUISITES
------------------------------
Prerequisite modules loaded:
requires:
Module Need Have
--------------------- ----- --------
Exporter 5.57 5.78
File::Basename 0 2.86
File::Find 0 1.43
File::Spec 3.00 3.88
File::Spec::Functions 0 3.88
if 0 0.0610
perl 5.006 5.038002
Scalar::Util 0 1.64
strict 0 1.12
build_requires:
Module Need Have
--------------------- ----- --------
base 0 2.27
Cwd 0 3.89
Data::Dumper 0 2.188
ExtUtils::MakeMaker 0 7.70
File::Copy 0 2.41
File::Find 0 1.43
File::Path 0 2.18
File::Spec::Functions 0 3.88
File::Temp 0 0.2311
FindBin 0 1.53
strict 0 1.12
Test::More 0 1.302204
warnings 0 1.65
configure_requires:
Module Need Have
--------------------- ----- --------
ExtUtils::MakeMaker 0 7.70
------------------------------
ENVIRONMENT AND OTHER CONTEXT
------------------------------
Environment variables:
LANG = en_US.UTF-8
PATH = /usr/local/bin:/usr/bin:/bin:/usr/local/sbin:/usr/sbin:/sbin:/home/cpansand/bin/linux-gnu:/home/cpansand/bin/sh:/home/cpansand/bin:/usr/games:/home/cpansand/devel:/home/eserte/src/srezic-misc/scripts
PERL5LIB =
PERL5OPT =
PERL5_CPANPLUS_IS_RUNNING = 2215440
PERL5_CPAN_IS_RUNNING = 2215440
PERL5_CPAN_IS_RUNNING_IN_RECURSION = 2214489,2215440
PERLDOC = -MPod::Perldoc::ToTextOverstrike
PERL_BATCH = yes
PERL_CANARY_STABILITY_NOPROMPT = 1
PERL_CPAN_REPORTER_CONFIG = /var/tmp/cpansmoker-1023/2024102304/cpanreporter_000_config.ini
PERL_EXTUTILS_AUTOINSTALL = --defaultdeps
PERL_USE_UNSAFE_INC = 1
SHELL = /usr/bin/zsh
TERM = screen
TMPDIR = /var/tmp/cpansmoker-1023/2024102304
Perl special variables (and OS-specific diagnostics, for MSWin32):
$^X = /opt/perl-5.38.2t/bin/perl
$UID/$EUID = 1023 / 1023
$GID = 1023 1023
$EGID = 1023 1023
Perl module toolchain versions installed:
Module Have
------------------- --------
CPAN 2.36
CPAN::Meta 2.150010
Cwd 3.89
ExtUtils::CBuilder 0.280238
ExtUtils::Command 7.70
ExtUtils::Install 2.22
ExtUtils::MakeMaker 7.70
ExtUtils::Manifest 1.75
ExtUtils::ParseXS 3.51
File::Spec 3.88
JSON 4.10
JSON::PP 4.16
Module::Build 0.4234
Module::Signature n/a
Parse::CPAN::Meta 2.150010
Test2 1.302204
Test::Harness 3.50
Test::More 1.302204
YAML 1.31
YAML::Syck 1.34
version 0.9929
--
Summary of my perl5 (revision 5 version 38 subversion 2) configuration:
Platform:
osname=linux
osvers=6.6.8-100.fc38.x86_64
archname=x86_64-linux-thread-multi
uname='linux fedora39-2gb-hil 6.6.8-100.fc38.x86_64 #1 smp preempt_dynamic thu dec 21 04:01:45 utc 2023 x86_64 gnulinux '
config_args='-ds -e -Dprefix=/opt/perl-5.38.2t -Dusethreads -Dcf_email=srezic@cpan.org'
hint=recommended
useposix=true
d_sigaction=define
useithreads=define
usemultiplicity=define
use64bitint=define
use64bitall=define
uselongdouble=undef
usemymalloc=n
default_inc_excludes_dot=define
Compiler:
cc='cc'
ccflags ='-D_REENTRANT -D_GNU_SOURCE -fwrapv -fno-strict-aliasing -pipe -fstack-protector-strong -I/usr/local/include -D_LARGEFILE_SOURCE -D_FILE_OFFSET_BITS=64 -D_FORTIFY_SOURCE=2'
optimize='-O2'
cppflags='-D_REENTRANT -D_GNU_SOURCE -fwrapv -fno-strict-aliasing -pipe -fstack-protector-strong -I/usr/local/include'
ccversion=''
gccversion='13.2.1 20231205 (Red Hat 13.2.1-6)'
gccosandvers=''
intsize=4
longsize=8
ptrsize=8
doublesize=8
byteorder=12345678
doublekind=3
d_longlong=define
longlongsize=8
d_longdbl=define
longdblsize=16
longdblkind=3
ivtype='long'
ivsize=8
nvtype='double'
nvsize=8
Off_t='off_t'
lseeksize=8
alignbytes=8
prototype=define
Linker and Libraries:
ld='cc'
ldflags =' -fstack-protector-strong -L/usr/local/lib'
libpth=/usr/local/lib /usr/lib /usr/lib64 /usr/local/lib64
libs=-lpthread -ldb -ldl -lm -lcrypt -lutil -lc
perllibs=-lpthread -ldl -lm -lcrypt -lutil -lc
libc=/lib/../lib64/libc.so.6
so=so
useshrplib=false
libperl=libperl.a
gnulibc_version='2.38'
Dynamic Linking:
dlsrc=dl_dlopen.xs
dlext=so
d_dlsymun=undef
ccdlflags='-Wl,-E'
cccdlflags='-fPIC'
lddlflags='-shared -O2 -L/usr/local/lib -fstack-protector-strong'
Characteristics of this binary (from libperl):
Compile-time options:
HAS_LONG_DOUBLE
HAS_STRTOLD
HAS_TIMES
MULTIPLICITY
PERLIO_LAYERS
PERL_COPY_ON_WRITE
PERL_DONT_CREATE_GVSV
PERL_HASH_FUNC_SIPHASH13
PERL_HASH_USE_SBOX32
PERL_MALLOC_WRAP
PERL_OP_PARENT
PERL_PRESERVE_IVUV
PERL_USE_SAFE_PUTENV
USE_64_BIT_ALL
USE_64_BIT_INT
USE_ITHREADS
USE_LARGE_FILES
USE_LOCALE
USE_LOCALE_COLLATE
USE_LOCALE_CTYPE
USE_LOCALE_NUMERIC
USE_LOCALE_TIME
USE_PERLIO
USE_PERL_ATOF
USE_REENTRANT_API
USE_THREAD_SAFE_LOCALE
Built under linux
Compiled at Dec 27 2023 08:41:53
%ENV:
PERL5LIB=""
PERL5OPT=""
PERL5_CPANPLUS_IS_RUNNING="2215440"
PERL5_CPAN_IS_RUNNING="2215440"
PERL5_CPAN_IS_RUNNING_IN_RECURSION="2214489,2215440"
PERLDOC="-MPod::Perldoc::ToTextOverstrike"
PERL_BATCH="yes"
PERL_CANARY_STABILITY_NOPROMPT="1"
PERL_CPAN_REPORTER_CONFIG="/var/tmp/cpansmoker-1023/2024102304/cpanreporter_000_config.ini"
PERL_EXTUTILS_AUTOINSTALL="--defaultdeps"
PERL_USE_UNSAFE_INC="1"
@INC:
/opt/perl-5.38.2t/lib/site_perl/5.38.2/x86_64-linux-thread-multi
/opt/perl-5.38.2t/lib/site_perl/5.38.2
/opt/perl-5.38.2t/lib/5.38.2/x86_64-linux-thread-multi
/opt/perl-5.38.2t/lib/5.38.2
.