MozRepl-RemoteObject v0.40 Perl 5 v5.43.4 amd64-freebsd
- Status
- Pass
- From
- Carlos Guevara
- Dist
-
MozRepl-RemoteObject v0.40
- Platform
- Perl 5 v5.43.4 amd64-freebsd
- Date
- 2025-10-02 01:48:42
- ID
- ed168ce8-9f31-11f0-83e7-83d5da9bebd5
This distribution has been tested as part of the CPAN Testers
project, supporting the Perl programming language. See
http://wiki.cpantesters.org/ for more information or email
questions to cpan-testers-discuss@perl.org
--
Dear Max Maischein,
This is a computer-generated report for MozRepl-RemoteObject-0.40
on perl 5.43.4, created by CPAN-Reporter-1.2020.
Thank you for uploading your work to CPAN. Congratulations!
All tests were successful.
Sections of this report:
* Tester comments
* Program output
* Prerequisites
* Environment and other context
------------------------------
TESTER COMMENTS
------------------------------
Additional comments from tester:
this report is from an automated smoke testing program
and was not reviewed by a human for accuracy
------------------------------
PROGRAM OUTPUT
------------------------------
Output from '/usr/bin/make test':
PERL_DL_NONLAZY=1 "/home/cpan/bin/perl/bin/perl5.43.4" "-MExtUtils::Command::MM" "-MTest::Harness" "-e" "undef *Test::Harness::Switches; test_harness(0, 'blib/lib', 'blib/arch')" t/*.t
# Testing MozRepl::RemoteObject 0.40, Perl 5.043004
# Carp 1.54
# Config 5.043004
# Encode 3.21
# Encode::Alias 2.25
# Encode::Config 2.05
# Encode::Encoding 2.08
# Encode::MIME::Name 1.03
# Exporter 5.79
# Exporter::Heavy 5.79
# Fcntl 1.20
# JSON 4.10
# JSON::XS 4.04
# List::Util 1.70
# MozRepl::RemoteObject 0.40
# MozRepl::RemoteObject::Methods 0.40
# Scalar::Util 1.70
# Storable 3.39
# Test::Builder 1.302214
# Test::Builder::Formatter 1.302214
# Test::Builder::Module 1.302214
# Test::Builder::TodoDiag 1.302214
# Test::More 1.302214
# Test2::API 1.302214
# Test2::API::Context 1.302214
# Test2::API::Instance 1.302214
# Test2::API::Stack 1.302214
# Test2::Event 1.302214
# Test2::Event::Bail 1.302214
# Test2::Event::Diag 1.302214
# Test2::Event::Exception 1.302214
# Test2::Event::Fail 1.302214
# Test2::Event::Note 1.302214
# Test2::Event::Ok 1.302214
# Test2::Event::Pass 1.302214
# Test2::Event::Plan 1.302214
# Test2::Event::Skip 1.302214
# Test2::Event::Subtest 1.302214
# Test2::Event::V2 1.302214
# Test2::Event::Waiting 1.302214
# Test2::EventFacet 1.302214
# Test2::EventFacet::About 1.302214
# Test2::EventFacet::Amnesty 1.302214
# Test2::EventFacet::Assert 1.302214
# Test2::EventFacet::Control 1.302214
# Test2::EventFacet::Error 1.302214
# Test2::EventFacet::Hub 1.302214
# Test2::EventFacet::Info 1.302214
# Test2::EventFacet::Meta 1.302214
# Test2::EventFacet::Parent 1.302214
# Test2::EventFacet::Plan 1.302214
# Test2::EventFacet::Trace 1.302214
# Test2::Formatter 1.302214
# Test2::Formatter::TAP 1.302214
# Test2::Hub 1.302214
# Test2::Hub::Interceptor 1.302214
# Test2::Hub::Interceptor::Terminator 1.302214
# Test2::Hub::Subtest 1.302214
# Test2::Util 1.302214
# Test2::Util::ExternalMeta 1.302214
# Test2::Util::Facets2Legacy 1.302214
# Test2::Util::HashBase 1.302214
# Test2::Util::Trace 1.302214
# Time::HiRes 1.9779
# Types::Serialiser 1.01
# XSLoader 0.32
# attributes 0.37
# bytes 1.09
# common::sense 3.75
# constant 1.33
# mro 1.30
# overload 1.40
# overloading 0.03
# parent 0.244
# strict 1.14
# vars 1.05
# warnings 1.74
# warnings::register 1.06
t/00-load.t .................... ok
t/01-appversion.t .............. skipped: Couldn't connect to MozRepl: Failed to connect to , problem connecting to "localhost", port 4242: Connection refused at /home/cpan/bin/perl/lib/site_perl/5.43.4/MozRepl/Client.pm line 144
# --- Loading object functionality into repl
t/01-array.t ................... skipped: Couldn't connect to MozRepl: Failed to connect to , problem connecting to "localhost", port 4242: Connection refused at /home/cpan/bin/perl/lib/site_perl/5.43.4/MozRepl/Client.pm line 144
t/01-backend-anyevent-timer.t .. skipped: Couldn't connect to Firefox: Can't locate AnyEvent.pm in @INC (you may need to install the AnyEvent module) (@INC entries checked: /home/cpan/.cpan/build/MozRepl-RemoteObject-0.40-0/blib/lib /home/cpan/.cpan/build/MozRepl-RemoteObject-0.40-0/blib/arch /home/cpan/bin/perl/lib/site_perl/5.43.4/amd64-freebsd /home/cpan/bin/perl/lib/site_perl/5.43.4 /home/cpan/bin/perl/lib/5.43.4/amd64-freebsd /home/cpan/bin/perl/lib/5.43.4 .) at t/01-backend-anyevent-timer.t line 8.
t/01-backend-anyevent.t ........ skipped: Couldn't connect to Firefox: Can't locate AnyEvent.pm in @INC (you may need to install the AnyEvent module) (@INC entries checked: /home/cpan/.cpan/build/MozRepl-RemoteObject-0.40-0/blib/lib /home/cpan/.cpan/build/MozRepl-RemoteObject-0.40-0/blib/arch /home/cpan/bin/perl/lib/site_perl/5.43.4/amd64-freebsd /home/cpan/bin/perl/lib/site_perl/5.43.4 /home/cpan/bin/perl/lib/5.43.4/amd64-freebsd /home/cpan/bin/perl/lib/5.43.4 .) at t/01-backend-anyevent.t line 8.
t/01-callback-overhead.t ....... skipped: Couldn't connect to MozRepl: Failed to connect to , problem connecting to "localhost", port 4242: Connection refused at /home/cpan/bin/perl/lib/site_perl/5.43.4/MozRepl/Client.pm line 144
t/01-callback.t ................ skipped: Couldn't connect to MozRepl: Failed to connect to , problem connecting to "localhost", port 4242: Connection refused at /home/cpan/bin/perl/lib/site_perl/5.43.4/MozRepl/Client.pm line 144
t/01-constant.t ................ skipped: Couldn't connect to MozRepl: Failed to connect to , problem connecting to "localhost", port 4242: Connection refused at /home/cpan/bin/perl/lib/site_perl/5.43.4/MozRepl/Client.pm line 144
t/01-dive.t .................... skipped: Couldn't connect to MozRepl: Failed to connect to , problem connecting to "localhost", port 4242: Connection refused at /home/cpan/bin/perl/lib/site_perl/5.43.4/MozRepl/Client.pm line 144
t/01-expr-anyevent.t ........... skipped: Couldn't connect to Firefix: Can't locate AnyEvent.pm in @INC (you may need to install the AnyEvent module) (@INC entries checked: /home/cpan/.cpan/build/MozRepl-RemoteObject-0.40-0/blib/lib /home/cpan/.cpan/build/MozRepl-RemoteObject-0.40-0/blib/arch /home/cpan/bin/perl/lib/site_perl/5.43.4/amd64-freebsd /home/cpan/bin/perl/lib/site_perl/5.43.4 /home/cpan/bin/perl/lib/5.43.4/amd64-freebsd /home/cpan/bin/perl/lib/5.43.4 .) at /home/cpan/.cpan/build/MozRepl-RemoteObject-0.40-0/blib/lib/MozRepl/AnyEvent.pm line 3.
t/01-expr.t .................... skipped: Couldn't connect to MozRepl: Failed to connect to , problem connecting to "localhost", port 4242: Connection refused at /home/cpan/bin/perl/lib/site_perl/5.43.4/MozRepl/Client.pm line 144
t/01-hash.t .................... skipped: Couldn't connect to MozRepl: Failed to connect to , problem connecting to "localhost", port 4242: Connection refused at /home/cpan/bin/perl/lib/site_perl/5.43.4/MozRepl/Client.pm line 144
t/01-invoke.t .................. skipped: Couldn't connect to MozRepl: Failed to connect to , problem connecting to "localhost", port 4242: Connection refused at /home/cpan/bin/perl/lib/site_perl/5.43.4/MozRepl/Client.pm line 144
# --- Loading object functionality into repl
t/01-multiline-string.t ........ skipped: Couldn't connect to MozRepl: Failed to connect to , problem connecting to "localhost", port 4242: Connection refused at /home/cpan/bin/perl/lib/site_perl/5.43.4/MozRepl/Client.pm line 144
# --- Loading object functionality into repl
t/01-object.t .................. skipped: Couldn't connect to MozRepl: Failed to connect to , problem connecting to "localhost", port 4242: Connection refused at /home/cpan/bin/perl/lib/site_perl/5.43.4/MozRepl/Client.pm line 144
# --- Loading object functionality into repl
t/01-queue.t ................... skipped: Couldn't connect to MozRepl: Failed to connect to , problem connecting to "localhost", port 4242: Connection refused at /home/cpan/bin/perl/lib/site_perl/5.43.4/MozRepl/Client.pm line 144
t/01-release-action.t .......... skipped: Couldn't connect to MozRepl: Failed to connect to , problem connecting to "localhost", port 4242: Connection refused at /home/cpan/bin/perl/lib/site_perl/5.43.4/MozRepl/Client.pm line 144
t/02-multiple-instances.t ...... skipped: Couldn't connect to MozRepl: Failed to connect to , problem connecting to "localhost", port 4242: Connection refused at /home/cpan/bin/perl/lib/site_perl/5.43.4/MozRepl/Client.pm line 144
t/02-repl.t .................... skipped: Couldn't connect to MozRepl: Failed to connect to , problem connecting to "localhost", port 4242: Connection refused at /home/cpan/bin/perl/lib/site_perl/5.43.4/MozRepl/Client.pm line 144
t/02-synopsis.t ................ skipped: Couldn't connect to MozRepl: Failed to connect to , problem connecting to "localhost", port 4242: Connection refused at /home/cpan/bin/perl/lib/site_perl/5.43.4/MozRepl/Client.pm line 144
t/03-unicode.t ................. skipped: Couldn't connect to MozRepl: Failed to connect to , problem connecting to "localhost", port 4242: Connection refused at /home/cpan/bin/perl/lib/site_perl/5.43.4/MozRepl/Client.pm line 144
t/04-looong-input.t ............ skipped: Couldn't connect to MozRepl: Failed to connect to , problem connecting to "localhost", port 4242: Connection refused at /home/cpan/bin/perl/lib/site_perl/5.43.4/MozRepl/Client.pm line 144
t/05-callback-parameter.t ...... skipped: Couldn't connect to MozRepl: Failed to connect to , problem connecting to "localhost", port 4242: Connection refused at /home/cpan/bin/perl/lib/site_perl/5.43.4/MozRepl/Client.pm line 144
t/10-xul-hud.t ................. skipped: Couldn't connect to MozRepl: Failed to connect to , problem connecting to "localhost", port 4242: Connection refused at /home/cpan/bin/perl/lib/site_perl/5.43.4/MozRepl/Client.pm line 144
t/11-memleak-callback.t ........ skipped: Couldn't connect to MozRepl: Failed to connect to , problem connecting to "localhost", port 4242: Connection refused at /home/cpan/bin/perl/lib/site_perl/5.43.4/MozRepl/Client.pm line 144
t/11-memleak-constant.t ........ skipped: Couldn't connect to MozRepl: Failed to connect to , problem connecting to "localhost", port 4242: Connection refused at /home/cpan/bin/perl/lib/site_perl/5.43.4/MozRepl/Client.pm line 144
t/11-memleak-declare.t ......... skipped: Couldn't connect to MozRepl: Failed to connect to , problem connecting to "localhost", port 4242: Connection refused at /home/cpan/bin/perl/lib/site_perl/5.43.4/MozRepl/Client.pm line 144
t/11-memleak.t ................. skipped: Couldn't connect to MozRepl: Failed to connect to , problem connecting to "localhost", port 4242: Connection refused at /home/cpan/bin/perl/lib/site_perl/5.43.4/MozRepl/Client.pm line 144
All tests successful.
Files=28, Tests=1, 2 wallclock secs ( 0.05 usr 0.03 sys + 1.59 cusr 0.41 csys = 2.07 CPU)
Result: PASS
------------------------------
PREREQUISITES
------------------------------
Prerequisite modules loaded:
requires:
Module Need Have
-------------- ----- ----------
Encode 0 3.21
Exporter 0 5.79
File::Basename 0 2.86
IPC::Run 0 20250809.0
JSON 2 4.10
MozRepl 0.06 0.06
parent 0 0.244
perl 5.006 5.043004
Scalar::Util 0 1.70
build_requires:
Module Need Have
-------------- ----- ----------
Task::Weaken 0 1.06
------------------------------
ENVIRONMENT AND OTHER CONTEXT
------------------------------
Environment variables:
AUTOMATED_TESTING = 1
DATE_MANIP_TEST_DM5 = 1
LANG = C.UTF-8
LC_ALL = C
NONINTERACTIVE_TESTING = 1
NO_NETWORK_TESTING = 1
PATH = /home/cpan/bin/perl/bin:/home/cpan/bin:/sbin:/bin:/usr/sbin:/usr/bin:/usr/local/sbin:/usr/local/bin:/home/cpan/bin
PERL5LIB =
PERL5OPT =
PERL5_CPANPLUS_IS_RUNNING = 90374
PERL5_CPAN_IS_RUNNING = 90374
PERL_MM_USE_DEFAULT = 1
PERL_PERTURB_KEYS = 0
PERL_USE_UNSAFE_INC = 1
SHELL = /usr/local/bin/bash
TERM = screen
TMPDIR = /home/cpan/tmp
Perl special variables (and OS-specific diagnostics, for MSWin32):
$^X = /home/cpan/bin/perl/bin/perl5.43.4
$UID/$EUID = 1002 / 1002
$GID = 1002 1002
$EGID = 1002 1002
Perl module toolchain versions installed:
Module Have
------------------- --------
CPAN 2.38
CPAN::Meta 2.150010
Cwd 3.94
ExtUtils::CBuilder 0.280242
ExtUtils::Command 7.76
ExtUtils::Install 2.22
ExtUtils::MakeMaker 7.76
ExtUtils::Manifest 1.75
ExtUtils::ParseXS 3.60
File::Spec 3.94
JSON 4.10
JSON::PP 4.16
Module::Build 0.4234
Module::Signature n/a
Parse::CPAN::Meta 2.150010
Test2 1.302214
Test::Harness 3.52
Test::More 1.302214
YAML 1.31
YAML::Syck 1.34
version 0.9933
--
Summary of my perl5 (revision 5 version 43 subversion 4) configuration:
Commit id: eaf4bbe6e142277034dd9fb4f01f789805053f09
Platform:
osname=freebsd
osvers=14.3-release-p3
archname=amd64-freebsd
uname='freebsd cjg-freebsd14 14.3-release-p3 freebsd 14.3-release-p3 generic amd64 '
config_args='-des -Dprefix=/home/cpan/bin/perl -Dscriptdir=/home/cpan/bin/perl/bin -Dusedevel -Duse64bitall'
hint=recommended
useposix=true
d_sigaction=define
useithreads=undef
usemultiplicity=undef
use64bitint=define
use64bitall=define
uselongdouble=undef
usemymalloc=n
default_inc_excludes_dot=define
Compiler:
cc='cc'
ccflags ='-DHAS_FPSETMASK -DHAS_FLOATINGPOINT_H -DNO_POSIX_2008_LOCALE -fno-strict-aliasing -pipe -fstack-protector-strong -I/usr/local/include'
optimize='-O2'
cppflags='-DHAS_FPSETMASK -DHAS_FLOATINGPOINT_H -DNO_POSIX_2008_LOCALE -fno-strict-aliasing -pipe -fstack-protector-strong -I/usr/local/include'
ccversion=''
gccversion='FreeBSD Clang 19.1.7 (https://github.com/llvm/llvm-project.git llvmorg-19.1.7-0-gcd708029e0b2)'
gccosandvers=''
intsize=4
longsize=8
ptrsize=8
doublesize=8
byteorder=12345678
doublekind=3
d_longlong=define
longlongsize=8
d_longdbl=define
longdblsize=16
longdblkind=3
ivtype='long'
ivsize=8
nvtype='double'
nvsize=8
Off_t='off_t'
lseeksize=8
alignbytes=8
prototype=define
Linker and Libraries:
ld='cc'
ldflags ='-Wl,-E -fstack-protector-strong -L/usr/local/lib'
libpth=/usr/lib /usr/local/lib /usr/lib/clang/19/lib
libs=-lpthread -lgdbm -ldl -lm -lcrypt -lutil -lc
perllibs=-lpthread -ldl -lm -lcrypt -lutil -lc
libc=
so=so
useshrplib=false
libperl=libperl.a
gnulibc_version=''
Dynamic Linking:
dlsrc=dl_dlopen.xs
dlext=so
d_dlsymun=undef
ccdlflags=' '
cccdlflags='-DPIC -fPIC'
lddlflags='-shared -L/usr/local/lib -fstack-protector-strong'
Characteristics of this binary (from libperl):
Compile-time options:
HAS_LONG_DOUBLE
HAS_STRTOLD
HAS_TIMES
PERLIO_LAYERS
PERL_COPY_ON_WRITE
PERL_DONT_CREATE_GVSV
PERL_HASH_FUNC_SIPHASH13
PERL_HASH_USE_SBOX32
PERL_MALLOC_WRAP
PERL_OP_PARENT
PERL_PRESERVE_IVUV
PERL_USE_DEVEL
PERL_USE_SAFE_PUTENV
USE_64_BIT_ALL
USE_64_BIT_INT
USE_LARGE_FILES
USE_LOCALE
USE_LOCALE_COLLATE
USE_LOCALE_CTYPE
USE_LOCALE_NUMERIC
USE_LOCALE_TIME
USE_PERLIO
USE_PERL_ATOF
Built under freebsd
Compiled at Oct 1 2025 11:35:43
%ENV:
PERL5LIB=""
PERL5OPT=""
PERL5_CPANPLUS_IS_RUNNING="90374"
PERL5_CPAN_IS_RUNNING="90374"
PERL_MM_USE_DEFAULT="1"
PERL_PERTURB_KEYS="0"
PERL_USE_UNSAFE_INC="1"
@INC:
/home/cpan/bin/perl/lib/site_perl/5.43.4/amd64-freebsd
/home/cpan/bin/perl/lib/site_perl/5.43.4
/home/cpan/bin/perl/lib/5.43.4/amd64-freebsd
/home/cpan/bin/perl/lib/5.43.4
.