Report for Git-Repository-Plugin-Blame-v1.2.3

Back
From: metabase:user:314402c4-2aae-11df-837a-5e0a49663a4f
Subject: PASS Git-Repository-Plugin-Blame-v1.2.3 v5.18.4 FreeBSD
Date: 2014-11-25T06:11:42Z

This distribution has been tested as part of the CPAN Testers
project, supporting the Perl programming language.  See
http://wiki.cpantesters.org/ for more information or email
questions to cpan-testers-discuss@perl.org


--
Dear Guillaume Aubert,

This is a computer-generated report for Git-Repository-Plugin-Blame-v1.2.3
on perl 5.18.4, created by CPAN-Reporter-1.2011.

Thank you for uploading your work to CPAN.  Congratulations!
All tests were successful.

Sections of this report:

    * Tester comments
    * Program output
    * Prerequisites
    * Environment and other context

------------------------------
TESTER COMMENTS
------------------------------

Additional comments from tester:

none provided

------------------------------
PROGRAM OUTPUT
------------------------------

Output from './Build test':

# Testing Git::Repository::Plugin::Blame 1.2.3, Perl 5.018004, /usr/perl5.18.4/bin/perl
t/00-load.t ........................ ok
# Testing Git::Repository::Plugin::Blame::Cache 1.2.3, Perl 5.018004, /usr/perl5.18.4/bin/perl
t/05-Cache/00-load.t ............... ok
t/05-Cache/10-new.t ................ ok
t/05-Cache/15-get_repository.t ..... ok
t/05-Cache/20-set_blame_lines.t .... ok
t/05-Cache/25-get_blame_lines.t .... ok
t/10-blame.t ....................... ok
# Testing Git::Repository::Plugin::Blame::Line 1.2.3, Perl 5.018004, /usr/perl5.18.4/bin/perl
t/Line/00-load.t ................... ok
t/Line/10-new.t .................... ok
t/Line/20-get_commit_attributes.t .. ok
t/Line/30-get_commit_id.t .......... ok
t/Line/40-get_line.t ............... ok
t/Line/50-get_line_number.t ........ ok
All tests successful.
Files=13, Tests=61,  2 wallclock secs ( 0.06 usr  0.08 sys +  1.39 cusr  0.67 csys =  2.20 CPU)
Result: PASS

------------------------------
PREREQUISITES
------------------------------

Prerequisite modules loaded:

requires:

    Module                       Need  Have    
    ---------------------------- ----- --------
    Carp                         0     1.29    
    Class::Load                  0.2   0.22    
    Data::Validate::Type         0     1.5.1   
    Git::Repository              1.2   1.312   
    Git::Repository::Plugin::Log 0     1.312   
    perl                         5.006 5.018004
    Perl6::Slurp                 0     0.051005

build_requires:

    Module                       Need  Have    
    ---------------------------- ----- --------
    Data::Dumper                 0     2.145   
    Test::Deep                   0     0.113   
    Test::Exception              0     0.35    
    Test::FailWarnings           0     0.008   
    Test::Git                    0     1.312   
    Test::More                   0     1.001009
    Test::Type                   0     1.2.0   

configure_requires:

    Module                       Need  Have    
    ---------------------------- ----- --------
    Module::Build                0     0.4210  


------------------------------
ENVIRONMENT AND OTHER CONTEXT
------------------------------

Environment variables:

    DBIC_NO_WARN_BAD_PERL = 1
    LC_ALL = de_DE.ISO8859-1
    PATH = /usr/local/bin:/usr/bin:/bin:/usr/local/sbin:/usr/sbin:/sbin:/home/cpansand/bin/freebsd10.0:/home/cpansand/bin/sh:/home/cpansand/bin:/usr/games:/home/cpansand/devel:/home/eserte/src/srezic-misc/scripts
    PERL5LIB = /home/cpansand/.cpan/build/Perl6-Slurp-0.051005-ttq9xJ/blib/arch:/home/cpansand/.cpan/build/Perl6-Slurp-0.051005-ttq9xJ/blib/lib:/home/cpansand/.cpan/build/Test-Type-v1.2.0-DwQg74/blib/arch:/home/cpansand/.cpan/build/Test-Type-v1.2.0-DwQg74/blib/lib:/home/cpansand/.cpan/build/Acme-Math-XS-XS-0.0.3-2ERhcS/blib/arch:/home/cpansand/.cpan/build/Acme-Math-XS-XS-0.0.3-2ERhcS/blib/lib
    PERL5OPT = 
    PERL5_CPANPLUS_IS_RUNNING = 33950
    PERL5_CPAN_IS_RUNNING = 33950
    PERL5_CPAN_IS_RUNNING_IN_RECURSION = 33914,33950
    PERLDOC = -MPod::Perldoc::ToTextOverstrike
    PERL_BATCH = yes
    PERL_CPAN_REPORTER_CONFIG = /var/tmp/cpansmoker-1023/VEWK1iEPos_config.ini
    PERL_EXTUTILS_AUTOINSTALL = --defaultdeps
    PERL_HTML_DISPLAY_CLASS = HTML::Display::Mozilla
    SHELL = /usr/local/bin/zsh
    TERM = screen
    TMPDIR = /var/tmp/cpansmoker-1023

Perl special variables (and OS-specific diagnostics, for MSWin32):

    $^X = /usr/perl5.18.4/bin/perl
    $UID/$EUID = 1023 / 1023
    $GID = 1023 1023
    $EGID = 1023 1023

Perl module toolchain versions installed:

    Module              Have    
    ------------------- --------
    CPAN                2.00    
    CPAN::Meta          2.143240
    Cwd                 3.47    
    ExtUtils::CBuilder  0.280210
    ExtUtils::Command   1.17    
    ExtUtils::Install   1.59    
    ExtUtils::MakeMaker 7.02    
    ExtUtils::Manifest  1.69    
    ExtUtils::ParseXS   3.24    
    File::Spec          3.47    
    JSON                2.90    
    JSON::PP            2.27203 
    Module::Build       0.4210  
    Module::Signature   0.73    
    Parse::CPAN::Meta   1.4414  
    Test::Harness       3.34    
    Test::More          1.001009
    YAML                1.12    
    YAML::Syck          1.27    
    version             0.9909  


--

Summary of my perl5 (revision 5 version 18 subversion 4) configuration:
   
  Platform:
    osname=freebsd, osvers=10.0-release-p1, archname=amd64-freebsd
    uname='freebsd cvrsnica-freebsd-10-64bit.herceg.de 10.0-release-p1 freebsd 10.0-release-p1 #0: tue apr 8 06:45:06 utc 2014 root@amd64-builder.daemonology.net:usrobjusrsrcsysgeneric amd64 '
    config_args='-ds -e -Dprefix=/usr/perl5.18.4'
    hint=recommended, useposix=true, d_sigaction=define
    useithreads=undef, usemultiplicity=undef
    useperlio=define, d_sfio=undef, uselargefiles=define, usesocks=undef
    use64bitint=define, use64bitall=define, uselongdouble=undef
    usemymalloc=n, bincompat5005=undef
  Compiler:
    cc='cc', ccflags ='-DHAS_FPSETMASK -DHAS_FLOATINGPOINT_H -fno-strict-aliasing -pipe -fstack-protector -I/usr/local/include',
    optimize='-O',
    cppflags='-DHAS_FPSETMASK -DHAS_FLOATINGPOINT_H -fno-strict-aliasing -pipe -fstack-protector -I/usr/local/include'
    ccversion='', gccversion='4.2.1 Compatible FreeBSD Clang 3.3 (tags/RELEASE_33/final 183502)', gccosandvers=''
    intsize=4, longsize=8, ptrsize=8, doublesize=8, byteorder=12345678
    d_longlong=define, longlongsize=8, d_longdbl=define, longdblsize=16
    ivtype='long', ivsize=8, nvtype='double', nvsize=8, Off_t='off_t', lseeksize=8
    alignbytes=8, prototype=define
  Linker and Libraries:
    ld='cc', ldflags ='-Wl,-E  -fstack-protector -L/usr/local/lib'
    libpth=/usr/lib /usr/local/lib
    libs=-lgdbm -lm -lcrypt -lutil -lc
    perllibs=-lm -lcrypt -lutil -lc
    libc=, so=so, useshrplib=false, libperl=libperl.a
    gnulibc_version=''
  Dynamic Linking:
    dlsrc=dl_dlopen.xs, dlext=so, d_dlsymun=undef, ccdlflags=' '
    cccdlflags='-DPIC -fPIC', lddlflags='-shared  -L/usr/local/lib -fstack-protector'


Characteristics of this binary (from libperl): 
  Compile-time options: HAS_TIMES PERLIO_LAYERS PERL_DONT_CREATE_GVSV
                        PERL_HASH_FUNC_ONE_AT_A_TIME_HARD PERL_MALLOC_WRAP
                        PERL_PRESERVE_IVUV PERL_SAWAMPERSAND USE_64_BIT_ALL
                        USE_64_BIT_INT USE_LARGE_FILES USE_LOCALE
                        USE_LOCALE_COLLATE USE_LOCALE_CTYPE
                        USE_LOCALE_NUMERIC USE_PERLIO USE_PERL_ATOF
  Built under freebsd
  Compiled at Oct  2 2014 08:49:56
  %ENV:
    PERL5LIB="/home/cpansand/.cpan/build/Perl6-Slurp-0.051005-ttq9xJ/blib/arch:/home/cpansand/.cpan/build/Perl6-Slurp-0.051005-ttq9xJ/blib/lib:/home/cpansand/.cpan/build/Test-Type-v1.2.0-DwQg74/blib/arch:/home/cpansand/.cpan/build/Test-Type-v1.2.0-DwQg74/blib/lib:/home/cpansand/.cpan/build/Acme-Math-XS-XS-0.0.3-2ERhcS/blib/arch:/home/cpansand/.cpan/build/Acme-Math-XS-XS-0.0.3-2ERhcS/blib/lib"
    PERL5OPT=""
    PERL5_CPANPLUS_IS_RUNNING="33950"
    PERL5_CPAN_IS_RUNNING="33950"
    PERL5_CPAN_IS_RUNNING_IN_RECURSION="33914,33950"
    PERLDOC="-MPod::Perldoc::ToTextOverstrike"
    PERL_BATCH="yes"
    PERL_CPAN_REPORTER_CONFIG="/var/tmp/cpansmoker-1023/VEWK1iEPos_config.ini"
    PERL_EXTUTILS_AUTOINSTALL="--defaultdeps"
    PERL_HTML_DISPLAY_CLASS="HTML::Display::Mozilla"
  @INC:
    /home/cpansand/.cpan/build/Perl6-Slurp-0.051005-ttq9xJ/blib/arch
    /home/cpansand/.cpan/build/Perl6-Slurp-0.051005-ttq9xJ/blib/lib
    /home/cpansand/.cpan/build/Test-Type-v1.2.0-DwQg74/blib/arch
    /home/cpansand/.cpan/build/Test-Type-v1.2.0-DwQg74/blib/lib
    /home/cpansand/.cpan/build/Acme-Math-XS-XS-0.0.3-2ERhcS/blib/arch
    /home/cpansand/.cpan/build/Acme-Math-XS-XS-0.0.3-2ERhcS/blib/lib
    /usr/perl5.18.4/lib/site_perl/5.18.4/amd64-freebsd
    /usr/perl5.18.4/lib/site_perl/5.18.4
    /usr/perl5.18.4/lib/5.18.4/amd64-freebsd
    /usr/perl5.18.4/lib/5.18.4
    .