Report for Net-Statsd-Server-0.20

Back
From: metabase:user:30f4dfbe-2aae-11df-837a-5e0a49663a4f
Subject: PASS Net-Statsd-Server-0.20 v5.20.3 Mac OS X
Date: 2016-06-03T13:13:13Z

This distribution has been tested as part of the CPAN Testers
project, supporting the Perl programming language.  See
http://wiki.cpantesters.org/ for more information or email
questions to cpan-testers-discuss@perl.org


--
Dear Cosimo Streppone,

This is a computer-generated report for Net-Statsd-Server-0.20
on perl 5.20.3, created by CPAN-Reporter-1.2017.

Thank you for uploading your work to CPAN.  Congratulations!
All tests were successful.

Sections of this report:

    * Tester comments
    * Program output
    * Prerequisites
    * Environment and other context

------------------------------
TESTER COMMENTS
------------------------------

Additional comments from tester:

this report is from an automated smoke testing program
and was not reviewed by a human for accuracy

------------------------------
PROGRAM OUTPUT
------------------------------

Output from '/sw/bin/make test':

PERL_DL_NONLAZY=1 "/Users/hornenj/perl5/perlbrew/perls/perl-5.20.3/bin/perl5.20.3" "-MExtUtils::Command::MM" "-MTest::Harness" "-e" "undef *Test::Harness::Switches; test_harness(0, 'blib/lib', 'blib/arch')" t/*.t t/integration-tests/*.t
t/000-sanity.t ............................. ok
t/config.t ................................. ok
t/graphite.t ............................... ok
2016-06-03 09:13:02.000000 -0400 note  Net::Statsd::Server: Initializing Net::Statsd::Server::Backend::Console backend
2016-06-03 09:13:02.000000 -0400 note  Net::Statsd::Server: Initializing Net::Statsd::Server::Backend::Graphite backend
2016-06-03 09:13:02.000000 -0400 info  AnyEvent: Autoloaded model 'AnyEvent::Impl::EV', using it.
Couldn't set SO_RCVBUF: No buffer space available at /Users/hornenj/.cpan/build/Net-Statsd-Server-0.20-3FMTxe/bin/../lib/Net/Statsd/Server.pm line 709.
2016-06-03 09:13:02.958980 -0400 note  Net::Statsd::Server: statsd server started on 0.0.0.0:40001 (v0.17)
2016-06-03 09:13:02.959001 -0400 note  Net::Statsd::Server: manager interface started on 0.0.0.0:40002
2016-06-03 09:13:02.959033 -0400 note  Net::Statsd::Server: metrics flush will happen every 1s
2016-06-03 09:13:03.389806 -0400 warn  Net::Statsd::Server: Bad line: 1 in msg "a_bad_test_value|z"
2016-06-03 09:13:03.962862 -0400 note  Net::Statsd::Server: flushing metrics
Flushing stats at Fri Jun  3 09:13:03 2016
{"sets":null,"counter_rates":{"statsd.bad_lines_seen":1,"statsd.packets_received":1},"timers":{},"pctThreshold":[90],"counters":{"statsd.packets_received":1,"statsd.bad_lines_seen":1},"timer_data":{},"gauges":{}}
t/integration-tests/bad-message.t .......... ok
2016-06-03 09:13:04.000000 -0400 note  Net::Statsd::Server: Initializing Net::Statsd::Server::Backend::Console backend
2016-06-03 09:13:04.000000 -0400 note  Net::Statsd::Server: Initializing Net::Statsd::Server::Backend::Graphite backend
2016-06-03 09:13:04.000000 -0400 info  AnyEvent: Autoloaded model 'AnyEvent::Impl::EV', using it.
Couldn't set SO_RCVBUF: No buffer space available at /Users/hornenj/.cpan/build/Net-Statsd-Server-0.20-3FMTxe/bin/../lib/Net/Statsd/Server.pm line 709.
2016-06-03 09:13:04.088275 -0400 note  Net::Statsd::Server: statsd server started on 0.0.0.0:40001 (v0.17)
2016-06-03 09:13:04.088296 -0400 note  Net::Statsd::Server: manager interface started on 0.0.0.0:40002
2016-06-03 09:13:04.088326 -0400 note  Net::Statsd::Server: metrics flush will happen every 1s
2016-06-03 09:13:05.087752 -0400 note  Net::Statsd::Server: flushing metrics
Flushing stats at Fri Jun  3 09:13:05 2016
{"sets":null,"pctThreshold":[90],"counter_rates":{"a_test_value":100,"statsd.packets_received":1,"statsd.bad_lines_seen":0},"gauges":{},"timers":{},"timer_data":{},"counters":{"statsd.bad_lines_seen":0,"statsd.packets_received":1,"a_test_value":100}}
# stats.counters.statsd.bad_lines_seen.rate 0.000000 1464959585
# stats.counters.statsd.bad_lines_seen.count 0 1464959585
# stats.counters.statsd.packets_received.rate 1.000000 1464959585
# stats.counters.statsd.packets_received.count 1 1464959585
# stats.counters.a_test_value.rate 100.000000 1464959585
# stats.counters.a_test_value.count 100 1464959585
# stats.statsd.numStats 3 1464959585
# stats.statsd.graphiteStats.calculationtime 0.074000 1464959585
# stats.statsd.processing_time 0.02 1464959585
# stats.statsd.graphiteStats.last_exception 140360101744416 1464959585
# stats.statsd.graphiteStats.last_flush 140360101744416 1464959585
t/integration-tests/counts-are-valid.t ..... ok
2016-06-03 09:13:05.000000 -0400 note  Net::Statsd::Server: Initializing Net::Statsd::Server::Backend::Graphite backend
2016-06-03 09:13:05.000000 -0400 info  AnyEvent: Autoloaded model 'AnyEvent::Impl::EV', using it.
Couldn't set SO_RCVBUF: No buffer space available at /Users/hornenj/.cpan/build/Net-Statsd-Server-0.20-3FMTxe/bin/../lib/Net/Statsd/Server.pm line 709.
2016-06-03 09:13:05.218864 -0400 note  Net::Statsd::Server: statsd server started on 0.0.0.0:40001 (v0.17)
2016-06-03 09:13:05.218885 -0400 note  Net::Statsd::Server: manager interface started on 0.0.0.0:40002
2016-06-03 09:13:05.218916 -0400 note  Net::Statsd::Server: metrics flush will happen every 1s
2016-06-03 09:13:06.222599 -0400 note  Net::Statsd::Server: flushing metrics
# First flush. Test gauge should be there.
2016-06-03 09:13:07.220947 -0400 note  Net::Statsd::Server: flushing metrics
# Second flush. deleteGauges=false should keep the test gauge.
t/integration-tests/delete-gauges-false.t .. ok
2016-06-03 09:13:07.000000 -0400 note  Net::Statsd::Server: Initializing Net::Statsd::Server::Backend::Graphite backend
2016-06-03 09:13:07.000000 -0400 info  AnyEvent: Autoloaded model 'AnyEvent::Impl::EV', using it.
Couldn't set SO_RCVBUF: No buffer space available at /Users/hornenj/.cpan/build/Net-Statsd-Server-0.20-3FMTxe/bin/../lib/Net/Statsd/Server.pm line 709.
2016-06-03 09:13:07.350722 -0400 note  Net::Statsd::Server: statsd server started on 0.0.0.0:40001 (v0.17)
2016-06-03 09:13:07.350743 -0400 note  Net::Statsd::Server: manager interface started on 0.0.0.0:40002
2016-06-03 09:13:07.350773 -0400 note  Net::Statsd::Server: metrics flush will happen every 1s
2016-06-03 09:13:08.352405 -0400 note  Net::Statsd::Server: flushing metrics
# First flush. Test gauge should be there.
2016-06-03 09:13:09.349498 -0400 note  Net::Statsd::Server: flushing metrics
# Second flush. deleteIdleStats should have cleared the test gauge.
t/integration-tests/delete-idle-stats.t .... ok
2016-06-03 09:13:09.000000 -0400 note  Net::Statsd::Server: Initializing Net::Statsd::Server::Backend::Console backend
2016-06-03 09:13:09.000000 -0400 note  Net::Statsd::Server: Initializing Net::Statsd::Server::Backend::Graphite backend
2016-06-03 09:13:09.000000 -0400 info  AnyEvent: Autoloaded model 'AnyEvent::Impl::EV', using it.
Couldn't set SO_RCVBUF: No buffer space available at /Users/hornenj/.cpan/build/Net-Statsd-Server-0.20-3FMTxe/bin/../lib/Net/Statsd/Server.pm line 709.
2016-06-03 09:13:09.477653 -0400 note  Net::Statsd::Server: statsd server started on 0.0.0.0:40001 (v0.17)
2016-06-03 09:13:09.477674 -0400 note  Net::Statsd::Server: manager interface started on 0.0.0.0:40002
2016-06-03 09:13:09.477705 -0400 note  Net::Statsd::Server: metrics flush will happen every 1s
2016-06-03 09:13:10.481565 -0400 note  Net::Statsd::Server: flushing metrics
Flushing stats at Fri Jun  3 09:13:10 2016
{"sets":null,"counter_rates":{"statsd.bad_lines_seen":0,"a_test_value,category=web,severity=high":100,"statsd.packets_received":1},"timer_data":{},"gauges":{},"timers":{},"pctThreshold":[90],"counters":{"statsd.packets_received":1,"a_test_value,category=web,severity=high":100,"statsd.bad_lines_seen":0}}
# stats.counters.statsd.packets_received.rate 1.000000 1464959590
# stats.counters.statsd.packets_received.count 1 1464959590
# stats.counters.a_test_value,category=web,severity=high.rate 100.000000 1464959590
# stats.counters.a_test_value,category=web,severity=high.count 100 1464959590
# stats.counters.statsd.bad_lines_seen.rate 0.000000 1464959590
# stats.counters.statsd.bad_lines_seen.count 0 1464959590
# stats.statsd.numStats 3 1464959590
# stats.statsd.graphiteStats.calculationtime 0.039000 1464959590
# stats.statsd.processing_time 0.02 1464959590
# stats.statsd.graphiteStats.last_exception 140248046718752 1464959590
# stats.statsd.graphiteStats.last_flush 140248046718752 1464959590
t/integration-tests/keys-with-tags.t ....... ok
2016-06-03 09:13:10.000000 -0400 note  Net::Statsd::Server: Initializing Net::Statsd::Server::Backend::Graphite backend
2016-06-03 09:13:10.000000 -0400 info  AnyEvent: Autoloaded model 'AnyEvent::Impl::EV', using it.
Couldn't set SO_RCVBUF: No buffer space available at /Users/hornenj/.cpan/build/Net-Statsd-Server-0.20-3FMTxe/bin/../lib/Net/Statsd/Server.pm line 709.
2016-06-03 09:13:10.612756 -0400 note  Net::Statsd::Server: statsd server started on 0.0.0.0:40001 (v0.17)
2016-06-03 09:13:10.612776 -0400 note  Net::Statsd::Server: manager interface started on 0.0.0.0:40002
2016-06-03 09:13:10.612797 -0400 note  Net::Statsd::Server: metrics flush will happen every 1s
# Expected mean value is 1898.11
2016-06-03 09:13:11.616738 -0400 note  Net::Statsd::Server: flushing metrics
# stats.counters.statsd.bad_lines_seen.rate 0.000000 1464959591
# stats.counters.statsd.bad_lines_seen.count 0 1464959591
# stats.counters.statsd.packets_received.rate 100.000000 1464959591
# stats.counters.statsd.packets_received.count 100 1464959591
# stats.timers.read_latency.median 1868.500000 1464959591
# stats.timers.read_latency.sum_squares_99 382339007.000000 1464959591
# stats.timers.read_latency.count_95 95.000000 1464959591
# stats.timers.read_latency.mean_99 1887.404040 1464959591
# stats.timers.read_latency.sum_squares_95 349364750.000000 1464959591
# stats.timers.read_latency.std 555.037060 1464959591
# stats.timers.read_latency.sum_99 186853.000000 1464959591
# stats.timers.read_latency.mean 1898.110000 1464959591
# stats.timers.read_latency.sum_squares 391088771.000000 1464959591
# stats.timers.read_latency.count_98 98.000000 1464959591
# stats.timers.read_latency.sum_squares_98 373701286.000000 1464959591
# stats.timers.read_latency.upper_95 2766.000000 1464959591
# stats.timers.read_latency.upper 2958.000000 1464959591
# stats.timers.read_latency.count_99 99.000000 1464959591
# stats.timers.read_latency.mean_98 1876.673469 1464959591
# stats.timers.read_latency.lower 1018.000000 1464959591
# stats.timers.read_latency.mean_95 1846.000000 1464959591
# stats.timers.read_latency.sum_98 183914.000000 1464959591
# stats.timers.read_latency.sum_95 175370.000000 1464959591
# stats.timers.read_latency.upper_99 2939.000000 1464959591
# stats.timers.read_latency.sum 189811.000000 1464959591
# stats.timers.read_latency.count_ps 100.000000 1464959591
# stats.timers.read_latency.count 100.000000 1464959591
# stats.timers.read_latency.upper_98 2890.000000 1464959591
# stats.statsd.numStats 3 1464959591
# stats.statsd.graphiteStats.calculationtime 0.078000 1464959591
# stats.statsd.processing_time 0.189 1464959591
# stats.statsd.graphiteStats.last_exception 140192589631264 1464959591
# stats.statsd.graphiteStats.last_flush 140192589631264 1464959591
t/integration-tests/percent-threshold.t .... ok
2016-06-03 09:13:11.000000 -0400 note  Net::Statsd::Server: Initializing Net::Statsd::Server::Backend::Console backend
2016-06-03 09:13:11.000000 -0400 note  Net::Statsd::Server: Initializing Net::Statsd::Server::Backend::Graphite backend
2016-06-03 09:13:11.000000 -0400 info  AnyEvent: Autoloaded model 'AnyEvent::Impl::EV', using it.
Couldn't set SO_RCVBUF: No buffer space available at /Users/hornenj/.cpan/build/Net-Statsd-Server-0.20-3FMTxe/bin/../lib/Net/Statsd/Server.pm line 709.
2016-06-03 09:13:11.749773 -0400 note  Net::Statsd::Server: statsd server started on 0.0.0.0:40001 (v0.17)
2016-06-03 09:13:11.749794 -0400 note  Net::Statsd::Server: manager interface started on 0.0.0.0:40002
2016-06-03 09:13:11.749825 -0400 note  Net::Statsd::Server: metrics flush will happen every 1s
2016-06-03 09:13:12.752291 -0400 note  Net::Statsd::Server: flushing metrics
Flushing stats at Fri Jun  3 09:13:12 2016
{"pctThreshold":["90"],"counter_rates":{"statsd.bad_lines_seen":0,"statsd.packets_received":1},"sets":null,"timer_data":{"a_test_value":{"mean_90":"100","sum_90":"100","mean":100,"sum_squares_90":10000,"count":1,"lower":"100","count_90":1,"std":0,"count_ps":1,"sum_squares":10000,"upper_90":"100","upper":"100","sum":"100","median":"100"}},"gauges":{},"timers":{"a_test_value":["100"]},"counters":{"statsd.bad_lines_seen":0,"statsd.packets_received":1}}
# stats.counters.statsd.bad_lines_seen.rate 0.000000 1464959592
# stats.counters.statsd.bad_lines_seen.count 0 1464959592
# stats.counters.statsd.packets_received.rate 1.000000 1464959592
# stats.counters.statsd.packets_received.count 1 1464959592
# stats.timers.a_test_value.mean_90 100.000000 1464959592
# stats.timers.a_test_value.sum_90 100.000000 1464959592
# stats.timers.a_test_value.mean 100.000000 1464959592
# stats.timers.a_test_value.sum_squares_90 10000.000000 1464959592
# stats.timers.a_test_value.count 1.000000 1464959592
# stats.timers.a_test_value.lower 100.000000 1464959592
# stats.timers.a_test_value.count_90 1.000000 1464959592
# stats.timers.a_test_value.std 0.000000 1464959592
# stats.timers.a_test_value.count_ps 1.000000 1464959592
# stats.timers.a_test_value.sum_squares 10000.000000 1464959592
# stats.timers.a_test_value.upper_90 100.000000 1464959592
# stats.timers.a_test_value.upper 100.000000 1464959592
# stats.timers.a_test_value.sum 100.000000 1464959592
# stats.timers.a_test_value.median 100.000000 1464959592
# stats.statsd.numStats 3 1464959592
# stats.statsd.graphiteStats.calculationtime 0.068000 1464959592
# stats.statsd.processing_time 0.05 1464959592
# stats.statsd.graphiteStats.last_exception 140262408015648 1464959592
# stats.statsd.graphiteStats.last_flush 140262408015648 1464959592
t/integration-tests/timers-are-valid.t ..... ok
t/process-metrics.t ........................ ok
t/trim.t ................................... ok
All tests successful.
Files=12, Tests=92, 10 wallclock secs ( 0.04 usr  0.02 sys +  0.57 cusr  0.16 csys =  0.79 CPU)
Result: PASS

------------------------------
PREREQUISITES
------------------------------

Prerequisite modules loaded:

requires:

    Module                Need Have    
    --------------------- ---- --------
    AnyEvent::Handle::UDP 0    0.043   
    IO::Socket::INET      0    1.35    
    JSON::XS              0    3.01    

build_requires:

    Module                Need Have    
    --------------------- ---- --------
    ExtUtils::MakeMaker   0    7.10    
    Test::More            0    1.001014

configure_requires:

    Module                Need Have    
    --------------------- ---- --------
    ExtUtils::MakeMaker   0    7.10    


------------------------------
ENVIRONMENT AND OTHER CONTEXT
------------------------------

Environment variables:

    AUTOMATED_TESTING = 1
    LANG = en_US.UTF-8
    LC_ALL = POSIX
    NO_NETWORK_TESTING = 1
    PATH = /Users/hornenj/perl5/perlbrew/bin:/Users/hornenj/perl5/perlbrew/perls/perl-5.20.3/bin:/Users/hornenj/perl5/perlbrew/bin:/Users/hornenj/perl5/perlbrew/perls/perl-5.25.0/bin:/Users/hornenj/bin:/sw/lib/perl5/ExtUtils:/sw/bin:/am/ncbiapdata/bin:/usr/bin:/bin:/usr/X11R6/bin:/netopt/ncbi_tools/bin:/usr/local/ncbi/blast/bin:/net/traces01.be-md.ncbi.nlm.nih.gov/trace_software/vdb/mac/release/x86_64/bin
    PERL5LIB = /Users/hornenj/.cpan/build/AnyEvent-Handle-UDP-0.043-b8mBEn/blib/arch:/Users/hornenj/.cpan/build/AnyEvent-Handle-UDP-0.043-b8mBEn/blib/lib
    PERL5OPT = 
    PERL5_CPANPLUS_IS_RUNNING = 81120
    PERL5_CPAN_IS_RUNNING = 81120
    PERL5_MINISMOKEBOX = 0.58
    PERLBREW_BASHRC_VERSION = 0.75
    PERLBREW_HOME = /Users/hornenj/.perlbrew
    PERLBREW_LIB = 
    PERLBREW_MANPATH = /Users/hornenj/perl5/perlbrew/perls/perl-5.20.3/man
    PERLBREW_PATH = /Users/hornenj/perl5/perlbrew/bin:/Users/hornenj/perl5/perlbrew/perls/perl-5.20.3/bin
    PERLBREW_PERL = perl-5.20.3
    PERLBREW_ROOT = /Users/hornenj/perl5/perlbrew
    PERLBREW_VERSION = 0.75
    PERL_EXTUTILS_AUTOINSTALL = --defaultdeps
    PERL_LOCAL_LIB_ROOT = 
    PERL_MM_USE_DEFAULT = 1
    SHELL = /bin/bash
    TERM = xterm-256color
    TMPDIR = /var/folders/pz/pd7y1qjs6s3cbk170cw50fjc000c61/T/
    ac_cv_path_INTLTOOL_PERL = /usr/bin/perl

Perl special variables (and OS-specific diagnostics, for MSWin32):

    $^X = /Users/hornenj/perl5/perlbrew/perls/perl-5.20.3/bin/perl5.20.3
    $UID/$EUID = 12481 / 12481
    $GID = 14 14 5344 37191 527 241
    $EGID = 14 14 5344 37191 527 241

Perl module toolchain versions installed:

    Module              Have    
    ------------------- --------
    CPAN                2.10    
    CPAN::Meta          2.150005
    Cwd                 3.48_01 
    ExtUtils::CBuilder  0.280224
    ExtUtils::Command   7.10    
    ExtUtils::Install   2.04    
    ExtUtils::MakeMaker 7.10    
    ExtUtils::Manifest  1.70    
    ExtUtils::ParseXS   3.30    
    File::Spec          3.48_01 
    JSON                2.90    
    JSON::PP            2.27300 
    Module::Build       0.4214  
    Module::Signature   n/a     
    Parse::CPAN::Meta   1.4417  
    Test::Harness       3.35    
    Test::More          1.001014
    YAML                1.15    
    YAML::Syck          1.29    
    version             0.9912  


--

Summary of my perl5 (revision 5 version 20 subversion 3) configuration:
   
  Platform:
    osname=darwin, osvers=14.5.0, archname=darwin-thread-multi-2level
    uname='darwin ncbimac2027.ncbi.nlm.nih.gov 14.5.0 darwin kernel version 14.5.0: wed jul 29 02:26:53 pdt 2015; root:xnu-2782.40.9~1release_x86_64 x86_64 '
    config_args='-de -Dprefix=/Users/hornenj/perl5/perlbrew/perls/perl-5.20.3 -Duseithreads -Dusemultiplicity -Dusedevel -Accflags=-O2 -W -Wformat=2 -Wswitch -Wshadow -Wwrite-strings -Wuninitialized -Wall -pipe -mtune=native -march=native -fomit-frame-pointer -msse2 -msse -mmmx -pedantic -D_FORTIFY_SOURCE=2 -Wpointer-arith -Wstrict-prototypes -fstack-protector -Wstack-protector -Wextra -Wbad-function-cast -Wcast-align -Wcast-qual -Wdisabled-optimization -Wendif-labels -Wfloat-equal -Wformat-nonliteral -Winline -Wmissing-declarations -Wmissing-prototypes -Wnested-externs -Wpointer-arith -Wundef -Wformat-security -fassociative-math -Acc=cc -Aeval:scriptdir=/Users/hornenj/perl5/perlbrew/perls/perl-5.20.3/bin'
    hint=recommended, useposix=true, d_sigaction=define
    useithreads=define, usemultiplicity=define
    use64bitint=define, use64bitall=define, uselongdouble=undef
    usemymalloc=n, bincompat5005=undef
  Compiler:
    cc=' cc', ccflags ='-fno-common -DPERL_DARWIN -O2 -W -Wformat=2 -Wswitch -Wshadow -Wwrite-strings -Wuninitialized -Wall -pipe -mtune=native -march=native -fomit-frame-pointer -msse2 -msse -mmmx -pedantic -D_FORTIFY_SOURCE=2 -Wpointer-arith -Wstrict-prototypes -fstack-protector -Wstack-protector -Wextra -Wbad-function-cast -Wcast-align -Wcast-qual -Wdisabled-optimization -Wendif-labels -Wfloat-equal -Wformat-nonliteral -Winline -Wmissing-declarations -Wmissing-prototypes -Wnested-externs -Wpointer-arith -Wundef -Wformat-security -fassociative-math -fno-strict-aliasing -I/usr/local/include',
    optimize='-O3',
    cppflags='-fno-common -DPERL_DARWIN -O2 -W -Wformat=2 -Wswitch -Wshadow -Wwrite-strings -Wuninitialized -Wall -pipe -mtune=native -march=native -fomit-frame-pointer -msse2 -msse -mmmx -pedantic -D_FORTIFY_SOURCE=2 -Wpointer-arith -Wstrict-prototypes -fstack-protector -Wstack-protector -Wextra -Wbad-function-cast -Wcast-align -Wcast-qual -Wdisabled-optimization -Wendif-labels -Wfloat-equal -Wformat-nonliteral -Winline -Wmissing-declarations -Wmissing-prototypes -Wnested-externs -Wpointer-arith -Wundef -Wformat-security -fassociative-math -fno-strict-aliasing -I/usr/local/include'
    ccversion='', gccversion='4.2.1 Compatible Apple LLVM 6.0 (clang-600.0.56)', gccosandvers=''
    intsize=4, longsize=8, ptrsize=8, doublesize=8, byteorder=12345678
    d_longlong=define, longlongsize=8, d_longdbl=define, longdblsize=16
    ivtype='long', ivsize=8, nvtype='double', nvsize=8, Off_t='off_t', lseeksize=8
    alignbytes=8, prototype=define
  Linker and Libraries:
    ld='env MACOSX_DEPLOYMENT_TARGET=10.3 cc', ldflags =' -fstack-protector -L/usr/local/lib'
    libpth=/Applications/Xcode.app/Contents/Developer/Toolchains/XcodeDefault.xctoolchain/usr/bin/../lib/clang/6.0/lib /Applications/Xcode.app/Contents/Developer/Toolchains/XcodeDefault.xctoolchain/usr/lib /Applications/Xcode.app/Contents/Developer/Platforms/MacOSX.platform/Developer/SDKs/MacOSX10.10.sdk/usr/lib /usr/local/lib /usr/lib
    libs=-lpthread -ldbm -ldl -lm -lutil -lc
    perllibs=-lpthread -ldl -lm -lutil -lc
    libc=, so=dylib, useshrplib=false, libperl=libperl.a
    gnulibc_version=''
  Dynamic Linking:
    dlsrc=dl_dlopen.xs, dlext=bundle, d_dlsymun=undef, ccdlflags=' '
    cccdlflags=' ', lddlflags=' -bundle -undefined dynamic_lookup -L/usr/local/lib -fstack-protector'


Characteristics of this binary (from libperl): 
  Compile-time options: HAS_TIMES MULTIPLICITY PERLIO_LAYERS
                        PERL_DONT_CREATE_GVSV
                        PERL_HASH_FUNC_ONE_AT_A_TIME_HARD
                        PERL_IMPLICIT_CONTEXT PERL_MALLOC_WRAP
                        PERL_NEW_COPY_ON_WRITE PERL_PRESERVE_IVUV
                        PERL_USE_DEVEL USE_64_BIT_ALL USE_64_BIT_INT
                        USE_ITHREADS USE_LARGE_FILES USE_LOCALE
                        USE_LOCALE_COLLATE USE_LOCALE_CTYPE
                        USE_LOCALE_NUMERIC USE_PERLIO USE_PERL_ATOF
                        USE_REENTRANT_API
  Locally applied patches:
	Devel::PatchPerl 1.30
  Built under darwin
  Compiled at Sep 14 2015 07:51:22
  %ENV:
    PERL5LIB="/Users/hornenj/.cpan/build/AnyEvent-Handle-UDP-0.043-b8mBEn/blib/arch:/Users/hornenj/.cpan/build/AnyEvent-Handle-UDP-0.043-b8mBEn/blib/lib"
    PERL5OPT=""
    PERL5_CPANPLUS_IS_RUNNING="81120"
    PERL5_CPAN_IS_RUNNING="81120"
    PERL5_MINISMOKEBOX="0.58"
    PERLBREW_BASHRC_VERSION="0.75"
    PERLBREW_HOME="/Users/hornenj/.perlbrew"
    PERLBREW_LIB=""
    PERLBREW_MANPATH="/Users/hornenj/perl5/perlbrew/perls/perl-5.20.3/man"
    PERLBREW_PATH="/Users/hornenj/perl5/perlbrew/bin:/Users/hornenj/perl5/perlbrew/perls/perl-5.20.3/bin"
    PERLBREW_PERL="perl-5.20.3"
    PERLBREW_ROOT="/Users/hornenj/perl5/perlbrew"
    PERLBREW_VERSION="0.75"
    PERL_EXTUTILS_AUTOINSTALL="--defaultdeps"
    PERL_LOCAL_LIB_ROOT=""
    PERL_MM_USE_DEFAULT="1"
  @INC:
    /Users/hornenj/.cpan/build/AnyEvent-Handle-UDP-0.043-b8mBEn/blib/arch
    /Users/hornenj/.cpan/build/AnyEvent-Handle-UDP-0.043-b8mBEn/blib/lib
    /Users/hornenj/perl5/perlbrew/perls/perl-5.20.3/lib/site_perl/5.20.3/darwin-thread-multi-2level
    /Users/hornenj/perl5/perlbrew/perls/perl-5.20.3/lib/site_perl/5.20.3
    /Users/hornenj/perl5/perlbrew/perls/perl-5.20.3/lib/5.20.3/darwin-thread-multi-2level
    /Users/hornenj/perl5/perlbrew/perls/perl-5.20.3/lib/5.20.3
    .