Report for Gtk2-1.245

Back
From: metabase:user:11c2fc28-e21a-11e0-b760-6f64b2402b71
Subject: PASS Gtk2-1.245 v5.12.4 GNU/Linux
Date: 2012-10-21T21:47:36Z

This distribution has been tested as part of the CPAN Testers
project, supporting the Perl programming language.  See
http://wiki.cpantesters.org/ for more information or email
questions to cpan-testers-discuss@perl.org


--
Dear Torsten Schoenfeld,

This is a computer-generated report for Gtk2-1.245
on perl 5.12.4, created by CPAN-Reporter-1.2005.

Thank you for uploading your work to CPAN.  Congratulations!
All tests were successful.

Sections of this report:

    * Tester comments
    * Program output
    * Prerequisites
    * Environment and other context

------------------------------
TESTER COMMENTS
------------------------------

Additional comments from tester:

none provided

------------------------------
PROGRAM OUTPUT
------------------------------

Output from '/usr/bin/make test':

PERL_DL_NONLAZY=1 /usr/bin/perl5.12.4 "-MExtUtils::Command::MM" "-e" "test_harness(0, 'blib/lib', 'blib/arch')" t/*.t
# Testing Gtk2 1.245
#    Running against gtk+ 2.24.10
#   Compiled against gtk+ 2.24.10
#               and pango 1.29.4
No protocol specified
t/00.Gtk2.t ........................ ok
No protocol specified
t/01.GtkWindow.t ................... skipped: Gtk2->init_check failed, probably unable to open DISPLAY
No protocol specified
t/02.GtkContainer.t ................ skipped: Gtk2->init_check failed, probably unable to open DISPLAY
No protocol specified
t/Gdk.t ............................ skipped: Gtk2->init_check failed, probably unable to open DISPLAY
No protocol specified
t/GdkCairo.t ....................... skipped: Gtk2->init_check failed, probably unable to open DISPLAY
No protocol specified
t/GdkColor.t ....................... skipped: Gtk2->init_check failed, probably unable to open DISPLAY
No protocol specified
t/GdkCursor.t ...................... skipped: Gtk2->init_check failed, probably unable to open DISPLAY
No protocol specified
t/GdkDisplay.t ..................... skipped: Gtk2->init_check failed, probably unable to open DISPLAY
No protocol specified
t/GdkDisplayManager.t .............. skipped: Gtk2->init_check failed, probably unable to open DISPLAY
No protocol specified
t/GdkDnd.t ......................... skipped: Gtk2->init_check failed, probably unable to open DISPLAY
No protocol specified
t/GdkDrawable.t .................... skipped: Gtk2->init_check failed, probably unable to open DISPLAY
No protocol specified
t/GdkEvent.t ....................... skipped: Gtk2->init_check failed, probably unable to open DISPLAY
No protocol specified
t/GdkGC.t .......................... skipped: Gtk2->init_check failed, probably unable to open DISPLAY
No protocol specified
t/GdkImage.t ....................... skipped: Gtk2->init_check failed, probably unable to open DISPLAY
No protocol specified
t/GdkInput.t ....................... skipped: Gtk2->init_check failed, probably unable to open DISPLAY
No protocol specified
t/GdkKeys.t ........................ skipped: Gtk2->init_check failed, probably unable to open DISPLAY
No protocol specified
t/GdkPango.t ....................... skipped: Gtk2->init_check failed, probably unable to open DISPLAY
No protocol specified
t/GdkPixbuf.t ...................... ok
t/GdkPixbufLoader.t ................ ok
t/GdkPixbufSimpleAnim.t ............ ok
No protocol specified
t/GdkPixmap.t ...................... skipped: Gtk2->init_check failed, probably unable to open DISPLAY
No protocol specified
t/GdkProperty.t .................... skipped: Gtk2->init_check failed, probably unable to open DISPLAY
t/GdkRegion.t ...................... ok
No protocol specified
t/GdkRgb.t ......................... skipped: Gtk2->init_check failed, probably unable to open DISPLAY
No protocol specified
t/GdkScreen.t ...................... skipped: Gtk2->init_check failed, probably unable to open DISPLAY
No protocol specified
t/GdkSelection.t ................... skipped: Gtk2->init_check failed, probably unable to open DISPLAY
No protocol specified
t/GdkVisual.t ...................... skipped: Gtk2->init_check failed, probably unable to open DISPLAY
No protocol specified
t/GdkWindow.t ...................... skipped: Gtk2->init_check failed, probably unable to open DISPLAY
No protocol specified
t/GdkX11.t ......................... skipped: Gtk2->init_check failed, probably unable to open DISPLAY
No protocol specified
t/GtkAboutDialog.t ................. skipped: Gtk2->init_check failed, probably unable to open DISPLAY
No protocol specified
t/GtkAccelGroup.t .................. skipped: Gtk2->init_check failed, probably unable to open DISPLAY
No protocol specified
t/GtkAccelLabel.t .................. skipped: Gtk2->init_check failed, probably unable to open DISPLAY
No protocol specified
t/GtkAccelMap.t .................... skipped: Gtk2->init_check failed, probably unable to open DISPLAY
No protocol specified
t/GtkAction.t ...................... skipped: Gtk2->init_check failed, probably unable to open DISPLAY
No protocol specified
t/GtkActionGroup.t ................. skipped: Gtk2->init_check failed, probably unable to open DISPLAY
No protocol specified
t/GtkActivatable.t ................. skipped: Gtk2->init_check failed, probably unable to open DISPLAY
t/GtkAdjustment.t .................. ok
t/GtkAlignment.t ................... ok
t/GtkArrow.t ....................... ok
t/GtkAspectFrame.t ................. ok
No protocol specified
t/GtkAssistant.t ................... skipped: Gtk2->init_check failed, probably unable to open DISPLAY
No protocol specified
t/GtkBin.t ......................... skipped: Gtk2->init_check failed, probably unable to open DISPLAY
No protocol specified
t/GtkBindings.t .................... skipped: Gtk2->init_check failed, probably unable to open DISPLAY
No protocol specified
t/GtkBox.t ......................... skipped: Gtk2->init_check failed, probably unable to open DISPLAY
No protocol specified
t/GtkBuildable.t ................... skipped: Gtk2->init_check failed, probably unable to open DISPLAY
No protocol specified
t/GtkBuildableIface.t .............. skipped: Gtk2->init_check failed, probably unable to open DISPLAY
No protocol specified
t/GtkBuilder.t ..................... skipped: Gtk2->init_check failed, probably unable to open DISPLAY
No protocol specified
t/GtkButton.t ...................... skipped: Gtk2->init_check failed, probably unable to open DISPLAY
No protocol specified
t/GtkButtonBox.t ................... skipped: Gtk2->init_check failed, probably unable to open DISPLAY
No protocol specified
t/GtkCalendar.t .................... skipped: Gtk2->init_check failed, probably unable to open DISPLAY
No protocol specified
t/GtkCellEditable.t ................ skipped: Gtk2->init_check failed, probably unable to open DISPLAY
No protocol specified
t/GtkCellLayout.t .................. skipped: Gtk2->init_check failed, probably unable to open DISPLAY
No protocol specified
t/GtkCellLayoutIface.t ............. skipped: Gtk2->init_check failed, probably unable to open DISPLAY
No protocol specified
t/GtkCellRenderer.t ................ skipped: Gtk2->init_check failed, probably unable to open DISPLAY
t/GtkCellRendererAccel.t ........... ok
t/GtkCellRendererCombo.t ........... ok
No protocol specified
t/GtkCellRendererIface-Chaining.t .. skipped: Gtk2->init_check failed, probably unable to open DISPLAY
t/GtkCellRendererPixbuf.t .......... ok
t/GtkCellRendererProgress.t ........ ok
t/GtkCellRendererSpin.t ............ ok
t/GtkCellRendererSpinner.t ......... ok
t/GtkCellRendererText.t ............ ok
t/GtkCellRendererToggle.t .......... ok
No protocol specified
t/GtkCellView.t .................... skipped: Gtk2->init_check failed, probably unable to open DISPLAY
No protocol specified
t/GtkCheckButton.t ................. skipped: Gtk2->init_check failed, probably unable to open DISPLAY
No protocol specified
t/GtkCheckMenuItem.t ............... skipped: Gtk2->init_check failed, probably unable to open DISPLAY
No protocol specified
t/GtkClipboard.t ................... skipped: Gtk2->init_check failed, probably unable to open DISPLAY
No protocol specified
t/GtkColorButton.t ................. skipped: Gtk2->init_check failed, probably unable to open DISPLAY
No protocol specified
t/GtkColorSelection.t .............. skipped: Gtk2->init_check failed, probably unable to open DISPLAY
No protocol specified
t/GtkColorSelectionDialog.t ........ skipped: Gtk2->init_check failed, probably unable to open DISPLAY
No protocol specified
t/GtkCombo.t ....................... skipped: Gtk2->init_check failed, probably unable to open DISPLAY
No protocol specified
t/GtkComboBox.t .................... skipped: Gtk2->init_check failed, probably unable to open DISPLAY
No protocol specified
t/GtkComboBoxEntry.t ............... skipped: Gtk2->init_check failed, probably unable to open DISPLAY
No protocol specified
t/GtkCurve.t ....................... skipped: Gtk2->init_check failed, probably unable to open DISPLAY
No protocol specified
t/GtkDialog.t ...................... skipped: Gtk2->init_check failed, probably unable to open DISPLAY
No protocol specified
t/GtkDnd.t ......................... skipped: Gtk2->init_check failed, probably unable to open DISPLAY
t/GtkDrawingArea.t ................. ok
No protocol specified
t/GtkEditable.t .................... skipped: Gtk2->init_check failed, probably unable to open DISPLAY
No protocol specified
t/GtkEntry.t ....................... skipped: Gtk2->init_check failed, probably unable to open DISPLAY
No protocol specified
t/GtkEntryBuffer.t ................. skipped: Gtk2->init_check failed, probably unable to open DISPLAY
No protocol specified
t/GtkEntryCompletion.t ............. skipped: Gtk2->init_check failed, probably unable to open DISPLAY
t/GtkEventBox.t .................... ok
No protocol specified
t/GtkExpander.t .................... skipped: Gtk2->init_check failed, probably unable to open DISPLAY
t/GtkFileChooser.t ................. skipped: this test is unreliable
No protocol specified
t/GtkFileChooserButton.t ........... skipped: Gtk2->init_check failed, probably unable to open DISPLAY
No protocol specified
t/GtkFileChooserDialog.t ........... skipped: Gtk2->init_check failed, probably unable to open DISPLAY
No protocol specified
t/GtkFileChooserWidget.t ........... skipped: Gtk2->init_check failed, probably unable to open DISPLAY
t/GtkFileFilter.t .................. ok
No protocol specified
t/GtkFileSelection.t ............... skipped: Gtk2->init_check failed, probably unable to open DISPLAY
t/GtkFixed.t ....................... ok
No protocol specified
t/GtkFontButton.t .................. skipped: Gtk2->init_check failed, probably unable to open DISPLAY
No protocol specified
t/GtkFontSelection.t ............... skipped: Gtk2->init_check failed, probably unable to open DISPLAY
t/GtkFrame.t ....................... ok
No protocol specified
t/GtkGammaCurve.t .................. skipped: Gtk2->init_check failed, probably unable to open DISPLAY
No protocol specified
t/GtkGC.t .......................... skipped: Gtk2->init_check failed, probably unable to open DISPLAY
t/GtkHandleBox.t ................... ok
t/GtkHBox.t ........................ ok
t/GtkHButtonBox.t .................. ok
t/GtkHPaned.t ...................... ok
t/GtkHRuler.t ...................... ok
No protocol specified
t/GtkHScale.t ...................... skipped: Gtk2->init_check failed, probably unable to open DISPLAY
t/GtkHScrollbar.t .................. ok
t/GtkHSeparator.t .................. ok
t/GtkHSV.t ......................... ok
No protocol specified
t/GtkIconFactory.t ................. skipped: Gtk2->init_check failed, probably unable to open DISPLAY
No protocol specified
t/GtkIconTheme.t ................... skipped: Gtk2->init_check failed, probably unable to open DISPLAY
No protocol specified
t/GtkIconView.t .................... skipped: Gtk2->init_check failed, probably unable to open DISPLAY
No protocol specified
t/GtkImage.t ....................... skipped: Gtk2->init_check failed, probably unable to open DISPLAY
No protocol specified
t/GtkImageMenuItem.t ............... skipped: Gtk2->init_check failed, probably unable to open DISPLAY
No protocol specified
t/GtkIMContext.t ................... skipped: Gtk2->init_check failed, probably unable to open DISPLAY
No protocol specified
t/GtkInfoBar.t ..................... skipped: Gtk2->init_check failed, probably unable to open DISPLAY
No protocol specified
t/GtkInputDialog.t ................. skipped: Gtk2->init_check failed, probably unable to open DISPLAY
No protocol specified
t/GtkInvisible.t ................... skipped: Gtk2->init_check failed, probably unable to open DISPLAY
No protocol specified
t/GtkItemFactory.t ................. skipped: Gtk2->init_check failed, probably unable to open DISPLAY
No protocol specified
t/GtkLabel.t ....................... skipped: Gtk2->init_check failed, probably unable to open DISPLAY
No protocol specified
t/GtkLayout.t ...................... skipped: Gtk2->init_check failed, probably unable to open DISPLAY
No protocol specified
t/GtkLinkButton.t .................. skipped: Gtk2->init_check failed, probably unable to open DISPLAY
No protocol specified
t/GtkListStore.t ................... skipped: Gtk2->init_check failed, probably unable to open DISPLAY
No protocol specified
t/GtkMenu.t ........................ skipped: Gtk2->init_check failed, probably unable to open DISPLAY
t/GtkMenuBar.t ..................... ok
No protocol specified
t/GtkMenuItem.t .................... skipped: Gtk2->init_check failed, probably unable to open DISPLAY
No protocol specified
t/GtkMenuShell.t ................... skipped: Gtk2->init_check failed, probably unable to open DISPLAY
No protocol specified
t/GtkMenuToolButton.t .............. skipped: Gtk2->init_check failed, probably unable to open DISPLAY
No protocol specified
t/GtkMessageDialog.t ............... skipped: Gtk2->init_check failed, probably unable to open DISPLAY
t/GtkMisc.t ........................ ok
No protocol specified
t/GtkNotebook.t .................... skipped: Gtk2->init_check failed, probably unable to open DISPLAY
t/GtkObject.t ...................... ok
No protocol specified
t/GtkOffscreenWindow.t ............. skipped: Gtk2->init_check failed, probably unable to open DISPLAY
No protocol specified
t/GtkOptionMenu.t .................. skipped: Gtk2->init_check failed, probably unable to open DISPLAY
No protocol specified
t/GtkOrientable.t .................. skipped: Gtk2->init_check failed, probably unable to open DISPLAY
No protocol specified
t/GtkPageSetup.t ................... skipped: Gtk2->init_check failed, probably unable to open DISPLAY
No protocol specified
t/GtkPaned.t ....................... skipped: Gtk2->init_check failed, probably unable to open DISPLAY
No protocol specified
t/GtkPaperSize.t ................... skipped: Gtk2->init_check failed, probably unable to open DISPLAY
No protocol specified
t/GtkPrintContext.t ................ skipped: Gtk2->init_check failed, probably unable to open DISPLAY
No protocol specified
t/GtkPrintOperation.t .............. skipped: Gtk2->init_check failed, probably unable to open DISPLAY
No protocol specified
t/GtkPrintOperationPreview.t ....... skipped: Gtk2->init_check failed, probably unable to open DISPLAY
No protocol specified
t/GtkPrintSettings.t ............... skipped: Gtk2->init_check failed, probably unable to open DISPLAY
t/GtkProgressBar.t ................. ok
t/GtkRadioAction.t ................. ok
No protocol specified
t/GtkRadioButton.t ................. skipped: Gtk2->init_check failed, probably unable to open DISPLAY
No protocol specified
t/GtkRadioMenuItem.t ............... skipped: Gtk2->init_check failed, probably unable to open DISPLAY
No protocol specified
t/GtkRadioToolButton.t ............. skipped: Gtk2->init_check failed, probably unable to open DISPLAY
No protocol specified
t/GtkRange.t ....................... skipped: Gtk2->init_check failed, probably unable to open DISPLAY
No protocol specified
t/GtkRc.t .......................... skipped: Gtk2->init_check failed, probably unable to open DISPLAY
No protocol specified
t/GtkRecentAction.t ................ skipped: Gtk2->init_check failed, probably unable to open DISPLAY
No protocol specified
t/GtkRecentChooser.t ............... skipped: Gtk2->init_check failed, probably unable to open DISPLAY
No protocol specified
t/GtkRecentChooserDialog.t ......... skipped: Gtk2->init_check failed, probably unable to open DISPLAY
No protocol specified
t/GtkRecentChooserMenu.t ........... skipped: Gtk2->init_check failed, probably unable to open DISPLAY
No protocol specified
t/GtkRecentChooserWidget.t ......... skipped: Gtk2->init_check failed, probably unable to open DISPLAY
No protocol specified
t/GtkRecentFilter.t ................ skipped: Gtk2->init_check failed, probably unable to open DISPLAY
No protocol specified
t/GtkRecentManager.t ............... skipped: Gtk2->init_check failed, probably unable to open DISPLAY
t/GtkRuler.t ....................... ok
No protocol specified
t/GtkScale.t ....................... skipped: Gtk2->init_check failed, probably unable to open DISPLAY
No protocol specified
t/GtkScaleButton.t ................. skipped: Gtk2->init_check failed, probably unable to open DISPLAY
No protocol specified
t/GtkScrolledWindow.t .............. skipped: Gtk2->init_check failed, probably unable to open DISPLAY
No protocol specified
t/GtkSelection.t ................... skipped: Gtk2->init_check failed, probably unable to open DISPLAY
t/GtkSeparatorMenuItem.t ........... ok
No protocol specified
t/GtkSeparatorToolItem.t ........... skipped: Gtk2->init_check failed, probably unable to open DISPLAY
t/GtkShow.t ........................ skipped: can only test interactively
No protocol specified
t/GtkSimpleList.t .................. skipped: Gtk2->init_check failed, probably unable to open DISPLAY
No protocol specified
t/GtkSimpleMenu.t .................. skipped: Gtk2->init_check failed, probably unable to open DISPLAY
t/GtkSizeGroup.t ................... ok
No protocol specified
t/GtkSocket-GtkPlug.t .............. skipped: Gtk2->init_check failed, probably unable to open DISPLAY
No protocol specified
t/GtkSpinButton.t .................. skipped: Gtk2->init_check failed, probably unable to open DISPLAY
t/GtkSpinner.t ..................... ok
t/GtkStatusbar.t ................... ok
No protocol specified
t/GtkStatusIcon.t .................. skipped: Gtk2->init_check failed, probably unable to open DISPLAY
t/GtkStock.t ....................... ok
No protocol specified
t/GtkStyle.t ....................... skipped: Gtk2->init_check failed, probably unable to open DISPLAY
No protocol specified
t/GtkTable.t ....................... skipped: Gtk2->init_check failed, probably unable to open DISPLAY
t/GtkTearoffMenuItem.t ............. ok
No protocol specified
t/GtkTextBuffer.t .................. skipped: Gtk2->init_check failed, probably unable to open DISPLAY
No protocol specified
t/GtkTextBufferRichText.t .......... skipped: Gtk2->init_check failed, probably unable to open DISPLAY
No protocol specified
t/GtkTextChildAnchor.t ............. skipped: Gtk2->init_check failed, probably unable to open DISPLAY
t/GtkTextIter.t .................... ok
t/GtkTextMark.t .................... ok
No protocol specified
t/GtkTextTag.t ..................... skipped: Gtk2->init_check failed, probably unable to open DISPLAY
t/GtkTextTagTable.t ................ ok
No protocol specified
t/GtkTextView.t .................... skipped: Gtk2->init_check failed, probably unable to open DISPLAY
No protocol specified
t/GtkToggleAction.t ................ skipped: Gtk2->init_check failed, probably unable to open DISPLAY
No protocol specified
t/GtkToggleButton.t ................ skipped: Gtk2->init_check failed, probably unable to open DISPLAY
No protocol specified
t/GtkToggleToolButton.t ............ skipped: Gtk2->init_check failed, probably unable to open DISPLAY
No protocol specified
t/GtkToolbar.t ..................... skipped: Gtk2->init_check failed, probably unable to open DISPLAY
No protocol specified
t/GtkToolButton.t .................. skipped: Gtk2->init_check failed, probably unable to open DISPLAY
No protocol specified
t/GtkToolItem.t .................... skipped: Gtk2->init_check failed, probably unable to open DISPLAY
No protocol specified
t/GtkToolItemGroup.t ............... skipped: Gtk2->init_check failed, probably unable to open DISPLAY
No protocol specified
t/GtkToolPalette.t ................. skipped: Gtk2->init_check failed, probably unable to open DISPLAY
No protocol specified
t/GtkToolShell.t ................... skipped: Gtk2->init_check failed, probably unable to open DISPLAY
No protocol specified
t/GtkTooltip.t ..................... skipped: Gtk2->init_check failed, probably unable to open DISPLAY
No protocol specified
t/GtkTooltips.t .................... skipped: Gtk2->init_check failed, probably unable to open DISPLAY
t/GtkTreeDnd.t ..................... ok
t/GtkTreeModel.t ................... ok
t/GtkTreeModelFilter.t ............. ok
t/GtkTreeModelIface.t .............. ok
t/GtkTreeModelSort.t ............... ok
No protocol specified
t/GtkTreeSelection.t ............... skipped: Gtk2->init_check failed, probably unable to open DISPLAY
t/GtkTreeSortable.t ................ ok
t/GtkTreeStore.t ................... ok
t/GtkTreeView-Dnd.t ................ skipped: this test is interactive
No protocol specified
t/GtkTreeView.t .................... skipped: Gtk2->init_check failed, probably unable to open DISPLAY
No protocol specified
t/GtkUIManager.t ................... skipped: Gtk2->init_check failed, probably unable to open DISPLAY
t/GtkVBox.t ........................ ok
t/GtkVButtonBox.t .................. ok
No protocol specified
t/GtkViewport.t .................... skipped: Gtk2->init_check failed, probably unable to open DISPLAY
No protocol specified
t/GtkVolumeButton.t ................ skipped: Gtk2->init_check failed, probably unable to open DISPLAY
t/GtkVPaned.t ...................... ok
t/GtkVRuler.t ...................... ok
No protocol specified
t/GtkVScale.t ...................... skipped: Gtk2->init_check failed, probably unable to open DISPLAY
t/GtkVScrollbar.t .................. ok
t/GtkVSeparator.t .................. ok
No protocol specified
t/GtkWidget.t ...................... skipped: Gtk2->init_check failed, probably unable to open DISPLAY
No protocol specified
t/pango-compat.t ................... skipped: Gtk2->init_check failed, probably unable to open DISPLAY
No protocol specified
t/PangoAttributes.t ................ skipped: Gtk2->init_check failed, probably unable to open DISPLAY
t/PangoCairo.t ..................... ok
No protocol specified
t/PangoContext.t ................... skipped: Gtk2->init_check failed, probably unable to open DISPLAY
No protocol specified
t/PangoFont.t ...................... skipped: Gtk2->init_check failed, probably unable to open DISPLAY
No protocol specified
t/PangoFontMap.t ................... skipped: Gtk2->init_check failed, probably unable to open DISPLAY
No protocol specified
t/PangoFontset.t ................... skipped: Gtk2->init_check failed, probably unable to open DISPLAY
t/PangoGravity.t ................... ok
No protocol specified
t/PangoLayout.t .................... skipped: Gtk2->init_check failed, probably unable to open DISPLAY
t/PangoMatrix.t .................... ok
No protocol specified
t/PangoRenderer.t .................. skipped: Gtk2->init_check failed, probably unable to open DISPLAY
No protocol specified
t/PangoScript.t .................... skipped: Gtk2->init_check failed, probably unable to open DISPLAY
t/PangoTabs.t ...................... ok
t/PangoTypes.t ..................... ok
No protocol specified
t/set-scroll-adjustments-signal.t .. skipped: Gtk2->init_check failed, probably unable to open DISPLAY
No protocol specified
t/signal-chaining.t ................ skipped: Gtk2->init_check failed, probably unable to open DISPLAY
No protocol specified
t/tied-objects.t ................... skipped: Gtk2->init_check failed, probably unable to open DISPLAY
t/version-checks.t ................. ok
All tests successful.
Files=229, Tests=1094, 22 wallclock secs ( 0.49 usr  0.33 sys + 16.68 cusr  4.46 csys = 21.96 CPU)
Result: PASS

------------------------------
PREREQUISITES
------------------------------

Prerequisite modules loaded:

requires:

    Module              Need  Have 
    ------------------- ----- -----
    Cairo               1.000 1.101
    ExtUtils::Depends   0.300 0.304
    ExtUtils::PkgConfig 1.030 1.13 
    Glib                1.240 1.262
    Pango               1.220 1.223

build_requires:

    Module              Need  Have 
    ------------------- ----- -----
    ExtUtils::MakeMaker 0     6.62 

configure_requires:

    Module              Need  Have 
    ------------------- ----- -----
    Cairo               1.000 1.101
    ExtUtils::Depends   0.300 0.304
    ExtUtils::MakeMaker 0     6.62 
    ExtUtils::PkgConfig 1.030 1.13 
    Glib                1.240 1.262
    Pango               1.220 1.223


------------------------------
ENVIRONMENT AND OTHER CONTEXT
------------------------------

Environment variables:

    LANG = en_US.utf8
    LANGUAGE = en_US.utf8
    LC_MESSAGES = en_US.utf8
    PATH = /sbin:/bin:/usr/sbin:/usr/bin
    PERL5LIB = 
    PERL5OPT = 
    PERL5_CPANPLUS_IS_RUNNING = 27363
    PERL5_CPAN_IS_RUNNING = 27363
    SHELL = /bin/bash
    TERM = xterm

Perl special variables (and OS-specific diagnostics, for MSWin32):

    $^X = /usr/bin/perl5.12.4
    $UID/$EUID = 0 / 0
    $GID = 0 0 1 2 3 4 6 7 10 11 20 26 27 409 410 411
    $EGID = 0 0 1 2 3 4 6 7 10 11 20 26 27 409 410 411

Perl module toolchain versions installed:

    Module              Have    
    ------------------- --------
    CPAN                1.9600  
    CPAN::Meta          2.120921
    Cwd                 3.33    
    ExtUtils::CBuilder  0.280205
    ExtUtils::Command   1.17    
    ExtUtils::Install   1.54    
    ExtUtils::MakeMaker 6.62    
    ExtUtils::Manifest  1.61    
    ExtUtils::ParseXS   3.15    
    File::Spec          3.33    
    JSON                2.53    
    JSON::PP            2.27200 
    Module::Build       0.4003  
    Module::Signature   n/a     
    Parse::CPAN::Meta   1.4404  
    Test::Harness       3.25    
    Test::More          0.98    
    YAML                0.84    
    YAML::Syck          n/a     
    version             0.96    


--

Summary of my perl5 (revision 5 version 12 subversion 4) configuration:
   
  Platform:
    osname=linux, osvers=3.2.0-server, archname=x86_64-linux-thread-multi
    uname='linux orion.sabayon.org 3.2.0-server #1 smp sat feb 11 09:16:23 utc 2012 x86_64 amd opteron(tm) processor 6128 authenticamd gnulinux '
    config_args='-des -Duseshrplib -Darchname=x86_64-linux-thread -Dcc=x86_64-pc-linux-gnu-gcc -Doptimize=-O2 -ftree-vectorize -march=x86-64 -pipe -floop-interchange -ftree-loop-distribution -floop-strip-mine -floop-block -Dldflags=-Wl,-O1 -Wl,--as-needed -Dprefix=/usr -Dsiteprefix=/usr -Dvendorprefix=/usr -Dscriptdir=/usr/bin -Dprivlib=/usr/lib64/perl5/5.12.4 -Darchlib=/usr/lib64/perl5/5.12.4/x86_64-linux-thread-multi -Dsitelib=/usr/lib64/perl5/site_perl/5.12.4 -Dsitearch=/usr/lib64/perl5/site_perl/5.12.4/x86_64-linux-thread-multi -Dvendorlib=/usr/lib64/perl5/vendor_perl/5.12.4 -Dvendorarch=/usr/lib64/perl5/vendor_perl/5.12.4/x86_64-linux-thread-multi -Dman1dir=/usr/share/man/man1 -Dman3dir=/usr/share/man/man3 -Dsiteman1dir=/usr/share/man/man1 -Dsiteman3dir=/usr/share/man/man3 -Dvendorman1dir=/usr/share/man/man1 -Dvendorman3dir=/usr/share/man/man3 -Dman1ext=1 -Dman3ext=3pm -Dlibperl=libperl.so.5.12.4 -Dlocincpth=  -Duselargefiles -Dd_semctl_semun -Dcf_by=Gentoo -Dmyhostname=localhost -Dperladmin=root@localhost -Dinstallusrbinperl=n -Ud_csh -Uusenm -Di_ndbm -Di_gdbm -Di_db -Dusethreads -DDEBUGGING=none -Dinc_version_list=5.12.3/x86_64-linux-thread-multi 5.12.3 5.12.2/x86_64-linux-thread-multi 5.12.2 5.12.1/x86_64-linux-thread-multi 5.12.1 5.12.0/x86_64-linux-thread-multi 5.12.0  -Dlibpth=/usr/local/lib64 /lib64 /usr/lib64'
    hint=recommended, useposix=true, d_sigaction=define
    useithreads=define, usemultiplicity=define
    useperlio=define, d_sfio=undef, uselargefiles=define, usesocks=undef
    use64bitint=define, use64bitall=define, uselongdouble=undef
    usemymalloc=n, bincompat5005=undef
  Compiler:
    cc='x86_64-pc-linux-gnu-gcc', ccflags ='-D_REENTRANT -D_GNU_SOURCE -fno-strict-aliasing -pipe -D_LARGEFILE_SOURCE -D_FILE_OFFSET_BITS=64',
    optimize='-O2 -ftree-vectorize -march=x86-64 -pipe -floop-interchange -ftree-loop-distribution -floop-strip-mine -floop-block',
    cppflags='-D_REENTRANT -D_GNU_SOURCE -fno-strict-aliasing -pipe'
    ccversion='', gccversion='4.6.2', gccosandvers=''
    intsize=4, longsize=8, ptrsize=8, doublesize=8, byteorder=12345678
    d_longlong=define, longlongsize=8, d_longdbl=define, longdblsize=16
    ivtype='long', ivsize=8, nvtype='double', nvsize=8, Off_t='off_t', lseeksize=8
    alignbytes=8, prototype=define
  Linker and Libraries:
    ld='x86_64-pc-linux-gnu-gcc', ldflags ='-Wl,-O1 -Wl,--as-needed'
    libpth=/usr/local/lib64 /lib64 /usr/lib64
    libs=-lnsl -lgdbm -ldb -ldl -lm -lcrypt -lutil -lpthread -lc -lgdbm_compat
    perllibs=-lnsl -ldl -lm -lcrypt -lutil -lpthread -lc
    libc=/lib/libc-2.13.so, so=so, useshrplib=true, libperl=libperl.so.5.12.4
    gnulibc_version='2.13'
  Dynamic Linking:
    dlsrc=dl_dlopen.xs, dlext=so, d_dlsymun=undef, ccdlflags='-Wl,-E'
    cccdlflags='-fPIC', lddlflags='-shared -O2 -ftree-vectorize -march=x86-64 -pipe -floop-interchange -ftree-loop-distribution -floop-strip-mine -floop-block -Wl,-O1 -Wl,--as-needed'


Characteristics of this binary (from libperl): 
  Compile-time options: MULTIPLICITY PERL_DONT_CREATE_GVSV
                        PERL_IMPLICIT_CONTEXT PERL_MALLOC_WRAP USE_64_BIT_ALL
                        USE_64_BIT_INT USE_ITHREADS USE_LARGE_FILES
                        USE_PERLIO USE_PERL_ATOF USE_REENTRANT_API
  Locally applied patches:
	0001-gentoo_MakeMaker-RUNPATH.diff
	0002-gentoo_config_over.diff
	0003-gentoo_cpan_definstalldirs.diff
	0004-gentoo_cpanplus_definstalldirs.diff
	0005-gentoo_create-libperl-soname.diff
	0006-gentoo_MakeMaker-delete_packlist.diff
	0007-fixes_8d66b3f9_h2hp_fix.diff
	0008-fixes_f178b03b_h2ph_using_deprecated_goto.diff
	0009-gentoo_mod-paths.diff
	0010-gentoo_enc2xs.diff
	0011-gentoo_IO-Compress_AutoLoader_dropped_from_Compress-Zlib.diff
	0012-gentoo_drop-fstack-protector.diff
  Built under linux
  Compiled at Feb 27 2012 09:28:52
  %ENV:
    PERL5LIB=""
    PERL5OPT=""
    PERL5_CPANPLUS_IS_RUNNING="27363"
    PERL5_CPAN_IS_RUNNING="27363"
  @INC:
    /etc/perl
    /usr/lib64/perl5/site_perl/5.12.4/x86_64-linux-thread-multi
    /usr/lib64/perl5/site_perl/5.12.4
    /usr/lib64/perl5/vendor_perl/5.12.4/x86_64-linux-thread-multi
    /usr/lib64/perl5/vendor_perl/5.12.4
    /usr/lib64/perl5/site_perl/5.12.3/x86_64-linux-thread-multi
    /usr/lib64/perl5/site_perl/5.12.3
    /usr/lib64/perl5/site_perl/5.12.2/x86_64-linux-thread-multi
    /usr/lib64/perl5/site_perl/5.12.2
    /usr/lib64/perl5/site_perl
    /usr/lib64/perl5/vendor_perl/5.12.3
    /usr/lib64/perl5/vendor_perl/5.12.2
    /usr/lib64/perl5/vendor_perl
    /usr/lib64/perl5/5.12.4/x86_64-linux-thread-multi
    /usr/lib64/perl5/5.12.4
    /usr/local/lib/site_perl
    .