Report for ExtUtils-CChecker-0.08

Back
From: metabase:user:30f4dfbe-2aae-11df-837a-5e0a49663a4f
Subject: PASS ExtUtils-CChecker-0.08 v5.12.2 FreeBSD
Date: 2012-05-18T00:03:41Z

This distribution has been tested as part of the CPAN Testers
project, supporting the Perl programming language.  See
http://wiki.cpantesters.org/ for more information or email
questions to cpan-testers-discuss@perl.org


--
Dear Paul Evans,

This is a computer-generated report for ExtUtils-CChecker-0.08
on perl 5.12.2, created by CPAN-Reporter-1.2006.

Thank you for uploading your work to CPAN.  Congratulations!
All tests were successful.

Sections of this report:

    * Tester comments
    * Program output
    * Prerequisites
    * Environment and other context

------------------------------
TESTER COMMENTS
------------------------------

Additional comments from tester:

none provided

------------------------------
PROGRAM OUTPUT
------------------------------

Output from './Build test':

t/00use.t ........... ok
test-25493-1.c:1: error: expected '=', ',', ';', 'asm' or '__attribute__' before 'bar'
t/01run.t ........... ok
test-25515-1.c:1: error: expected '=', ',', ';', 'asm' or '__attribute__' before 'bar'
t/02assert.t ........ ok
t/03accessors.t ..... ok
t/04module_build.t .. ok
t/05defines_to.t .... ok
t/99pod.t ........... ok
All tests successful.
Files=7, Tests=25,  2 wallclock secs ( 0.05 usr  0.15 sys +  1.56 cusr  0.68 csys =  2.44 CPU)
Result: PASS

------------------------------
PREREQUISITES
------------------------------

Prerequisite modules loaded:

requires:

    Module             Need Have    
    ------------------ ---- --------
    ExtUtils::CBuilder 0    0.280205

build_requires:

    Module             Need Have    
    ------------------ ---- --------
    Module::Build      0    0.40    
    Test::Fatal        0    0.010   
    Test::More         0    0.98    


------------------------------
ENVIRONMENT AND OTHER CONTEXT
------------------------------

Environment variables:

    LANG = 
    MANPATH_WITHOUT_PERLBREW = 
    PATH = /home/njh/perl5/perlbrew/bin:/home/njh/perl5/perlbrew/perls/perl-5.12.2/bin:/home/njh/perl5/perlbrew/bin:/home/njh/perl5/perlbrew/perls/perl-5.12.2/bin:/home/njh/bin:/sbin:/bin:/usr/sbin:/usr/bin:/usr/games:/usr/local/sbin:/usr/local/bin:/home/njh/bin:/usr/perl5/bin
    PATH_WITHOUT_PERLBREW = /home/njh/bin:/sbin:/bin:/usr/sbin:/usr/bin:/usr/games:/usr/local/sbin:/usr/local/bin:/home/njh/bin
    PERL5LIB = /home/njh/.cpan/build/Mail-SPF-v2.8.0-WJxxWn/blib/arch:/home/njh/.cpan/build/Mail-SPF-v2.8.0-WJxxWn/blib/lib
    PERL5OPT = 
    PERL5_CPANPLUS_IS_RUNNING = 23950
    PERL5_CPAN_IS_RUNNING = 23950
    PERLBREW_BASHRC_VERSION = 0.42
    PERLBREW_HOME = /home/njh/.perlbrew
    PERLBREW_MANPATH = /home/njh/perl5/perlbrew/perls/perl-5.12.2/man
    PERLBREW_PATH = /home/njh/perl5/perlbrew/bin:/home/njh/perl5/perlbrew/perls/perl-5.12.2/bin
    PERLBREW_PERL = perl-5.12.2
    PERLBREW_ROOT = /home/njh/perl5/perlbrew
    PERLBREW_VERSION = 0.42
    SHELL = /usr/local/bin/bash
    TERM = xterm
    TMPDIR = /tmp

Perl special variables (and OS-specific diagnostics, for MSWin32):

    $^X = /home/njh/perl5/perlbrew/perls/perl-5.12.2/bin/perl
    $UID/$EUID = 1001 / 1001
    $GID = 1001 1001 0
    $EGID = 1001 1001 0

Perl module toolchain versions installed:

    Module              Have    
    ------------------- --------
    CPAN                1.9800  
    CPAN::Meta          2.112150
    Cwd                 3.33    
    ExtUtils::CBuilder  0.280205
    ExtUtils::Command   1.16    
    ExtUtils::Install   1.55    
    ExtUtils::MakeMaker 6.62    
    ExtUtils::Manifest  1.58    
    ExtUtils::ParseXS   2.21    
    File::Spec          3.33    
    JSON                2.53    
    JSON::PP            2.27200 
    Module::Build       0.40    
    Module::Signature   0.68    
    Parse::CPAN::Meta   1.4404  
    Test::Harness       3.23    
    Test::More          0.98    
    YAML                0.81    
    YAML::Syck          1.20    
    version             0.88    


--

Summary of my perl5 (revision 5 version 12 subversion 2) configuration:
   
  Platform:
    osname=freebsd, osvers=8.1-release, archname=i386-freebsd
    uname='freebsd qemu386freebsd8-1.bandsman.co.uk 8.1-release freebsd 8.1-release #0: mon jul 19 02:55:53 utc 2010 root@almeida.cse.buffalo.edu:usrobjusrsrcsysgeneric i386 '
    config_args='-de -Dprefix=/home/njh/perl5/perlbrew/perls/perl-5.12.2 -Accflags=-O2 -W -Wformat=2 -Wswitch -Wshadow -Wwrite-strings -Wuninitialized -Wall -pipe -mtune=prescott -march=prescott -fomit-frame-pointer -ffast-math -msse2 -msse -mmmx -mfpmath=sse -pedantic -D_FORTIFY_SOURCE=2 -Wpointer-arith -Wstrict-prototypes -fstack-protector -Wstack-protector -Wextra -Wbad-function-cast -Wcast-align -Wcast-qual -Wdisabled-optimization -Wendif-labels -Wfloat-equal -Wformat-nonliteral -Winline -Wmissing-declarations -Wmissing-prototypes -Wnested-externs -Wpointer-arith -Wundef -Wformat-security'
    hint=recommended, useposix=true, d_sigaction=define
    useithreads=undef, usemultiplicity=undef
    useperlio=define, d_sfio=undef, uselargefiles=define, usesocks=undef
    use64bitint=undef, use64bitall=undef, uselongdouble=undef
    usemymalloc=n, bincompat5005=undef
  Compiler:
    cc='cc', ccflags ='-DHAS_FPSETMASK -DHAS_FLOATINGPOINT_H -O2 -W -Wformat=2 -Wswitch -Wshadow -Wwrite-strings -Wuninitialized -Wall -pipe -mtune=prescott -march=prescott -fomit-frame-pointer -ffast-math -msse2 -msse -mmmx -mfpmath=sse -pedantic -D_FORTIFY_SOURCE=2 -Wpointer-arith -Wstrict-prototypes -fstack-protector -Wstack-protector -Wextra -Wbad-function-cast -Wcast-align -Wcast-qual -Wdisabled-optimization -Wendif-labels -Wfloat-equal -Wformat-nonliteral -Winline -Wmissing-declarations -Wmissing-prototypes -Wnested-externs -Wpointer-arith -Wundef -Wformat-security -fno-strict-aliasing -I/usr/local/include',
    optimize='-O',
    cppflags='-DHAS_FPSETMASK -DHAS_FLOATINGPOINT_H -O2 -W -Wformat=2 -Wswitch -Wshadow -Wwrite-strings -Wuninitialized -Wall -pipe -mtune=prescott -march=prescott -fomit-frame-pointer -ffast-math -msse2 -msse -mmmx -mfpmath=sse -pedantic -D_FORTIFY_SOURCE=2 -Wpointer-arith -Wstrict-prototypes -fstack-protector -Wstack-protector -Wextra -Wbad-function-cast -Wcast-align -Wcast-qual -Wdisabled-optimization -Wendif-labels -Wfloat-equal -Wformat-nonliteral -Winline -Wmissing-declarations -Wmissing-prototypes -Wnested-externs -Wpointer-arith -Wundef -Wformat-security -fno-strict-aliasing -I/usr/local/include'
    ccversion='', gccversion='4.2.1 20070719  [FreeBSD]', gccosandvers=''
    intsize=4, longsize=4, ptrsize=4, doublesize=8, byteorder=1234
    d_longlong=define, longlongsize=8, d_longdbl=define, longdblsize=12
    ivtype='long', ivsize=4, nvtype='double', nvsize=8, Off_t='off_t', lseeksize=8
    alignbytes=4, prototype=define
  Linker and Libraries:
    ld='cc', ldflags ='-Wl,-E  -fstack-protector -L/usr/local/lib'
    libpth=/usr/lib /usr/local/lib
    libs=-lm -lcrypt -lutil -lc
    perllibs=-lm -lcrypt -lutil -lc
    libc=, so=so, useshrplib=false, libperl=libperl.a
    gnulibc_version=''
  Dynamic Linking:
    dlsrc=dl_dlopen.xs, dlext=so, d_dlsymun=undef, ccdlflags=' '
    cccdlflags='-DPIC -fPIC', lddlflags='-shared  -L/usr/local/lib -fstack-protector'


Characteristics of this binary (from libperl): 
  Compile-time options: PERL_DONT_CREATE_GVSV PERL_MALLOC_WRAP
                        USE_LARGE_FILES USE_PERLIO USE_PERL_ATOF
  Built under freebsd
  Compiled at May 17 2012 11:01:51
  %ENV:
    PERL5LIB="/home/njh/.cpan/build/Mail-SPF-v2.8.0-WJxxWn/blib/arch:/home/njh/.cpan/build/Mail-SPF-v2.8.0-WJxxWn/blib/lib"
    PERL5OPT=""
    PERL5_CPANPLUS_IS_RUNNING="23950"
    PERL5_CPAN_IS_RUNNING="23950"
    PERLBREW_BASHRC_VERSION="0.42"
    PERLBREW_HOME="/home/njh/.perlbrew"
    PERLBREW_MANPATH="/home/njh/perl5/perlbrew/perls/perl-5.12.2/man"
    PERLBREW_PATH="/home/njh/perl5/perlbrew/bin:/home/njh/perl5/perlbrew/perls/perl-5.12.2/bin"
    PERLBREW_PERL="perl-5.12.2"
    PERLBREW_ROOT="/home/njh/perl5/perlbrew"
    PERLBREW_VERSION="0.42"
  @INC:
    /home/njh/.cpan/build/Mail-SPF-v2.8.0-WJxxWn/blib/arch
    /home/njh/.cpan/build/Mail-SPF-v2.8.0-WJxxWn/blib/lib
    /home/njh/perl5/perlbrew/perls/perl-5.12.2/lib/site_perl/5.12.2/i386-freebsd
    /home/njh/perl5/perlbrew/perls/perl-5.12.2/lib/site_perl/5.12.2
    /home/njh/perl5/perlbrew/perls/perl-5.12.2/lib/5.12.2/i386-freebsd
    /home/njh/perl5/perlbrew/perls/perl-5.12.2/lib/5.12.2
    .