PerlIO-via-QuotedPrint v0.10 Perl 5 v5.20.3 darwin-thread-multi-2level

Status
Pass
From
Roland van Ipenburg (IPENBURG)
Dist
PerlIO-via-QuotedPrint v0.10
Platform
Perl 5 v5.20.3 darwin-thread-multi-2level
Date
2024-09-03 21:03:11
ID
ed8fc2d2-6a37-11ef-8679-b89c47a91841
This distribution has been tested as part of the CPAN Testers
project, supporting the Perl programming language.  See
http://wiki.cpantesters.org/ for more information or email
questions to cpan-testers-discuss@perl.org


--
Dear Steve Hay,

This is a computer-generated report for PerlIO-via-QuotedPrint-0.10
on perl 5.20.3, created by CPAN-Reporter-1.2020.

Thank you for uploading your work to CPAN.  Congratulations!
All tests were successful.

Sections of this report:

    * Tester comments
    * Program output
    * Prerequisites
    * Environment and other context

------------------------------
TESTER COMMENTS
------------------------------

Additional comments from tester:

none provided

------------------------------
PROGRAM OUTPUT
------------------------------

Output from '/usr/bin/make test':

PERL_DL_NONLAZY=1 /opt/local/bin/perl5.20 "-MExtUtils::Command::MM" "-MTest::Harness" "-e" "undef *Test::Harness::Switches; test_harness(0, 'blib/lib', 'blib/arch')" t/*.t
t/changes.t ....... skipped: Author testing only
t/critic.t ........ skipped: Author testing only
t/pod.t ........... skipped: Author testing only
t/pod_coverage.t .. skipped: Author testing only
t/QuotedPrint.t ... ok
All tests successful.
Files=5, Tests=11,  1 wallclock secs ( 0.05 usr  0.03 sys +  0.70 cusr  0.13 csys =  0.91 CPU)
Result: PASS

------------------------------
PREREQUISITES
------------------------------

Prerequisite modules loaded:

requires:

    Module              Need     Have    
    ------------------- -------- --------
    MIME::QuotedPrint   0        3.16    
    perl                5.008001 5.020003
    strict              0        1.08    

build_requires:

    Module              Need     Have    
    ------------------- -------- --------
    ExtUtils::MakeMaker 0        6.98    
    Test::More          0        1.302201

configure_requires:

    Module              Need     Have    
    ------------------- -------- --------
    Config              0        5.020003
    ExtUtils::MakeMaker 6.64     6.98    
    perl                5.008001 5.020003
    strict              0        1.08    
    warnings            0        1.23    


------------------------------
ENVIRONMENT AND OTHER CONTEXT
------------------------------

Environment variables:

    LANG = en_US.UTF-8
    LC_ALL = en_US.UTF-8
    LC_CTYPE = UTF-8
    NONINTERACTIVE_TESTING = 1
    PATH = /opt/local/bin:/usr/bin:/bin:/usr/sbin:/sbin:/opt/local/bin
    PERL5LIB = 
    PERL5OPT = 
    PERL5_CPANPLUS_IS_RUNNING = 241
    PERL5_CPAN_IS_RUNNING = 241
    PERL_MM_USE_DEFAULT = 1
    SHELL = /bin/bash
    TERM = screen

Perl special variables (and OS-specific diagnostics, for MSWin32):

    $^X = /opt/local/bin/perl5.20
    $UID/$EUID = 501 / 501
    $GID = 501 501 81 79 80
    $EGID = 501 501 81 79 80

Perl module toolchain versions installed:

    Module              Have    
    ------------------- --------
    CPAN                2.37    
    CPAN::Meta          2.150010
    Cwd                 3.48_01 
    ExtUtils::CBuilder  0.280236
    ExtUtils::Command   1.18    
    ExtUtils::Install   2.22    
    ExtUtils::MakeMaker 6.98    
    ExtUtils::Manifest  1.75    
    ExtUtils::ParseXS   3.51    
    File::Spec          3.48_01 
    JSON                n/a     
    JSON::PP            4.16    
    Module::Build       0.4234  
    Module::Signature   n/a     
    Parse::CPAN::Meta   2.150010
    Test2               1.302201
    Test::Harness       3.30    
    Test::More          1.302201
    YAML                n/a     
    YAML::Syck          n/a     
    version             0.9909  


--

Summary of my perl5 (revision 5 version 20 subversion 3) configuration:
   
  Platform:
    osname=darwin, osvers=8.11.1, archname=darwin-thread-multi-2level
    uname='darwin paterson.local 8.11.1 darwin kernel version 8.11.1: wed oct 10 18:23:28 pdt 2007; root:xnu-792.25.20~1release_i386 i386 i386 '
    config_args='-des -Dprefix=/opt/local -Dscriptdir=/opt/local/bin -Dvendorprefix=/opt/local -Dusemultiplicity=y -Dusethreads -Duseshrplib -Dcc=/usr/bin/cc -Dman1ext=1pm -Dman3ext=3pm -Dinstallstyle=lib/perl5 -Dman1dir=/opt/local/share/man/man1 -Dman3dir=/opt/local/share/man/man3 -Dsitebin=/opt/local/libexec/perl5.20/sitebin -Dsiteman1dir=/opt/local/share/perl5.20/siteman/man1 -Dsiteman3dir=/opt/local/share/perl5.20/siteman/man3 -Dvendorbin=/opt/local/libexec/perl5.20 -Dvendorman1dir=/opt/local/share/perl5.20/man/man1 -Dvendorman3dir=/opt/local/share/perl5.20/man/man3 -Dpager=/usr/bin/less -sR -Dperlpath=/opt/local/bin/perl5.20 -Dstartperl=#!/opt/local/bin/perl5.20 -Acppflags=-I/opt/local/include -Accflags=-pipe -Os  -Alddlflags=-L/opt/local/lib -Wl,-headerpad_max_install_names  -Aldflags=-L/opt/local/lib -Wl,-headerpad_max_install_names '
    hint=recommended, useposix=true, d_sigaction=define
    useithreads=define, usemultiplicity=define
    use64bitint=undef, use64bitall=undef, uselongdouble=undef
    usemymalloc=n, bincompat5005=undef
  Compiler:
    cc='/usr/bin/cc', ccflags ='-fno-common -DPERL_DARWIN -pipe -Os  -fno-strict-aliasing -I/opt/local/include',
    optimize='-O3',
    cppflags='-I/opt/local/include -fno-common -DPERL_DARWIN -pipe -Os  -fno-strict-aliasing -I/opt/local/include'
    ccversion='', gccversion='4.2.1 (Apple Inc. build 5666) (dot 3) (MacPorts apple-gcc42 5666.3_16)', gccosandvers=''
    intsize=4, longsize=4, ptrsize=4, doublesize=8, byteorder=1234
    d_longlong=define, longlongsize=8, d_longdbl=define, longdblsize=16
    ivtype='long', ivsize=4, nvtype='double', nvsize=8, Off_t='off_t', lseeksize=8
    alignbytes=8, prototype=define
  Linker and Libraries:
    ld='env MACOSX_DEPLOYMENT_TARGET=10.3 /usr/bin/cc', ldflags =' -L/opt/local/lib -Wl,-headerpad_max_install_names '
    libpth=/opt/local/lib /usr/lib
    libs=-lpthread -lgdbm -ldbm -ldl -lm -lc
    perllibs=-lpthread -ldl -lm -lc
    libc=, so=dylib, useshrplib=true, libperl=libperl.dylib
    gnulibc_version=''
  Dynamic Linking:
    dlsrc=dl_dlopen.xs, dlext=bundle, d_dlsymun=undef, ccdlflags=' '
    cccdlflags=' ', lddlflags=' -bundle -undefined dynamic_lookup -L/opt/local/lib -Wl,-headerpad_max_install_names '


Characteristics of this binary (from libperl): 
  Compile-time options: HAS_TIMES MULTIPLICITY PERLIO_LAYERS
                        PERL_DONT_CREATE_GVSV
                        PERL_HASH_FUNC_ONE_AT_A_TIME_HARD
                        PERL_IMPLICIT_CONTEXT PERL_MALLOC_WRAP
                        PERL_NEW_COPY_ON_WRITE PERL_PRESERVE_IVUV
                        USE_ITHREADS USE_LARGE_FILES USE_LOCALE
                        USE_LOCALE_COLLATE USE_LOCALE_CTYPE
                        USE_LOCALE_NUMERIC USE_PERLIO USE_PERL_ATOF
                        USE_REENTRANT_API
  Built under darwin
  Compiled at May 24 2024 23:02:17
  %ENV:
    PERL5LIB=""
    PERL5OPT=""
    PERL5_CPANPLUS_IS_RUNNING="241"
    PERL5_CPAN_IS_RUNNING="241"
    PERL_MM_USE_DEFAULT="1"
  @INC:
    /opt/local/lib/perl5/site_perl/5.20/darwin-thread-multi-2level
    /opt/local/lib/perl5/site_perl/5.20
    /opt/local/lib/perl5/vendor_perl/5.20/darwin-thread-multi-2level
    /opt/local/lib/perl5/vendor_perl/5.20
    /opt/local/lib/perl5/5.20/darwin-thread-multi-2level
    /opt/local/lib/perl5/5.20
    .