DateTime-Format-XMLTV v1.001 Perl 5 v5.37.8 x86_64-linux-thread-multi-ld

Status
Pass
From
Andreas J. König (ANDK)
Dist
DateTime-Format-XMLTV v1.001
Platform
Perl 5 v5.37.8 x86_64-linux-thread-multi-ld
Date
2023-02-03 08:58:29
ID
eda25a46-a3a0-11ed-ae8c-70d51e9aeec8
This distribution has been tested as part of the CPAN Testers
project, supporting the Perl programming language.  See
http://wiki.cpantesters.org/ for more information or email
questions to cpan-testers-discuss@perl.org


--
Dear Christopher J. Madsen,

This is a computer-generated report for DateTime-Format-XMLTV-1.001
on perl 5.37.8, created by CPAN-Reporter-1.2018.

Thank you for uploading your work to CPAN.  Congratulations!
All tests were successful.

Sections of this report:

    * Tester comments
    * Program output
    * Prerequisites
    * Environment and other context

------------------------------
TESTER COMMENTS
------------------------------

Additional comments from tester:

this report is from an automated smoke testing program
and was not reviewed by a human for accuracy

------------------------------
PROGRAM OUTPUT
------------------------------

Output from '/usr/bin/make test':

PERL_DL_NONLAZY=1 "/tmp/basesmoker-reloperl-VOJ8/bin/perl" "-MExtUtils::Command::MM" "-MTest::Harness" "-e" "undef *Test::Harness::Switches; test_harness(0, 'blib/lib', 'blib/arch')" t/*.t
# Listing %INC
#                                                           AutoLoader 5.74
#                                                                    B 1.87
#                                                 B::Hooks::EndOfScope 0.26
#                                             B::Hooks::EndOfScope::XS 0.26
#                                                                 Carp 1.54
#                                             Class::Data::Inheritable 0.09
#                                                     Class::Inspector 1.36
#                                                     Class::Singleton 1.6
#                                                    Class::XSAccessor 1.19
#                                             Class::XSAccessor::Heavy 1.19
#                                                                  Cwd 3.88
#                                                             DateTime 1.59
#                                                   DateTime::Duration 1.59
#                                            DateTime::Format::Builder 0.83
#                                    DateTime::Format::Builder::Parser 0.83
#                          DateTime::Format::Builder::Parser::Dispatch 0.83
#                             DateTime::Format::Builder::Parser::Quick 0.83
#                             DateTime::Format::Builder::Parser::Regex 0.83
#                          DateTime::Format::Builder::Parser::Strptime 0.83
#                           DateTime::Format::Builder::Parser::generic 0.83
#                                           DateTime::Format::Strptime 1.79
#                                    DateTime::Format::Strptime::Types 1.79
#                                                    DateTime::Helpers 1.59
#                                                   DateTime::Infinite 1.59
#                                                     DateTime::Locale 1.37
#                                               DateTime::Locale::Base 1.37
#                                               DateTime::Locale::Data 1.37
#                                           DateTime::Locale::FromData 1.37
#                                               DateTime::Locale::Util 1.37
#                                                   DateTime::TimeZone 2.57
#                                          DateTime::TimeZone::Catalog 2.57
#                                         DateTime::TimeZone::Floating 2.57
#                                            DateTime::TimeZone::Local 2.57
#                                       DateTime::TimeZone::OffsetOnly 2.57
#                                  DateTime::TimeZone::OlsonDB::Change 2.57
#                                              DateTime::TimeZone::UTC 2.57
#                                                      DateTime::Types 1.59
#                                                    Devel::StackTrace 2.04
#                                             Devel::StackTrace::Frame 2.04
#                                                        Eval::Closure 0.14
#                                                     Exception::Class 1.45
#                                               Exception::Class::Base 1.45
#                                                             Exporter 5.77
#                                                      Exporter::Heavy 5.77
#                                                       Exporter::Tiny 1.006000
#                                                                Fcntl 1.15
#                                                       File::ShareDir 1.118
#                                                           File::Spec 3.88
#                                                     File::Spec::Unix 3.88
#                                                      List::MoreUtils 0.430
#                                                  List::MoreUtils::PP 0.430
#                                                  List::MoreUtils::XS 0.430
#                                                           List::Util 1.63
#                                                           Log::Agent 1.005
#                                               Log::Agent::Formatting undef
#                                                  Log::Agent::Message undef
#                                               Log::Agent::Priorities undef
#                                                          MRO::Compat 0.15
#                                               Module::Implementation 0.09
#                                                      Module::Runtime 0.016
#                                                                POSIX 2.11
#                                                       Package::Stash 0.40
#                                                   Package::Stash::XS 0.30
#                                                         Params::Util 1.102
#                                                     Params::Util::PP 1.102
#                                                     Params::Validate 1.31
#                                          Params::Validate::Constants 1.31
#                                                 Params::Validate::XS 1.31
#                                           Params::ValidationCompiler 0.31
#                                 Params::ValidationCompiler::Compiler 0.31
#                  Params::ValidationCompiler::Exception::BadArguments 1.1
#                  Params::ValidationCompiler::Exception::Named::Extra 1.1
#               Params::ValidationCompiler::Exception::Named::Required 1.1
#             Params::ValidationCompiler::Exception::Positional::Extra 1.1
#          Params::ValidationCompiler::Exception::Positional::Required 1.1
# Params::ValidationCompiler::Exception::ValidationFailedForMooseTypeConstraint 1.1
#                               Params::ValidationCompiler::Exceptions 0.31
#                                                            Ref::Util 0.204
#                                                        Ref::Util::XS 0.117
#                                                           Role::Tiny 2.002004
#                                                     Role::Tiny::With 2.002004
#                                                         Scalar::Util 1.63
#                                                               Specio 0.48
#                                                     Specio::Coercion 0.48
#                                           Specio::Constraint::AnyCan 0.48
#                                             Specio::Constraint::Enum 0.48
#                                        Specio::Constraint::ObjectCan 0.48
#                                        Specio::Constraint::ObjectIsa 0.48
#                                  Specio::Constraint::Parameterizable 0.48
#                                    Specio::Constraint::Parameterized 0.48
#                                    Specio::Constraint::Role::CanType 0.48
#                                  Specio::Constraint::Role::Interface 0.48
#                                    Specio::Constraint::Role::IsaType 0.48
#                                           Specio::Constraint::Simple 0.48
#                                            Specio::Constraint::Union 0.48
#                                                      Specio::Declare 0.48
#                                                   Specio::DeclaredAt 0.48
#                                                    Specio::Exception 0.48
#                                                     Specio::Exporter 0.48
#                                                      Specio::Helpers 0.48
#                                            Specio::Library::Builtins 0.48
#                                             Specio::Library::Numeric 0.48
#                                                Specio::Library::Perl 0.48
#                                              Specio::Library::String 0.48
#                                                           Specio::OO 0.48
#                                                  Specio::PartialDump 0.48
#                                                     Specio::Registry 0.48
#                                              Specio::Role::Inlinable 0.48
#                                                         Specio::Subs 0.48
#                                                   Specio::TypeChecks 0.48
#                                                             Storable 3.29
#                                           Sub::Exporter::Progressive 0.001013
#                                                        Sub::Identify 0.14
#                                                            Sub::Util 1.63
#                                                            Tie::Hash 1.06
#                                                            Try::Tiny 0.31
#                                                      Variable::Magic 0.63
#                                                             XSLoader 0.32
#                                                              XString 0.005
#                                                                 base 2.27
#                                                             constant 1.33
#                                                              integer 1.01
#                                                                  mro 1.26
#                                                 namespace::autoclean 0.29
#                                                     namespace::clean 0.27
#                                              namespace::clean::_Util undef
#                                                             overload 1.36
#                                                          overloading 0.02
#                                                               parent 0.239
#                                                                   re 0.44
#                                                               strict 1.12
#                                                                 utf8 1.25
#                                                                 vars 1.05
#                                                              version 0.9929
#                                                       version::regex 0.9929
#                                                             warnings 1.61
#                                                   warnings::register 1.04
t/00-all_prereqs.t .. ok
# Testing DateTime::Format::XMLTV 1.001
t/00-load.t ......... ok
t/10-parse.t ........ ok
t/20-format.t ....... ok
All tests successful.
Files=4, Tests=61,  1 wallclock secs ( 0.02 usr  0.01 sys +  0.91 cusr  0.11 csys =  1.05 CPU)
Result: PASS

------------------------------
PREREQUISITES
------------------------------

Prerequisite modules loaded:

requires:

    Module                    Need Have    
    ------------------------- ---- --------
    DateTime::Format::Builder 0.80 0.83    

build_requires:

    Module                    Need Have    
    ------------------------- ---- --------
    Test::More                0.88 1.302191

configure_requires:

    Module                    Need Have    
    ------------------------- ---- --------
    ExtUtils::MakeMaker       6.30 7.66    


------------------------------
ENVIRONMENT AND OTHER CONTEXT
------------------------------

Environment variables:

    AUTOMATED_TESTING = 1
    LANG = en_US.UTF-8
    LC_ADDRESS = de_DE.UTF-8
    LC_IDENTIFICATION = de_DE.UTF-8
    LC_MEASUREMENT = de_DE.UTF-8
    LC_MONETARY = de_DE.UTF-8
    LC_NAME = de_DE.UTF-8
    LC_NUMERIC = de_DE.UTF-8
    LC_PAPER = de_DE.UTF-8
    LC_TELEPHONE = de_DE.UTF-8
    LC_TIME = de_DE.UTF-8
    PATH = /home/sand/bin:/usr/local/bin:/usr/local/sbin:/usr/sbin:/usr/bin:/sbin:/bin:/usr/games:/usr/local/games:/snap/bin:/usr/local/perl/bin:/usr/X11/bin
    PERL = /tmp/basesmoker-reloperl-VOJ8/bin/perl
    PERL5LIB = /tmp/loop_over_bdir-7145-9fh9oK/Linux-InitFS-0.2-0/blib/arch:/tmp/loop_over_bdir-7145-9fh9oK/Linux-InitFS-0.2-0/blib/lib
    PERL5OPT = 
    PERL5_CPANPLUS_IS_RUNNING = 7282
    PERL5_CPAN_IS_RUNNING = 7282
    PERL_CANARY_STABILITY_NOPROMPT = 1
    PERL_MM_USE_DEFAULT = 1
    PERL_USE_UNSAFE_INC = 1
    SHELL = /usr/bin/zsh
    TERM = screen

Perl special variables (and OS-specific diagnostics, for MSWin32):

    $^X = /tmp/basesmoker-reloperl-VOJ8/bin/perl
    $UID/$EUID = 1005 / 1005
    $GID = 1005 1005
    $EGID = 1005 1005

Perl module toolchain versions installed:

    Module              Have    
    ------------------- --------
    CPAN                2.34    
    CPAN::Meta          2.150010
    Cwd                 3.88    
    ExtUtils::CBuilder  0.280238
    ExtUtils::Command   7.66    
    ExtUtils::Install   2.22    
    ExtUtils::MakeMaker 7.66    
    ExtUtils::Manifest  1.73    
    ExtUtils::ParseXS   3.49    
    File::Spec          3.88    
    JSON                4.10    
    JSON::PP            4.16    
    Module::Build       0.4232  
    Module::Signature   0.88    
    Parse::CPAN::Meta   2.150010
    Test::Harness       3.44    
    Test::More          1.302191
    YAML                1.30    
    YAML::Syck          1.34    
    version             0.9929  


--

Summary of my perl5 (revision 5 version 37 subversion 8) configuration:
  Commit id: aaff26e0f2e98dc425f7514531d35dfec6948f6d
  Platform:
    osname=linux
    osvers=5.15.0-58-generic
    archname=x86_64-linux-thread-multi-ld
    uname='linux k93jammy 5.15.0-58-generic #64-ubuntu smp thu jan 5 11:43:13 utc 2023 x86_64 x86_64 x86_64 gnulinux '
    config_args='-Dprefix=/home/sand/src/perl/repoperls/installed-perls/host/k93jammy/v5.37.8/322f -Dmyhostname=k93jammy -Dinstallusrbinperl=n -Uversiononly -Dusedevel -des -Ui_db -Dlibswanted=cl pthread socket inet nsl gdbm dbm malloc dl ld sun m crypt sec util c cposix posix ucb BSD gdbm_compat -Duseithreads -Duselongdouble -DEBUGGING=-g'
    hint=recommended
    useposix=true
    d_sigaction=define
    useithreads=define
    usemultiplicity=define
    use64bitint=define
    use64bitall=define
    uselongdouble=define
    usemymalloc=n
    default_inc_excludes_dot=define
  Compiler:
    cc='cc'
    ccflags ='-D_REENTRANT -D_GNU_SOURCE -fwrapv -fno-strict-aliasing -pipe -fstack-protector-strong -I/usr/local/include -D_LARGEFILE_SOURCE -D_FILE_OFFSET_BITS=64'
    optimize='-O2 -g'
    cppflags='-D_REENTRANT -D_GNU_SOURCE -fwrapv -fno-strict-aliasing -pipe -fstack-protector-strong -I/usr/local/include'
    ccversion=''
    gccversion='11.3.0'
    gccosandvers=''
    intsize=4
    longsize=8
    ptrsize=8
    doublesize=8
    byteorder=12345678
    doublekind=3
    d_longlong=define
    longlongsize=8
    d_longdbl=define
    longdblsize=16
    longdblkind=3
    ivtype='long'
    ivsize=8
    nvtype='long double'
    nvsize=16
    Off_t='off_t'
    lseeksize=8
    alignbytes=16
    prototype=define
  Linker and Libraries:
    ld='cc'
    ldflags =' -fstack-protector-strong -L/usr/local/lib'
    libpth=/usr/local/lib /usr/lib/x86_64-linux-gnu /usr/lib /usr/lib64
    libs=-lpthread -lnsl -ldl -lm -lcrypt -lutil -lc
    perllibs=-lpthread -lnsl -ldl -lm -lcrypt -lutil -lc
    libc=/lib/x86_64-linux-gnu/libc.so.6
    so=so
    useshrplib=false
    libperl=libperl.a
    gnulibc_version='2.35'
  Dynamic Linking:
    dlsrc=dl_dlopen.xs
    dlext=so
    d_dlsymun=undef
    ccdlflags='-Wl,-E'
    cccdlflags='-fPIC'
    lddlflags='-shared -O2 -g -L/usr/local/lib -fstack-protector-strong'


Characteristics of this binary (from libperl): 
  Compile-time options:
    HAS_TIMES
    MULTIPLICITY
    PERLIO_LAYERS
    PERL_COPY_ON_WRITE
    PERL_DONT_CREATE_GVSV
    PERL_HASH_FUNC_SIPHASH13
    PERL_HASH_USE_SBOX32
    PERL_MALLOC_WRAP
    PERL_OP_PARENT
    PERL_PRESERVE_IVUV
    PERL_USE_DEVEL
    PERL_USE_SAFE_PUTENV
    USE_64_BIT_ALL
    USE_64_BIT_INT
    USE_ITHREADS
    USE_LARGE_FILES
    USE_LOCALE
    USE_LOCALE_COLLATE
    USE_LOCALE_CTYPE
    USE_LOCALE_NUMERIC
    USE_LOCALE_TIME
    USE_LONG_DOUBLE
    USE_PERLIO
    USE_PERL_ATOF
    USE_REENTRANT_API
    USE_THREAD_SAFE_LOCALE
  Built under linux
  Compiled at Jan 31 2023 12:17:03
  %ENV:
    PERL="/tmp/basesmoker-reloperl-VOJ8/bin/perl"
    PERL5LIB="/tmp/loop_over_bdir-7145-9fh9oK/Linux-InitFS-0.2-0/blib/arch:/tmp/loop_over_bdir-7145-9fh9oK/Linux-InitFS-0.2-0/blib/lib"
    PERL5OPT=""
    PERL5_CPANPLUS_IS_RUNNING="7282"
    PERL5_CPAN_IS_RUNNING="7282"
    PERL_CANARY_STABILITY_NOPROMPT="1"
    PERL_MM_USE_DEFAULT="1"
    PERL_USE_UNSAFE_INC="1"
  @INC:
    /tmp/loop_over_bdir-7145-9fh9oK/Linux-InitFS-0.2-0/blib/arch
    /tmp/loop_over_bdir-7145-9fh9oK/Linux-InitFS-0.2-0/blib/lib
    /home/sand/src/perl/repoperls/installed-perls/host/k93jammy/v5.37.8/322f/lib/site_perl/5.37.8/x86_64-linux-thread-multi-ld
    /home/sand/src/perl/repoperls/installed-perls/host/k93jammy/v5.37.8/322f/lib/site_perl/5.37.8
    /home/sand/src/perl/repoperls/installed-perls/host/k93jammy/v5.37.8/322f/lib/5.37.8/x86_64-linux-thread-multi-ld
    /home/sand/src/perl/repoperls/installed-perls/host/k93jammy/v5.37.8/322f/lib/5.37.8
    .