HTTP-Message v7.00 Perl 5 v5.24.4 i686-linux-thread-multi-64int

Status
Pass
From
Chris Williams (BINGOS)
Dist
HTTP-Message v7.00
Platform
Perl 5 v5.24.4 i686-linux-thread-multi-64int
Date
2024-12-28 11:14:38
ID
eda4d2dc-c50c-11ef-98b0-b3c3213a625c
This distribution has been tested as part of the CPAN Testers
project, supporting the Perl programming language.  See
http://wiki.cpantesters.org/ for more information or email
questions to cpan-testers-discuss@perl.org


--

Dear Olaf Alders,

This is a computer-generated error report created automatically by
CPANPLUS, version 0.9914. Testers personal comments may appear
at the end of this report.


Thank you for uploading your work to CPAN.  Congratulations!
All tests were successful.

TEST RESULTS:

Below is the error stack from stage 'make test':

PERL_DL_NONLAZY=1 "/home/cpan/pit/rel/perl-5.24.4/bin/perl" "-MExtUtils::Command::MM" "-MTest::Harness" "-e" "undef *Test::Harness::Switches; test_harness(0, 'blib/lib', 'blib/arch')" t/*.t
# 
# Versions for all modules listed in MYMETA.json (including optional ones):
# 
# === Configure Requires ===
# 
#     Module               Want     Have
#     ------------------- ----- --------
#     ExtUtils::MakeMaker   any     7.70
#     perl                5.006 5.024004
# 
# === Configure Suggests ===
# 
#     Module      Want       Have
#     -------- ------- ----------
#     JSON::PP 2.27300 2.27300_01
# 
# === Build Requires ===
# 
#     Module              Want Have
#     ------------------- ---- ----
#     ExtUtils::MakeMaker  any 7.70
# 
# === Test Requires ===
# 
#     Module                  Want     Have
#     ------------------- -------- --------
#     ExtUtils::MakeMaker      any     7.70
#     File::Spec               any     3.75
#     File::Temp               any   0.2311
#     PerlIO::encoding         any     0.24
#     Test::More              0.88 1.302207
#     Test::Needs              any 0.002010
#     Time::Local              any     1.35
#     Try::Tiny                any     0.32
#     URI::URL                 any     5.31
#     lib                      any     0.63
#     overload                 any     1.26
#     perl                5.008001 5.024004
# 
# === Test Recommends ===
# 
#     Module                     Want     Have
#     ---------------------- -------- --------
#     CPAN::Meta             2.120900 2.150010
#     IO::Compress::Brotli   0.004001  missing
#     IO::Uncompress::Brotli 0.004001  missing
# 
# === Runtime Requires ===
# 
#     Module                         Want     Have
#     -------------------------- -------- --------
#     Carp                            any     1.40
#     Clone                          0.46     0.47
#     Compress::Raw::Bzip2            any    2.212
#     Compress::Raw::Zlib           2.062    2.212
#     Encode                         3.01     3.21
#     Encode::Locale                    1     1.05
#     Exporter                       5.57     5.72
#     File::Spec                      any     3.75
#     HTTP::Date                        6     6.06
#     IO::Compress::Bzip2           2.021    2.212
#     IO::Compress::Deflate           any    2.212
#     IO::Compress::Gzip              any    2.212
#     IO::HTML                        any    1.004
#     IO::Uncompress::Inflate         any    2.212
#     IO::Uncompress::RawInflate      any    2.212
#     LWP::MediaTypes                   6     6.04
#     MIME::Base64                    2.1     3.15
#     MIME::QuotedPrint               any     3.13
#     URI                            1.10     5.31
#     parent                          any    0.234
#     perl                       5.008001 5.024004
#     strict                          any     1.11
#     warnings                        any     1.36
# 
# === Runtime Recommends ===
# 
#     Module                     Want    Have
#     ---------------------- -------- -------
#     IO::Compress::Brotli   0.004001 missing
#     IO::Uncompress::Brotli 0.004001 missing
# 
t/00-report-prereqs.t .......... ok
t/common-req.t ................. ok
t/headers-auth.t ............... ok
t/headers-etag.t ............... ok
t/headers-util.t ............... ok
t/headers.t .................... ok
t/http-config.t ................ ok
t/message-brotli.t ............. skipped: Need IO::Compress::Brotli, IO::Uncompress::Brotli
t/message-charset.t ............ ok
t/message-decode-brotlibomb.t .. skipped: Need IO::Compress::Brotli, IO::Uncompress::Brotli
t/message-decode-bzipbomb.t .... ok
t/message-decode-xml.t ......... ok
t/message-decode-zipbomb.t ..... ok
t/message-old.t ................ ok
t/message-parts.t .............. ok
t/message.t .................... ok
t/request.t .................... ok
t/request_type_with_data.t ..... ok
t/response.t ................... ok
t/status-old.t ................. ok
t/status.t ..................... ok
All tests successful.
Files=21, Tests=841,  4 wallclock secs ( 0.12 usr  0.02 sys +  3.22 cusr  0.37 csys =  3.73 CPU)
Result: PASS


PREREQUISITES:

Here is a list of prerequisites you specified and versions we
managed to load:

	  Module Name                        Have     Want
	  Carp                               1.40        0
	  Clone                              0.47     0.46
	  Compress::Raw::Bzip2              2.212        0
	  Compress::Raw::Zlib               2.212    2.062
	  Encode                             3.21     3.01
	  Encode::Locale                     1.05        1
	  Exporter                           5.72     5.57
	  ExtUtils::MakeMaker                7.70        0
	  File::Spec                         3.75        0
	  File::Temp                       0.2311        0
	  HTTP::Date                         6.06        6
	  IO::Compress::Bzip2               2.212    2.021
	  IO::Compress::Deflate             2.212        0
	  IO::Compress::Gzip                2.212        0
	  IO::HTML                          1.004        0
	  IO::Uncompress::Inflate           2.212        0
	  IO::Uncompress::RawInflate        2.212        0
	  LWP::MediaTypes                    6.04        6
	  MIME::Base64                       3.15      2.1
	  MIME::QuotedPrint                  3.13        0
	  PerlIO::encoding                   0.24        0
	  Test::More                     1.302207     0.88
	  Test::Needs                    0.002010        0
	  Time::Local                        1.35        0
	  Try::Tiny                          0.32        0
	  URI                                5.31     1.10
	  URI::URL                           5.31        0
	  lib                                0.63        0
	  overload                           1.26        0
	  parent                            0.234        0
	  strict                             1.11        0
	  warnings                           1.36        0

Perl module toolchain versions installed:
	Module Name                        Have
	CPANPLUS                         0.9914
	CPANPLUS::Dist::Build              0.90
	Cwd                                3.75
	ExtUtils::CBuilder             0.280236
	ExtUtils::Command                  7.70
	ExtUtils::Install                  2.22
	ExtUtils::MakeMaker                7.70
	ExtUtils::Manifest                 1.75
	ExtUtils::ParseXS                  3.51
	File::Spec                         3.75
	Module::Build                    0.4234
	Pod::Parser                        1.63
	Pod::Simple                        3.32
	Test2                          1.302207
	Test::Harness                      3.48
	Test::More                     1.302207
	version                          0.9932

******************************** NOTE ********************************
The comments above are created mechanically, possibly without manual
checking by the sender.  As there are many people performing automatic
tests on each upload to CPAN, it is likely that you will receive
identical messages about the same problem.

If you believe that the message is mistaken, please reply to the first
one with correction and/or additional informations, and do not take
it personally.  We appreciate your patience. :)
**********************************************************************

Additional comments:


This report was machine-generated by CPANPLUS::Dist::YACSmoke 1.08.
Powered by minismokebox version 0.68

CPANPLUS is prefering Build.PL

------------------------------
ENVIRONMENT AND OTHER CONTEXT
------------------------------

Environment variables:

    AUTOMATED_TESTING = 1
    LANG = en_GB.UTF-8
    LANGUAGE = en_GB:en
    NONINTERACTIVE_TESTING = 1
    PATH = /usr/local/bin:/usr/bin:/bin:/usr/local/games:/usr/games
    PERL5LIB = /home/cpan/pit/jail/d7L9kRtilu/lib/perl5:/home/cpan/pit/rel/conf/perl-5.24.4/.cpanplus/5.24.4/build/tWkfYFDM9h/HTTP-Message-7.00/blib/lib:/home/cpan/pit/rel/conf/perl-5.24.4/.cpanplus/5.24.4/build/tWkfYFDM9h/HTTP-Message-7.00/blib/arch
    PERL5_CPANPLUS_IS_RUNNING = 9974
    PERL5_CPANPLUS_IS_VERSION = 0.9914
    PERL5_MINISMOKEBOX = 0.68
    PERL5_YACSMOKE_BASE = /home/cpan/pit/rel/conf/perl-5.24.4
    PERL_EXTUTILS_AUTOINSTALL = --defaultdeps
    PERL_LOCAL_LIB_ROOT = /home/cpan/pit/jail/d7L9kRtilu
    PERL_MB_OPT = --install_base "/home/cpan/pit/jail/d7L9kRtilu"
    PERL_MM_OPT = INSTALL_BASE=/home/cpan/pit/jail/d7L9kRtilu
    PERL_MM_USE_DEFAULT = 1
    SHELL = /bin/bash
    TERM = screen.xterm-256color

Perl special variables (and OS-specific diagnostics, for MSWin32):

    Perl: $^X = /home/cpan/pit/rel/perl-5.24.4/bin/perl
    UID:  $<  = 1001
    EUID: $>  = 1001
    GID:  $(  = 1001 1001
    EGID: $)  = 1001 1001


-------------------------------


--

Summary of my perl5 (revision 5 version 24 subversion 4) configuration:
   
  Platform:
    osname=linux, osvers=5.10.0-12-686, archname=i686-linux-thread-multi-64int
    uname='linux dagobah 5.10.0-12-686 #1 smp debian 5.10.103-1 (2022-03-07) i686 gnulinux '
    config_args='-des -Dprefix=/home/cpan/pit/rel/perl-5.24.4 -Dusethreads -Duse64bitint'
    hint=recommended, useposix=true, d_sigaction=define
    useithreads=define, usemultiplicity=define
    use64bitint=define, use64bitall=undef, uselongdouble=undef
    usemymalloc=n, bincompat5005=undef
  Compiler:
    cc='cc', ccflags ='-D_REENTRANT -D_GNU_SOURCE -fwrapv -fno-strict-aliasing -pipe -fstack-protector-strong -I/usr/local/include -D_LARGEFILE_SOURCE -D_FILE_OFFSET_BITS=64 -D_FORTIFY_SOURCE=2',
    optimize='-O2',
    cppflags='-D_REENTRANT -D_GNU_SOURCE -fwrapv -fno-strict-aliasing -pipe -fstack-protector-strong -I/usr/local/include'
    ccversion='', gccversion='10.2.1 20210110', gccosandvers=''
    intsize=4, longsize=4, ptrsize=4, doublesize=8, byteorder=12345678, doublekind=3
    d_longlong=define, longlongsize=8, d_longdbl=define, longdblsize=12, longdblkind=3
    ivtype='long long', ivsize=8, nvtype='double', nvsize=8, Off_t='off_t', lseeksize=8
    alignbytes=4, prototype=define
  Linker and Libraries:
    ld='cc', ldflags =' -fstack-protector-strong -L/usr/local/lib'
    libpth=/usr/local/lib /usr/include/i386-linux-gnu /usr/lib /lib/i386-linux-gnu /lib/../lib /usr/lib/i386-linux-gnu /usr/lib/../lib /lib /lib64 /usr/lib64
    libs=-lpthread -lnsl -lgdbm -ldl -lm -lcrypt -lutil -lc
    perllibs=-lpthread -lnsl -ldl -lm -lcrypt -lutil -lc
    libc=libc-2.31.so, so=so, useshrplib=false, libperl=libperl.a
    gnulibc_version='2.31'
  Dynamic Linking:
    dlsrc=dl_dlopen.xs, dlext=so, d_dlsymun=undef, ccdlflags='-Wl,-E'
    cccdlflags='-fPIC', lddlflags='-shared -O2 -L/usr/local/lib -fstack-protector-strong'


Characteristics of this binary (from libperl): 
  Compile-time options: HAS_TIMES MULTIPLICITY PERLIO_LAYERS
                        PERL_COPY_ON_WRITE PERL_DONT_CREATE_GVSV
                        PERL_HASH_FUNC_ONE_AT_A_TIME_HARD
                        PERL_IMPLICIT_CONTEXT PERL_MALLOC_WRAP
                        PERL_PRESERVE_IVUV USE_64_BIT_INT USE_ITHREADS
                        USE_LARGE_FILES USE_LOCALE USE_LOCALE_COLLATE
                        USE_LOCALE_CTYPE USE_LOCALE_NUMERIC USE_LOCALE_TIME
                        USE_PERLIO USE_PERL_ATOF USE_REENTRANT_API
  Locally applied patches:
	Devel::PatchPerl 2.08
  Built under linux
  Compiled at Mar 18 2022 14:25:57
  %ENV:
    PERL5LIB="/home/cpan/pit/jail/d7L9kRtilu/lib/perl5:/home/cpan/pit/rel/conf/perl-5.24.4/.cpanplus/5.24.4/build/tWkfYFDM9h/HTTP-Message-7.00/blib/lib:/home/cpan/pit/rel/conf/perl-5.24.4/.cpanplus/5.24.4/build/tWkfYFDM9h/HTTP-Message-7.00/blib/arch"
    PERL5_CPANPLUS_IS_RUNNING="9974"
    PERL5_CPANPLUS_IS_VERSION="0.9914"
    PERL5_MINISMOKEBOX="0.68"
    PERL5_YACSMOKE_BASE="/home/cpan/pit/rel/conf/perl-5.24.4"
    PERL_EXTUTILS_AUTOINSTALL="--defaultdeps"
    PERL_LOCAL_LIB_ROOT="/home/cpan/pit/jail/d7L9kRtilu"
    PERL_MB_OPT="--install_base "/home/cpan/pit/jail/d7L9kRtilu""
    PERL_MM_OPT="INSTALL_BASE=/home/cpan/pit/jail/d7L9kRtilu"
    PERL_MM_USE_DEFAULT="1"
  @INC:
    /home/cpan/pit/jail/d7L9kRtilu/lib/perl5/5.24.4/i686-linux-thread-multi-64int
    /home/cpan/pit/jail/d7L9kRtilu/lib/perl5/5.24.4
    /home/cpan/pit/jail/d7L9kRtilu/lib/perl5/i686-linux-thread-multi-64int
    /home/cpan/pit/jail/d7L9kRtilu/lib/perl5
    /home/cpan/pit/rel/conf/perl-5.24.4/.cpanplus/5.24.4/build/tWkfYFDM9h/HTTP-Message-7.00/blib/lib
    /home/cpan/pit/rel/conf/perl-5.24.4/.cpanplus/5.24.4/build/tWkfYFDM9h/HTTP-Message-7.00/blib/arch
    /home/cpan/pit/rel/perl-5.24.4/lib/site_perl/5.24.4/i686-linux-thread-multi-64int
    /home/cpan/pit/rel/perl-5.24.4/lib/site_perl/5.24.4
    /home/cpan/pit/rel/perl-5.24.4/lib/5.24.4/i686-linux-thread-multi-64int
    /home/cpan/pit/rel/perl-5.24.4/lib/5.24.4
    .