Starman v0.4017 Perl 5 v5.39.9 x86_64-linux
- Status
- Pass
- From
- Slaven Rezić
- Dist
-
Starman v0.4017
- Platform
- Perl 5 v5.39.9 x86_64-linux
- Date
- 2024-03-21 23:51:25
- ID
- eda8ebfe-e7dd-11ee-8510-e2106e8775ea
This distribution has been tested as part of the CPAN Testers
project, supporting the Perl programming language. See
http://wiki.cpantesters.org/ for more information or email
questions to cpan-testers-discuss@perl.org
--
Dear Tatsuhiko Miyagawa,
This is a computer-generated report for Starman-0.4017
on perl 5.39.9, created by CPAN-Reporter-1.2019.
Thank you for uploading your work to CPAN. Congratulations!
All tests were successful.
Sections of this report:
* Tester comments
* Program output
* Prerequisites
* Environment and other context
------------------------------
TESTER COMMENTS
------------------------------
Additional comments from tester:
none provided
------------------------------
PROGRAM OUTPUT
------------------------------
Output from './Build test':
t/00_compile.t ........... ok
t/author-pod-syntax.t .... skipped: these tests are for testing by the author
2024/03/21-20:57:53 Starman::Server (type Net::Server::PreFork) starting! pid(2627185)
Binding to TCP port 42307 on host 127.0.0.1 with IPv4
Setting gid to "1023 1023 1023"
2024/03/21-20:57:53 Server closing!
t/chunked_req.t .......... ok
t/chunked_termination.t .. ok
2024/03/21-20:57:53 Starman::Server (type Net::Server::PreFork) starting! pid(2627193)
Binding to TCP port 41407 on host 127.0.0.1 with IPv4
Setting gid to "1023 1023 1023"
2024/03/21-20:57:53 Server closing!
t/chunked_zero_length.t .. ok
2024/03/21-20:57:53 Starman::Server (type Net::Server::PreFork) starting! pid(2627200)
Binding to TCP port 41647 on host 127.0.0.1 with IPv4
Setting gid to "1023 1023 1023"
2024/03/21-20:57:53 Server closing!
t/early-hints.t .......... ok
2024/03/21-20:57:53 Starman::Server (type Net::Server::PreFork) starting! pid(2627207)
Binding to TCP port 40961 on host 127.0.0.1 with IPv4
Setting gid to "1023 1023 1023"
2024/03/21-20:57:54 Server closing!
t/eintr.t ................ ok
2024/03/21-20:57:54 Starman::Server (type Net::Server::PreFork) starting! pid(2627214)
Binding to TCP port 41999 on host 127.0.0.1 with IPv4
Setting gid to "1023 1023 1023"
2024/03/21-20:57:54 Server closing!
t/expect.t ............... ok
2024/03/21-20:57:54 Starman::Server (type Net::Server::PreFork) starting! pid(2627221)
Binding to TCP port 40829 on host 127.0.0.1 with IPv4
Setting gid to "1023 1023 1023"
2024/03/21-20:57:54 Server closing!
2024/03/21-20:57:54 Starman::Server (type Net::Server::PreFork) starting! pid(2627227)
Binding to TCP port 40197 on host 127.0.0.1 with IPv4
Setting gid to "1023 1023 1023"
2024/03/21-20:57:55 Server closing!
t/harakiri.t ............. ok
2024/03/21-20:57:55 Starman::Server (type Net::Server::PreFork) starting! pid(2627256)
Binding to TCP port 40507 on host 127.0.0.1 with IPv4
Setting gid to "1023 1023 1023"
2024/03/21-20:57:55 Server closing!
t/lf_only_request.t ...... ok
2024/03/21-20:57:55 Starman::Server (type Net::Server::PreFork) starting! pid(2627263)
Binding to TCP port 41871 on host 127.0.0.1 with IPv4
Setting gid to "1023 1023 1023"
2024/03/21-20:57:55 Server closing!
t/no_chunked_head.t ...... ok
t/release-findbin.t ...... skipped: these tests are for release candidate testing
t/release-rand.t ......... skipped: these tests are for release candidate testing
2024/03/21-20:57:55 Starman::Server (type Net::Server::PreFork) starting! pid(2627272)
Binding to TCP port 41773 on host 127.0.0.1 with IPv4
Setting gid to "1023 1023 1023"
2024/03/21-20:57:55 Server closing!
t/single_zero.t .......... ok
2024/03/21-20:57:55 Starman::Server (type Net::Server::PreFork) starting! pid(2627279)
Resolved [localhost]:41041 to [127.0.0.1]:41041, IPv4
Binding to SSL port 41041 on host 127.0.0.1 with IPv4
Setting gid to "1023 1023 1023"
Could not finalize SSL connection with client handle (SSL accept attempt failed)
Child process 2627282 exited with status 255
2024/03/21-20:57:55 Server closing!
free(): double free detected in tcache 2
t/ssl.t .................. ok
2024/03/21-20:57:55 Starman::Server (type Net::Server::PreFork) starting! pid(2627287)
Resolved [localhost]:40509 to [127.0.0.1]:40509, IPv4
Binding to SSL port 40509 on host 127.0.0.1 with IPv4
Setting gid to "1023 1023 1023"
Could not finalize SSL connection with client handle (SSL accept attempt failed)
2024/03/21-20:57:55 Server closing!
t/ssl_largebody.t ........ ok
2024/03/21-20:57:56 Starman::Server (type Net::Server::PreFork) starting! pid(2627295)
Binding to TCP port 40593 on host 127.0.0.1 with IPv4
Setting gid to "1023 1023 1023"
2024/03/21-20:57:56 Server closing!
t/suite.t ................ ok
All tests successful.
Files=17, Tests=125, 4 wallclock secs ( 0.05 usr 0.01 sys + 1.56 cusr 0.42 csys = 2.04 CPU)
Result: PASS
------------------------------
PREREQUISITES
------------------------------
Prerequisite modules loaded:
requires:
Module Need Have
------------------- -------- --------
Data::Dump 0 1.25
HTTP::Date 0 6.06
HTTP::Parser::XS 0 0.17
HTTP::Status 0 6.45
Net::Server 2.007 2.014
parent 0 0.241
perl 5.008001 5.039009
Plack 0.9971 1.0051
Test::TCP 2.00 2.22
build_requires:
Module Need Have
------------------- -------- --------
LWP::UserAgent 0 6.77
Test::More 0 1.302198
Test::Requires 0 0.11
configure_requires:
Module Need Have
------------------- -------- --------
Module::Build::Tiny 0.034 0.047
------------------------------
ENVIRONMENT AND OTHER CONTEXT
------------------------------
Environment variables:
LANG = en_US.UTF-8
PATH = /usr/local/bin:/usr/bin:/bin:/usr/local/sbin:/usr/sbin:/sbin:/home/cpansand/bin/linux-gnu:/home/cpansand/bin/sh:/home/cpansand/bin:/usr/games:/home/cpansand/devel:/home/eserte/src/srezic-misc/scripts
PERL5LIB =
PERL5OPT =
PERL5_CPANPLUS_IS_RUNNING = 2624518
PERL5_CPAN_IS_RUNNING = 2624518
PERL5_CPAN_IS_RUNNING_IN_RECURSION = 2537423,2624518
PERLDOC = -MPod::Perldoc::ToTextOverstrike
PERL_BATCH = yes
PERL_CANARY_STABILITY_NOPROMPT = 1
PERL_CPAN_REPORTER_CONFIG = /var/tmp/cpansmoker-1023/2024032120/cpanreporter_000_config.ini
PERL_EXTUTILS_AUTOINSTALL = --defaultdeps
PERL_USE_UNSAFE_INC = 1
SHELL = /usr/bin/zsh
TERM = screen
TMPDIR = /var/tmp/cpansmoker-1023/2024032120
Perl special variables (and OS-specific diagnostics, for MSWin32):
$^X = /opt/perl-5.39.9/bin/perl5.39.9
$UID/$EUID = 1023 / 1023
$GID = 1023 1023
$EGID = 1023 1023
Perl module toolchain versions installed:
Module Have
------------------- --------
CPAN 2.36
CPAN::Meta 2.150010
Cwd 3.90
ExtUtils::CBuilder 0.280240
ExtUtils::Command 7.70
ExtUtils::Install 2.22
ExtUtils::MakeMaker 7.70
ExtUtils::Manifest 1.75
ExtUtils::ParseXS 3.51
File::Spec 3.90
JSON 4.10
JSON::PP 4.16
Module::Build 0.4234
Module::Signature n/a
Parse::CPAN::Meta 2.150010
Test2 1.302198
Test::Harness 3.48
Test::More 1.302198
YAML 1.31
YAML::Syck 1.34
version 0.9930
--
Summary of my perl5 (revision 5 version 39 subversion 9) configuration:
Platform:
osname=linux
osvers=5.10.0-28-amd64
archname=x86_64-linux
uname='linux cloud7.bbbike.org 5.10.0-28-amd64 #1 smp debian 5.10.209-2 (2024-01-31) x86_64 gnulinux '
config_args='-ds -e -Dprefix=/opt/perl-5.39.9 -Dusedevel -Dusemallocwrap=no -Dcf_email=srezic@cpan.org'
hint=recommended
useposix=true
d_sigaction=define
useithreads=undef
usemultiplicity=undef
use64bitint=define
use64bitall=define
uselongdouble=undef
usemymalloc=n
default_inc_excludes_dot=define
Compiler:
cc='cc'
ccflags ='-fwrapv -fno-strict-aliasing -pipe -fstack-protector-strong -I/usr/local/include -D_LARGEFILE_SOURCE -D_FILE_OFFSET_BITS=64 -D_FORTIFY_SOURCE=2'
optimize='-O2'
cppflags='-fwrapv -fno-strict-aliasing -pipe -fstack-protector-strong -I/usr/local/include'
ccversion=''
gccversion='10.2.1 20210110'
gccosandvers=''
intsize=4
longsize=8
ptrsize=8
doublesize=8
byteorder=12345678
doublekind=3
d_longlong=define
longlongsize=8
d_longdbl=define
longdblsize=16
longdblkind=3
ivtype='long'
ivsize=8
nvtype='double'
nvsize=8
Off_t='off_t'
lseeksize=8
alignbytes=8
prototype=define
Linker and Libraries:
ld='cc'
ldflags =' -fstack-protector-strong -L/usr/local/lib'
libpth=/usr/local/lib /usr/lib/x86_64-linux-gnu /usr/lib /usr/lib64
libs=-lpthread -lgdbm -ldb -ldl -lm -lcrypt -lutil -lc
perllibs=-lpthread -ldl -lm -lcrypt -lutil -lc
libc=libc-2.31.so
so=so
useshrplib=false
libperl=libperl.a
gnulibc_version='2.31'
Dynamic Linking:
dlsrc=dl_dlopen.xs
dlext=so
d_dlsymun=undef
ccdlflags='-Wl,-E'
cccdlflags='-fPIC'
lddlflags='-shared -O2 -L/usr/local/lib -fstack-protector-strong'
Characteristics of this binary (from libperl):
Compile-time options:
HAS_LONG_DOUBLE
HAS_STRTOLD
HAS_TIMES
PERLIO_LAYERS
PERL_COPY_ON_WRITE
PERL_DONT_CREATE_GVSV
PERL_HASH_FUNC_SIPHASH13
PERL_HASH_USE_SBOX32
PERL_OP_PARENT
PERL_PRESERVE_IVUV
PERL_USE_DEVEL
PERL_USE_SAFE_PUTENV
USE_64_BIT_ALL
USE_64_BIT_INT
USE_LARGE_FILES
USE_LOCALE
USE_LOCALE_COLLATE
USE_LOCALE_CTYPE
USE_LOCALE_NUMERIC
USE_LOCALE_TIME
USE_PERLIO
USE_PERL_ATOF
Built under linux
Compiled at Mar 21 2024 17:09:32
%ENV:
PERL5LIB=""
PERL5OPT=""
PERL5_CPANPLUS_IS_RUNNING="2624518"
PERL5_CPAN_IS_RUNNING="2624518"
PERL5_CPAN_IS_RUNNING_IN_RECURSION="2537423,2624518"
PERLDOC="-MPod::Perldoc::ToTextOverstrike"
PERL_BATCH="yes"
PERL_CANARY_STABILITY_NOPROMPT="1"
PERL_CPAN_REPORTER_CONFIG="/var/tmp/cpansmoker-1023/2024032120/cpanreporter_000_config.ini"
PERL_EXTUTILS_AUTOINSTALL="--defaultdeps"
PERL_USE_UNSAFE_INC="1"
@INC:
/opt/perl-5.39.9/lib/site_perl/5.39.9/x86_64-linux
/opt/perl-5.39.9/lib/site_perl/5.39.9
/opt/perl-5.39.9/lib/5.39.9/x86_64-linux
/opt/perl-5.39.9/lib/5.39.9
.