Back
From: metabase:user:314402c4-2aae-11df-837a-5e0a49663a4f
Subject: PASS Text-VimColor-0.27 v5.18.2 GNU/Linux
Date: 2017-08-07T01:51:28Z
This distribution has been tested as part of the CPAN Testers
project, supporting the Perl programming language. See
http://wiki.cpantesters.org/ for more information or email
questions to cpan-testers-discuss@perl.org
--
Dear Randy Stauner,
This is a computer-generated report for Text-VimColor-0.27
on perl 5.18.2, created by CPAN-Reporter-1.2018.
Thank you for uploading your work to CPAN. Congratulations!
All tests were successful.
Sections of this report:
* Tester comments
* Program output
* Prerequisites
* Environment and other context
------------------------------
TESTER COMMENTS
------------------------------
Additional comments from tester:
none provided
------------------------------
PROGRAM OUTPUT
------------------------------
Output from '/usr/bin/make test':
Skip blib/lib/auto/share/dist/Text-VimColor/light.xsl (unchanged)
Skip blib/lib/auto/share/dist/Text-VimColor/define_all.vim (unchanged)
Skip blib/lib/auto/share/dist/Text-VimColor/mark.vim (unchanged)
Skip blib/lib/auto/share/dist/Text-VimColor/light.css (unchanged)
PERL_DL_NONLAZY=1 "/bbbike/perl-5.18.2/bin/perl5.18.2" "-MExtUtils::Command::MM" "-MTest::Harness" "-e" "undef *Test::Harness::Switches; test_harness(0, 'blib/lib', 'blib/arch')" t/*.t
t/00-compile.t ......... ok
#
# Versions for all modules listed in MYMETA.json (including optional ones):
#
# === Configure Requires ===
#
# Module Want Have
# ----------------------- ---- ------
# ExtUtils::MakeMaker any 7.24
# File::ShareDir::Install 0.06 0.11
# File::Temp any 0.2304
# IO::File any 1.16
# IPC::Open3 any 1.13
# strict any 1.07
# warnings any 1.18
#
# === Build Requires ===
#
# Module Want Have
# ------------------- ---- ----
# ExtUtils::MakeMaker any 7.24
#
# === Test Requires ===
#
# Module Want Have
# -------------------------- ---- --------
# Exporter any 5.72
# ExtUtils::MakeMaker any 7.24
# File::Spec any 3.62
# File::Temp any 0.2304
# IO::Handle any 1.34
# IPC::Open3 any 1.13
# Path::Class 0.04 0.37
# Test::File::ShareDir::Dist any 1.001002
# Test::More 0.88 1.302085
# blib 1.01 1.06
# lib any 0.63
#
# === Test Recommends ===
#
# Module Want Have
# ---------- -------- --------
# CPAN::Meta 2.120900 2.150010
#
# === Runtime Requires ===
#
# Module Want Have
# --------------- ---- ------
# Carp any 1.38
# File::Copy any 2.26
# File::ShareDir any 1.102
# File::Temp any 0.2304
# Getopt::Long any 2.5
# IO::File any 1.16
# IPC::Open3 any 1.13
# Path::Class 0.04 0.37
# Symbol any 1.07
# Term::ANSIColor 1.03 4.05
# constant any 1.33
# strict any 1.07
# warnings any 1.18
#
# === Runtime Recommends ===
#
# Module Want Have
# --------------- ---- ----
# Term::ANSIColor 3 4.05
#
t/00-report-prereqs.t .. ok
# vim --version
#
# VIM - Vi IMproved 7.4 (2013 Aug 10, compiled Mar 10 2017 00:54:29)
# Inklusive der Korrekturen: 1-488, 576
# Extra patches: 8.0.0378, 8.0.0377, 8.0.0322, 8.0.0056
# Verändert von pkg-vim-maintainers@lists.alioth.debian.org
# Ãbersetzt von jamessan@debian.org
# Riesige Version ohne GUI. Ein- (+) oder ausschlieÃlich (-) der Eigenschaften:
# +acl +farsi +mouse_netterm +syntax
# +arabic +file_in_path +mouse_sgr +tag_binary
# +autocmd +find_in_path -mouse_sysmouse +tag_old_static
# -balloon_eval +float +mouse_urxvt -tag_any_white
# -browse +folding +mouse_xterm -tcl
# ++builtin_terms -footer +multi_byte +terminfo
# +byte_offset +fork() +multi_lang +termresponse
# +cindent +gettext -mzscheme +textobjects
# -clientserver -hangul_input +netbeans_intg +title
# -clipboard +iconv +path_extra -toolbar
# +cmdline_compl +insert_expand -perl +user_commands
# +cmdline_hist +jumplist +persistent_undo +vertsplit
# +cmdline_info +keymap +postscript +virtualedit
# +comments +langmap +printer +visual
# +conceal +libcall +profile +visualextra
# +cryptv +linebreak -python +viminfo
# +cscope +lispindent -python3 +vreplace
# +cursorbind +listcmds +quickfix +wildignore
# +cursorshape +localmap +reltime +wildmenu
# +dialog_con -lua +rightleft +windows
# +diff +menu -ruby +writebackup
# +digraphs +mksession +scrollbind -X11
# -dnd +modify_fname +signs -xfontset
# -ebcdic +mouse +smartindent -xim
# +emacs_tags -mouseshape -sniff -xsmp
# +eval +mouse_dec +startuptime -xterm_clipboard
# +ex_extra +mouse_gpm +statusline -xterm_save
# +extra_search -mouse_jsbterm -sun_workshop -xpm
# System-vimrc-Datei: "$VIM/vimrc"
# Benutzer-vimrc-Datei: "$HOME/.vimrc"
# zweite Benutzer-vimrc-Datei: "~/.vim/vimrc"
# Benutzer-exrc-Datei: "$HOME/.exrc"
# Voreinstellung für $VIM: "/usr/share/vim"
# Ãbersetzt: gcc -c -I. -Iproto -DHAVE_CONFIG_H -g -O2 -fPIE -fstack-protector-strong -Wformat -Werror=format-security -U_FORTIFY_SOURCE -D_FORTIFY_SOURCE=1
# Linken: gcc -fPIE -pie -Wl,-z,relro -Wl,-z,now -Wl,--as-needed -o vim -lm -ltinfo -lnsl -lselinux -lacl -lattr -lgpm -ldl
#
t/000-vim-version.t .... ok
t/all-syntax-groups.t .. ok
t/ansi.t ............... ok
t/bin.t ................ ok
t/compare-formats.t .... ok
t/encoding.t ........... ok
t/html.t ............... ok
t/input_filename.t ..... ok
t/new.t ................ ok
t/override-options.t ... ok
t/share-dir.t .......... ok
t/tvctestsyn.t ......... ok
t/untie-std-handles.t .. ok
t/vim_let.t ............ ok
t/vim_options.t ........ ok
t/xml.t ................ ok
All tests successful.
Test Summary Report
-------------------
t/encoding.t (Wstat: 0 Tests: 8 Failed: 0)
TODO passed: 5-6
Files=18, Tests=143, 5 wallclock secs ( 0.05 usr 0.07 sys + 2.28 cusr 0.66 csys = 3.06 CPU)
Result: PASS
------------------------------
PREREQUISITES
------------------------------
Prerequisite modules loaded:
requires:
Module Need Have
-------------------------- ----- --------
Carp 0 1.38
constant 0 1.33
File::Copy 0 2.26
File::ShareDir 0 1.102
File::Temp 0 0.2304
Getopt::Long 0 2.5
IO::File 0 1.16
IPC::Open3 0 1.13
Path::Class 0.04 0.37
perl 5.006 5.018002
strict 0 1.07
Symbol 0 1.07
Term::ANSIColor 1.03 4.05
warnings 0 1.18
build_requires:
Module Need Have
-------------------------- ----- --------
blib 1.01 1.06
Exporter 0 5.72
ExtUtils::MakeMaker 0 7.24
File::Spec 0 3.62
File::Temp 0 0.2304
IO::Handle 0 1.34
IPC::Open3 0 1.13
lib 0 0.63
Path::Class 0.04 0.37
Test::File::ShareDir::Dist 0 1.001002
Test::More 0.88 1.302085
configure_requires:
Module Need Have
-------------------------- ----- --------
ExtUtils::MakeMaker 0 7.24
File::ShareDir::Install 0.06 0.11
File::Temp 0 0.2304
IO::File 0 1.16
IPC::Open3 0 1.13
perl 5.006 5.018002
strict 0 1.07
warnings 0 1.18
------------------------------
ENVIRONMENT AND OTHER CONTEXT
------------------------------
Environment variables:
LANG = C
LC_ALL = de_DE.UTF-8
PATH = /usr/local/bin:/usr/bin:/bin:/usr/local/sbin:/usr/sbin:/sbin:/home/cpansand/bin/linux-gnu:/home/cpansand/bin/sh:/home/cpansand/bin:/usr/games:/home/cpansand/devel:/home/eserte/src/srezic-misc/scripts
PERL5LIB =
PERL5OPT =
PERL5_CPANPLUS_IS_RUNNING = 22480
PERL5_CPAN_IS_RUNNING = 22480
PERL5_CPAN_IS_RUNNING_IN_RECURSION = 22421,22480
PERLDOC = -MPod::Perldoc::ToTextOverstrike
PERL_BATCH = yes
PERL_CANARY_STABILITY_NOPROMPT = 1
PERL_CPAN_REPORTER_CONFIG = /var/tmp/cpansmoker-1023/2017080700/cpanreporter_000_config.ini
PERL_EXTUTILS_AUTOINSTALL = --defaultdeps
PERL_PARALLEL_SMOKER = yes
PERL_USE_UNSAFE_INC = 1
SHELL = /bin/zsh
TERM = screen
TMPDIR = /var/tmp/cpansmoker-1023/2017080700
Perl special variables (and OS-specific diagnostics, for MSWin32):
$^X = /bbbike/perl-5.18.2/bin/perl5.18.2
$UID/$EUID = 1023 / 1023
$GID = 1023 1023
$EGID = 1023 1023
Perl module toolchain versions installed:
Module Have
------------------- --------
CPAN 2.16
CPAN::Meta 2.150010
Cwd 3.62
ExtUtils::CBuilder 0.280226
ExtUtils::Command 7.24
ExtUtils::Install 2.14
ExtUtils::MakeMaker 7.24
ExtUtils::Manifest 1.70
ExtUtils::ParseXS 3.30
File::Spec 3.62
JSON 2.94
JSON::PP 2.27400
Module::Build 0.4220
Module::Signature 0.79
Parse::CPAN::Meta 2.150010
Test::Harness 3.38
Test::More 1.302085
YAML 1.20
YAML::Syck 1.29
version 0.9916
--
Summary of my perl5 (revision 5 version 18 subversion 2) configuration:
Platform:
osname=linux, osvers=3.16.0-4-amd64, archname=x86_64-linux
uname='linux eserte 3.16.0-4-amd64 #1 smp debian 3.16.7-ckt25-2 (2016-04-08) x86_64 gnulinux '
config_args='-ds -e -Dprefix=/opt/perl-5.18.2 -Dcf_email=srezic@cpan.org'
hint=recommended, useposix=true, d_sigaction=define
useithreads=undef, usemultiplicity=undef
useperlio=define, d_sfio=undef, uselargefiles=define, usesocks=undef
use64bitint=define, use64bitall=define, uselongdouble=undef
usemymalloc=n, bincompat5005=undef
Compiler:
cc='cc', ccflags ='-fno-strict-aliasing -pipe -fstack-protector -I/usr/local/include -D_LARGEFILE_SOURCE -D_FILE_OFFSET_BITS=64',
optimize='-O2',
cppflags='-fno-strict-aliasing -pipe -fstack-protector -I/usr/local/include'
ccversion='', gccversion='4.9.2', gccosandvers=''
intsize=4, longsize=8, ptrsize=8, doublesize=8, byteorder=12345678
d_longlong=define, longlongsize=8, d_longdbl=define, longdblsize=16
ivtype='long', ivsize=8, nvtype='double', nvsize=8, Off_t='off_t', lseeksize=8
alignbytes=8, prototype=define
Linker and Libraries:
ld='cc', ldflags =' -fstack-protector -L/usr/local/lib'
libpth=/usr/local/lib /lib/x86_64-linux-gnu /lib/../lib /usr/lib/x86_64-linux-gnu /usr/lib/../lib /lib /usr/lib
libs=-lnsl -lgdbm -ldb -ldl -lm -lcrypt -lutil -lc -lgdbm_compat
perllibs=-lnsl -ldl -lm -lcrypt -lutil -lc
libc=, so=so, useshrplib=false, libperl=libperl.a
gnulibc_version='2.19'
Dynamic Linking:
dlsrc=dl_dlopen.xs, dlext=so, d_dlsymun=undef, ccdlflags='-Wl,-E'
cccdlflags='-fPIC', lddlflags='-shared -O2 -L/usr/local/lib -fstack-protector'
Characteristics of this binary (from libperl):
Compile-time options: HAS_TIMES PERLIO_LAYERS PERL_DONT_CREATE_GVSV
PERL_HASH_FUNC_ONE_AT_A_TIME_HARD PERL_MALLOC_WRAP
PERL_PRESERVE_IVUV PERL_SAWAMPERSAND USE_64_BIT_ALL
USE_64_BIT_INT USE_LARGE_FILES USE_LOCALE
USE_LOCALE_COLLATE USE_LOCALE_CTYPE
USE_LOCALE_NUMERIC USE_PERLIO USE_PERL_ATOF
Built under linux
Compiled at May 7 2016 16:24:49
%ENV:
PERL5LIB=""
PERL5OPT=""
PERL5_CPANPLUS_IS_RUNNING="22480"
PERL5_CPAN_IS_RUNNING="22480"
PERL5_CPAN_IS_RUNNING_IN_RECURSION="22421,22480"
PERLDOC="-MPod::Perldoc::ToTextOverstrike"
PERL_BATCH="yes"
PERL_CANARY_STABILITY_NOPROMPT="1"
PERL_CPAN_REPORTER_CONFIG="/var/tmp/cpansmoker-1023/2017080700/cpanreporter_000_config.ini"
PERL_EXTUTILS_AUTOINSTALL="--defaultdeps"
PERL_PARALLEL_SMOKER="yes"
PERL_USE_UNSAFE_INC="1"
@INC:
/opt/perl-5.18.2/lib/site_perl/5.18.2/x86_64-linux
/opt/perl-5.18.2/lib/site_perl/5.18.2
/opt/perl-5.18.2/lib/5.18.2/x86_64-linux
/opt/perl-5.18.2/lib/5.18.2
.