Back
From: metabase:user:314402c4-2aae-11df-837a-5e0a49663a4f
Subject: PASS Filter-Crypto-2.04 v5.18.1 FreeBSD
Date: 2014-02-19T14:55:52Z
This distribution has been tested as part of the CPAN Testers
project, supporting the Perl programming language. See
http://wiki.cpantesters.org/ for more information or email
questions to cpan-testers-discuss@perl.org
--
Dear Steve Hay,
This is a computer-generated report for Filter-Crypto-2.04
on perl 5.18.1, created by CPAN-Reporter-1.2010.
Thank you for uploading your work to CPAN. Congratulations!
All tests were successful.
Sections of this report:
* Tester comments
* Program output
* Prerequisites
* Environment and other context
------------------------------
TESTER COMMENTS
------------------------------
Additional comments from tester:
none provided
------------------------------
PROGRAM OUTPUT
------------------------------
Output from '/usr/bin/make test':
Running Mkbootstrap for Filter::Crypto::CryptFile ()
chmod 644 CryptFile.bs
Running Mkbootstrap for Filter::Crypto::Decrypt ()
chmod 644 Decrypt.bs
PERL_DL_NONLAZY=1 /usr/perl5.18.1/bin/perl "-MExtUtils::Command::MM" "-MTest::Harness" "-e" "undef *Test::Harness::Switches; test_harness(0, 'inc', 'blib/lib', 'blib/arch')" t/01_constants.t t/02_function.t t/03_script.t t/04_par.t t/05_errstr.t t/06_pod.t
t/01_constants.t .. ok
t/02_function.t ... ok
t/03_script.t ..... ok
t/04_par.t ........ ok
t/05_errstr.t ..... ok
t/06_pod.t ........ ok
All tests successful.
Files=6, Tests=431, 24 wallclock secs ( 0.12 usr 0.03 sys + 18.84 cusr 2.61 csys = 21.59 CPU)
Result: PASS
------------------------------
PREREQUISITES
------------------------------
Prerequisite modules loaded:
requires:
Module Need Have
--------------------- ----- ---------
Archive::Zip 0 1.37
blib 0 1.06
Exporter 0 5.68
Fcntl 0 1.11
File::Temp 0 0.2304
PAR::Filter 0 0.03
perl 5.006 5.018001
Scalar::Util 0 1.37
Test::More 0 1.001002
Test::Pod 1.00 1.48
Text::ParseWords 0 3.28
XSLoader 0 0.16
build_requires:
Module Need Have
--------------------- ----- ---------
blib 0 1.06
Carp 0 1.29
Config 0 5.018001
constant 0 1.27
Cwd 0 3.40
ExtUtils::MakeMaker 6.59 6.86
File::Basename 0 2.84
File::Copy 0 2.26
File::Find 0 1.23
File::Path 0 2.09
File::Spec 0 3.40
File::Spec::Functions 0 3.40
FindBin 0 1.51
Getopt::Long 0 2.42
parent 0 0.228
Pod::Usage 1.15 1.63
strict 0 1.07
Test::More 0 1.001002
Text::Wrap 0 2013.0523
vars 0 1.03
warnings 0 1.18
configure_requires:
Module Need Have
--------------------- ----- ---------
Carp 0 1.29
Config 0 5.018001
constant 0 1.27
Cwd 0 3.40
ExtUtils::MakeMaker 6.59 6.86
File::Basename 0 2.84
File::Copy 0 2.26
File::Find 0 1.23
File::Path 0 2.09
File::Spec 0 3.40
File::Spec::Functions 0 3.40
FindBin 0 1.51
Getopt::Long 0 2.42
parent 0 0.228
Pod::Usage 1.15 1.63
strict 0 1.07
Text::Wrap 0 2013.0523
vars 0 1.03
warnings 0 1.18
------------------------------
ENVIRONMENT AND OTHER CONTEXT
------------------------------
Environment variables:
DBIC_NO_WARN_BAD_PERL = 1
PATH = /usr/local/bin:/usr/bin:/bin:/usr/local/sbin:/usr/sbin:/sbin:/home/cpansand/bin/freebsd9.1:/home/cpansand/bin/sh:/home/cpansand/bin:/usr/games:/home/cpansand/devel:/usr/home/eserte/work/srezic-misc/scripts
PERL5LIB =
PERL5OPT =
PERL5_CPANPLUS_IS_RUNNING = 13173
PERL5_CPAN_IS_RUNNING = 13173
PERL5_CPAN_IS_RUNNING_IN_RECURSION = 12869,13173
PERLDOC = -MPod::Perldoc::ToTextOverstrike
PERL_BATCH = yes
PERL_CPAN_REPORTER_CONFIG = /var/tmp/cpansmoker-1023/FTCrRJyg42_config.ini
PERL_EXTUTILS_AUTOINSTALL = --defaultdeps
PERL_HTML_DISPLAY_CLASS = HTML::Display::Mozilla
SHELL = /usr/local/bin/zsh
TERM = screen
TMPDIR = /var/tmp/cpansmoker-1023
Perl special variables (and OS-specific diagnostics, for MSWin32):
$^X = /usr/perl5.18.1/bin/perl
$UID/$EUID = 1023 / 1023
$GID = 1023 1023
$EGID = 1023 1023
Perl module toolchain versions installed:
Module Have
------------------- --------
CPAN 2.00
CPAN::Meta 2.132830
Cwd 3.40
ExtUtils::CBuilder 0.280210
ExtUtils::Command 1.17
ExtUtils::Install 1.59
ExtUtils::MakeMaker 6.86
ExtUtils::Manifest 1.63
ExtUtils::ParseXS 3.18
File::Spec 3.40
JSON 2.90
JSON::PP 2.27203
Module::Build 0.4204
Module::Signature 0.73
Parse::CPAN::Meta 1.4409
Test::Harness 3.30
Test::More 1.001002
YAML 0.85
YAML::Syck 1.27
version 0.9904
--
Summary of my perl5 (revision 5 version 18 subversion 1) configuration:
Platform:
osname=freebsd, osvers=9.2-release, archname=amd64-freebsd
uname='freebsd cvrsnica-freebsd-92 9.2-release freebsd 9.2-release #0 r255898: thu sep 26 22:50:31 utc 2013 root@bake.isc.freebsd.org:usrobjusrsrcsysgeneric amd64 '
config_args='-ds -e -Dprefix=/usr/perl5.18.1 -Dshrplib'
hint=previous, useposix=true, d_sigaction=define
useithreads=undef, usemultiplicity=undef
useperlio=define, d_sfio=undef, uselargefiles=define, usesocks=undef
use64bitint=define, use64bitall=define, uselongdouble=undef
usemymalloc=n, bincompat5005=undef
Compiler:
cc='cc', ccflags ='-DHAS_FPSETMASK -DHAS_FLOATINGPOINT_H -fno-strict-aliasing -pipe -fstack-protector -I/usr/local/include',
optimize='-O',
cppflags='-DHAS_FPSETMASK -DHAS_FLOATINGPOINT_H -fno-strict-aliasing -pipe -fstack-protector -I/usr/local/include -DHAS_FPSETMASK -DHAS_FLOATINGPOINT_H -fno-strict-aliasing -pipe -fstack-protector -I/usr/local/include'
ccversion='', gccversion='4.2.1 20070831 patched [FreeBSD]', gccosandvers=''
intsize=4, longsize=8, ptrsize=8, doublesize=8, byteorder=12345678
d_longlong=define, longlongsize=8, d_longdbl=define, longdblsize=16
ivtype='long', ivsize=8, nvtype='double', nvsize=8, Off_t='off_t', lseeksize=8
alignbytes=8, prototype=define
Linker and Libraries:
ld='cc', ldflags ='-Wl,-E -fstack-protector -L/usr/local/lib'
libpth=/usr/lib /usr/local/lib
libs=-lm -lcrypt -lutil -lc
perllibs=-lm -lcrypt -lutil -lc
libc=, so=so, useshrplib=false, libperl=libperl.a
gnulibc_version=''
Dynamic Linking:
dlsrc=dl_dlopen.xs, dlext=so, d_dlsymun=undef, ccdlflags=' '
cccdlflags='-DPIC -fPIC', lddlflags='-shared -L/usr/local/lib -fstack-protector'
Characteristics of this binary (from libperl):
Compile-time options: HAS_TIMES PERLIO_LAYERS PERL_DONT_CREATE_GVSV
PERL_HASH_FUNC_ONE_AT_A_TIME_HARD PERL_MALLOC_WRAP
PERL_PRESERVE_IVUV PERL_SAWAMPERSAND USE_64_BIT_ALL
USE_64_BIT_INT USE_LARGE_FILES USE_LOCALE
USE_LOCALE_COLLATE USE_LOCALE_CTYPE
USE_LOCALE_NUMERIC USE_PERLIO USE_PERL_ATOF
Built under freebsd
Compiled at Oct 15 2013 21:30:37
%ENV:
PERL5LIB=""
PERL5OPT=""
PERL5_CPANPLUS_IS_RUNNING="13173"
PERL5_CPAN_IS_RUNNING="13173"
PERL5_CPAN_IS_RUNNING_IN_RECURSION="12869,13173"
PERLDOC="-MPod::Perldoc::ToTextOverstrike"
PERL_BATCH="yes"
PERL_CPAN_REPORTER_CONFIG="/var/tmp/cpansmoker-1023/FTCrRJyg42_config.ini"
PERL_EXTUTILS_AUTOINSTALL="--defaultdeps"
PERL_HTML_DISPLAY_CLASS="HTML::Display::Mozilla"
@INC:
/usr/perl5.18.1/lib/site_perl/5.18.1/amd64-freebsd
/usr/perl5.18.1/lib/site_perl/5.18.1
/usr/perl5.18.1/lib/5.18.1/amd64-freebsd
/usr/perl5.18.1/lib/5.18.1
.