Report for Net-Statsd-Server-0.20

Back
From: metabase:user:314402c4-2aae-11df-837a-5e0a49663a4f
Subject: PASS Net-Statsd-Server-0.20 v5.24.1 RC3 FreeBSD
Date: 2016-08-23T06:43:41Z

This distribution has been tested as part of the CPAN Testers
project, supporting the Perl programming language.  See
http://wiki.cpantesters.org/ for more information or email
questions to cpan-testers-discuss@perl.org


--
Dear Cosimo Streppone,

This is a computer-generated report for Net-Statsd-Server-0.20
on perl 5.24.1, created by CPAN-Reporter-1.2018.

Thank you for uploading your work to CPAN.  Congratulations!
All tests were successful.

Sections of this report:

    * Tester comments
    * Program output
    * Prerequisites
    * Environment and other context

------------------------------
TESTER COMMENTS
------------------------------

Additional comments from tester:

none provided

------------------------------
PROGRAM OUTPUT
------------------------------

Output from '/usr/bin/make test':

PERL_DL_NONLAZY=1 "/usr/perl5.24.1-RC3p/bin/perl5.24.1" "-MExtUtils::Command::MM" "-MTest::Harness" "-e" "undef *Test::Harness::Switches; test_harness(0, 'blib/lib', 'blib/arch')" t/*.t t/integration-tests/*.t
t/000-sanity.t ............................. ok
t/config.t ................................. ok
t/graphite.t ............................... ok
2016-08-23 08:40:37.000000 +0200 note  Net::Statsd::Server: Initializing Net::Statsd::Server::Backend::Console backend
2016-08-23 08:40:37.000000 +0200 note  Net::Statsd::Server: Initializing Net::Statsd::Server::Backend::Graphite backend
2016-08-23 08:40:37.000000 +0200 info  AnyEvent: Autoloaded model 'AnyEvent::Impl::EV', using it.
Couldn't set SO_RCVBUF: No buffer space available at /home/cpansand/.cpan/build/2016082306/Net-Statsd-Server-0.20-0/bin/../lib/Net/Statsd/Server.pm line 709.
2016-08-23 08:40:37.947845 +0200 note  Net::Statsd::Server: statsd server started on 0.0.0.0:40001 (v0.17)
2016-08-23 08:40:37.947875 +0200 note  Net::Statsd::Server: manager interface started on 0.0.0.0:40002
2016-08-23 08:40:37.947905 +0200 note  Net::Statsd::Server: metrics flush will happen every 1s
2016-08-23 08:40:38.259345 +0200 warn  Net::Statsd::Server: Bad line: 1 in msg "a_bad_test_value|z"
2016-08-23 08:40:38.955344 +0200 note  Net::Statsd::Server: flushing metrics
Flushing stats at Tue Aug 23 08:40:38 2016
{"pctThreshold":[90],"counter_rates":{"statsd.bad_lines_seen":1,"statsd.packets_received":1},"timers":{},"gauges":{},"sets":null,"timer_data":{},"counters":{"statsd.packets_received":1,"statsd.bad_lines_seen":1}}
t/integration-tests/bad-message.t .......... ok
2016-08-23 08:40:39.000000 +0200 note  Net::Statsd::Server: Initializing Net::Statsd::Server::Backend::Console backend
2016-08-23 08:40:39.000000 +0200 note  Net::Statsd::Server: Initializing Net::Statsd::Server::Backend::Graphite backend
2016-08-23 08:40:39.000000 +0200 info  AnyEvent: Autoloaded model 'AnyEvent::Impl::EV', using it.
Couldn't set SO_RCVBUF: No buffer space available at /home/cpansand/.cpan/build/2016082306/Net-Statsd-Server-0.20-0/bin/../lib/Net/Statsd/Server.pm line 709.
2016-08-23 08:40:39.113812 +0200 note  Net::Statsd::Server: statsd server started on 0.0.0.0:40001 (v0.17)
2016-08-23 08:40:39.113837 +0200 note  Net::Statsd::Server: manager interface started on 0.0.0.0:40002
2016-08-23 08:40:39.113864 +0200 note  Net::Statsd::Server: metrics flush will happen every 1s
2016-08-23 08:40:40.131722 +0200 note  Net::Statsd::Server: flushing metrics
Flushing stats at Tue Aug 23 08:40:40 2016
{"counters":{"statsd.bad_lines_seen":0,"statsd.packets_received":1,"a_test_value":100},"sets":null,"gauges":{},"timer_data":{},"timers":{},"pctThreshold":[90],"counter_rates":{"a_test_value":100,"statsd.bad_lines_seen":0,"statsd.packets_received":1}}
# stats.counters.statsd.bad_lines_seen.rate 0.000000 1471934440
# stats.counters.statsd.bad_lines_seen.count 0 1471934440
# stats.counters.statsd.packets_received.rate 1.000000 1471934440
# stats.counters.statsd.packets_received.count 1 1471934440
# stats.counters.a_test_value.rate 100.000000 1471934440
# stats.counters.a_test_value.count 100 1471934440
# stats.statsd.numStats 3 1471934440
# stats.statsd.graphiteStats.calculationtime 0.074000 1471934440
# stats.statsd.processing_time 0.023 1471934440
# stats.statsd.graphiteStats.last_exception 1103852984 1471934440
# stats.statsd.graphiteStats.last_flush 1103852984 1471934440
t/integration-tests/counts-are-valid.t ..... ok
2016-08-23 08:40:40.000000 +0200 note  Net::Statsd::Server: Initializing Net::Statsd::Server::Backend::Graphite backend
2016-08-23 08:40:40.000000 +0200 info  AnyEvent: Autoloaded model 'AnyEvent::Impl::EV', using it.
Couldn't set SO_RCVBUF: No buffer space available at /home/cpansand/.cpan/build/2016082306/Net-Statsd-Server-0.20-0/bin/../lib/Net/Statsd/Server.pm line 709.
2016-08-23 08:40:40.461503 +0200 note  Net::Statsd::Server: statsd server started on 0.0.0.0:40001 (v0.17)
2016-08-23 08:40:40.461791 +0200 note  Net::Statsd::Server: manager interface started on 0.0.0.0:40002
2016-08-23 08:40:40.465399 +0200 note  Net::Statsd::Server: metrics flush will happen every 1s
2016-08-23 08:40:41.475280 +0200 note  Net::Statsd::Server: flushing metrics
# First flush. Test gauge should be there.
2016-08-23 08:40:42.472341 +0200 note  Net::Statsd::Server: flushing metrics
# Second flush. deleteGauges=false should keep the test gauge.
t/integration-tests/delete-gauges-false.t .. ok
2016-08-23 08:40:42.000000 +0200 note  Net::Statsd::Server: Initializing Net::Statsd::Server::Backend::Graphite backend
2016-08-23 08:40:42.000000 +0200 info  AnyEvent: Autoloaded model 'AnyEvent::Impl::EV', using it.
Couldn't set SO_RCVBUF: No buffer space available at /home/cpansand/.cpan/build/2016082306/Net-Statsd-Server-0.20-0/bin/../lib/Net/Statsd/Server.pm line 709.
2016-08-23 08:40:42.843514 +0200 note  Net::Statsd::Server: statsd server started on 0.0.0.0:40001 (v0.17)
2016-08-23 08:40:42.843539 +0200 note  Net::Statsd::Server: manager interface started on 0.0.0.0:40002
2016-08-23 08:40:42.843565 +0200 note  Net::Statsd::Server: metrics flush will happen every 1s
2016-08-23 08:40:43.855386 +0200 note  Net::Statsd::Server: flushing metrics
# First flush. Test gauge should be there.
2016-08-23 08:40:44.870573 +0200 note  Net::Statsd::Server: flushing metrics
# Second flush. deleteIdleStats should have cleared the test gauge.
t/integration-tests/delete-idle-stats.t .... ok
2016-08-23 08:40:45.000000 +0200 note  Net::Statsd::Server: Initializing Net::Statsd::Server::Backend::Console backend
2016-08-23 08:40:45.000000 +0200 note  Net::Statsd::Server: Initializing Net::Statsd::Server::Backend::Graphite backend
2016-08-23 08:40:45.000000 +0200 info  AnyEvent: Autoloaded model 'AnyEvent::Impl::EV', using it.
Couldn't set SO_RCVBUF: No buffer space available at /home/cpansand/.cpan/build/2016082306/Net-Statsd-Server-0.20-0/bin/../lib/Net/Statsd/Server.pm line 709.
2016-08-23 08:40:45.022609 +0200 note  Net::Statsd::Server: statsd server started on 0.0.0.0:40001 (v0.17)
2016-08-23 08:40:45.022635 +0200 note  Net::Statsd::Server: manager interface started on 0.0.0.0:40002
2016-08-23 08:40:45.022661 +0200 note  Net::Statsd::Server: metrics flush will happen every 1s
2016-08-23 08:40:46.042090 +0200 note  Net::Statsd::Server: flushing metrics
Flushing stats at Tue Aug 23 08:40:46 2016
{"pctThreshold":[90],"counters":{"a_test_value,category=web,severity=high":100,"statsd.packets_received":1,"statsd.bad_lines_seen":0},"gauges":{},"sets":null,"timers":{},"timer_data":{},"counter_rates":{"a_test_value,category=web,severity=high":100,"statsd.packets_received":1,"statsd.bad_lines_seen":0}}
# stats.counters.a_test_value,category=web,severity=high.rate 100.000000 1471934446
# stats.counters.a_test_value,category=web,severity=high.count 100 1471934446
# stats.counters.statsd.packets_received.rate 1.000000 1471934446
# stats.counters.statsd.packets_received.count 1 1471934446
# stats.counters.statsd.bad_lines_seen.rate 0.000000 1471934446
# stats.counters.statsd.bad_lines_seen.count 0 1471934446
# stats.statsd.numStats 3 1471934446
# stats.statsd.graphiteStats.calculationtime 0.036000 1471934446
# stats.statsd.processing_time 0.017 1471934446
# stats.statsd.graphiteStats.last_exception 1103852984 1471934446
# stats.statsd.graphiteStats.last_flush 1103852984 1471934446
t/integration-tests/keys-with-tags.t ....... ok
2016-08-23 08:40:46.000000 +0200 note  Net::Statsd::Server: Initializing Net::Statsd::Server::Backend::Graphite backend
2016-08-23 08:40:46.000000 +0200 info  AnyEvent: Autoloaded model 'AnyEvent::Impl::EV', using it.
Couldn't set SO_RCVBUF: No buffer space available at /home/cpansand/.cpan/build/2016082306/Net-Statsd-Server-0.20-0/bin/../lib/Net/Statsd/Server.pm line 709.
2016-08-23 08:40:46.416218 +0200 note  Net::Statsd::Server: statsd server started on 0.0.0.0:40001 (v0.17)
2016-08-23 08:40:46.416244 +0200 note  Net::Statsd::Server: manager interface started on 0.0.0.0:40002
2016-08-23 08:40:46.416270 +0200 note  Net::Statsd::Server: metrics flush will happen every 1s
# Expected mean value is 1845.02
2016-08-23 08:40:47.439755 +0200 note  Net::Statsd::Server: flushing metrics
# stats.counters.statsd.packets_received.rate 100.000000 1471934447
# stats.counters.statsd.packets_received.count 100 1471934447
# stats.counters.statsd.bad_lines_seen.rate 0.000000 1471934447
# stats.counters.statsd.bad_lines_seen.count 0 1471934447
# stats.timers.read_latency.median 1815.500000 1471934447
# stats.timers.read_latency.mean_99 1833.454545 1471934447
# stats.timers.read_latency.sum_95 169922.000000 1471934447
# stats.timers.read_latency.count_98 98.000000 1471934447
# stats.timers.read_latency.lower 1002.000000 1471934447
# stats.timers.read_latency.sum 184502.000000 1471934447
# stats.timers.read_latency.sum_squares_95 327518226.000000 1471934447
# stats.timers.read_latency.upper 2990.000000 1471934447
# stats.timers.read_latency.mean_98 1821.663265 1471934447
# stats.timers.read_latency.mean_95 1788.652632 1471934447
# stats.timers.read_latency.std 544.470917 1471934447
# stats.timers.read_latency.sum_squares 370054738.000000 1471934447
# stats.timers.read_latency.mean 1845.020000 1471934447
# stats.timers.read_latency.count_99 99.000000 1471934447
# stats.timers.read_latency.sum_squares_99 361114638.000000 1471934447
# stats.timers.read_latency.upper_99 2989.000000 1471934447
# stats.timers.read_latency.count 100.000000 1471934447
# stats.timers.read_latency.sum_98 178523.000000 1471934447
# stats.timers.read_latency.count_95 95.000000 1471934447
# stats.timers.read_latency.upper_95 2754.000000 1471934447
# stats.timers.read_latency.count_ps 100.000000 1471934447
# stats.timers.read_latency.sum_99 181512.000000 1471934447
# stats.timers.read_latency.sum_squares_98 352180517.000000 1471934447
# stats.timers.read_latency.upper_98 2913.000000 1471934447
# stats.statsd.numStats 3 1471934447
# stats.statsd.graphiteStats.calculationtime 0.087000 1471934447
# stats.statsd.processing_time 0.159 1471934447
# stats.statsd.graphiteStats.last_exception 1103852984 1471934447
# stats.statsd.graphiteStats.last_flush 1103852984 1471934447
t/integration-tests/percent-threshold.t .... ok
2016-08-23 08:40:47.000000 +0200 note  Net::Statsd::Server: Initializing Net::Statsd::Server::Backend::Console backend
2016-08-23 08:40:47.000000 +0200 note  Net::Statsd::Server: Initializing Net::Statsd::Server::Backend::Graphite backend
2016-08-23 08:40:47.000000 +0200 info  AnyEvent: Autoloaded model 'AnyEvent::Impl::EV', using it.
Couldn't set SO_RCVBUF: No buffer space available at /home/cpansand/.cpan/build/2016082306/Net-Statsd-Server-0.20-0/bin/../lib/Net/Statsd/Server.pm line 709.
2016-08-23 08:40:47.887887 +0200 note  Net::Statsd::Server: statsd server started on 0.0.0.0:40001 (v0.17)
2016-08-23 08:40:47.888324 +0200 note  Net::Statsd::Server: manager interface started on 0.0.0.0:40002
2016-08-23 08:40:47.897912 +0200 note  Net::Statsd::Server: metrics flush will happen every 1s
2016-08-23 08:40:48.880383 +0200 note  Net::Statsd::Server: flushing metrics
Flushing stats at Tue Aug 23 08:40:48 2016
{"sets":null,"timer_data":{"a_test_value":{"sum":"100","count_ps":1,"upper":"100","mean_90":"100","sum_90":"100","sum_squares_90":10000,"sum_squares":10000,"count":1,"mean":100,"lower":"100","count_90":1,"median":"100","std":0,"upper_90":"100"}},"counter_rates":{"statsd.bad_lines_seen":0,"statsd.packets_received":1},"pctThreshold":["90"],"gauges":{},"counters":{"statsd.bad_lines_seen":0,"statsd.packets_received":1},"timers":{"a_test_value":["100"]}}
# stats.counters.statsd.bad_lines_seen.rate 0.000000 1471934448
# stats.counters.statsd.bad_lines_seen.count 0 1471934448
# stats.counters.statsd.packets_received.rate 1.000000 1471934448
# stats.counters.statsd.packets_received.count 1 1471934448
# stats.timers.a_test_value.sum 100.000000 1471934448
# stats.timers.a_test_value.count_ps 1.000000 1471934448
# stats.timers.a_test_value.upper 100.000000 1471934448
# stats.timers.a_test_value.mean_90 100.000000 1471934448
# stats.timers.a_test_value.sum_90 100.000000 1471934448
# stats.timers.a_test_value.sum_squares_90 10000.000000 1471934448
# stats.timers.a_test_value.sum_squares 10000.000000 1471934448
# stats.timers.a_test_value.count 1.000000 1471934448
# stats.timers.a_test_value.mean 100.000000 1471934448
# stats.timers.a_test_value.lower 100.000000 1471934448
# stats.timers.a_test_value.count_90 1.000000 1471934448
# stats.timers.a_test_value.median 100.000000 1471934448
# stats.timers.a_test_value.std 0.000000 1471934448
# stats.timers.a_test_value.upper_90 100.000000 1471934448
# stats.statsd.numStats 3 1471934448
# stats.statsd.graphiteStats.calculationtime 0.076000 1471934448
# stats.statsd.processing_time 0.05 1471934448
# stats.statsd.graphiteStats.last_exception 1103852984 1471934448
# stats.statsd.graphiteStats.last_flush 1103852984 1471934448
t/integration-tests/timers-are-valid.t ..... ok
t/process-metrics.t ........................ ok
t/trim.t ................................... ok
All tests successful.
Files=12, Tests=92, 15 wallclock secs ( 0.02 usr  0.05 sys +  0.73 cusr  0.14 csys =  0.95 CPU)
Result: PASS

------------------------------
PREREQUISITES
------------------------------

Prerequisite modules loaded:

requires:

    Module                Need Have    
    --------------------- ---- --------
    AnyEvent::Handle::UDP 0    0.044   
    IO::Socket::INET      0    1.35    
    JSON::XS              0    3.02    

build_requires:

    Module                Need Have    
    --------------------- ---- --------
    ExtUtils::MakeMaker   0    7.22    
    Test::More            0    1.302052

configure_requires:

    Module                Need Have    
    --------------------- ---- --------
    ExtUtils::MakeMaker   0    7.22    


------------------------------
ENVIRONMENT AND OTHER CONTEXT
------------------------------

Environment variables:

    LC_ALL = de_DE.ISO8859-1
    PATH = /usr/local/bin:/usr/bin:/bin:/usr/local/sbin:/usr/sbin:/sbin:/home/cpansand/bin/freebsd10.1:/home/cpansand/bin/sh:/home/cpansand/bin:/usr/games:/home/cpansand/devel:/home/eserte/src/srezic-misc/scripts
    PERL5LIB = 
    PERL5OPT = 
    PERL5_CPANPLUS_IS_RUNNING = 31458
    PERL5_CPAN_IS_RUNNING = 31458
    PERL5_CPAN_IS_RUNNING_IN_RECURSION = 98265,31458
    PERLDOC = -MPod::Perldoc::ToTextOverstrike
    PERL_BATCH = yes
    PERL_CANARY_STABILITY_NOPROMPT = 1
    PERL_CPAN_REPORTER_CONFIG = /var/tmp/cpansmoker-1023/2016082306/cpanreporter_002_config.ini
    PERL_EXTUTILS_AUTOINSTALL = --defaultdeps
    SHELL = /usr/local/bin/zsh
    TERM = screen
    TMPDIR = /var/tmp/cpansmoker-1023/2016082306

Perl special variables (and OS-specific diagnostics, for MSWin32):

    $^X = /usr/perl5.24.1-RC3p/bin/perl5.24.1
    $UID/$EUID = 1023 / 1023
    $GID = 1023 1023
    $EGID = 1023 1023

Perl module toolchain versions installed:

    Module              Have      
    ------------------- ----------
    CPAN                2.14      
    CPAN::Meta          2.150010  
    Cwd                 3.63_01   
    ExtUtils::CBuilder  0.280225  
    ExtUtils::Command   7.22      
    ExtUtils::Install   2.04      
    ExtUtils::MakeMaker 7.22      
    ExtUtils::Manifest  1.70      
    ExtUtils::ParseXS   3.31      
    File::Spec          3.63_01   
    JSON                2.90      
    JSON::PP            2.27300_01
    Module::Build       0.4220    
    Module::Signature   0.80      
    Parse::CPAN::Meta   2.150010  
    Test::Harness       3.36_01   
    Test::More          1.302052  
    YAML                1.18      
    YAML::Syck          1.29      
    version             0.9917    


--

Summary of my perl5 (revision 5 version 24 subversion 1) configuration:
   
  Platform:
    osname=freebsd, osvers=10.1-release, archname=amd64-freebsd
    uname='freebsd cvrsnica-freebsd-101.herceg.de 10.1-release freebsd 10.1-release #0 r274401: tue nov 11 21:02:49 utc 2014 root@releng1.nyi.freebsd.org:usrobjusrsrcsysgeneric amd64 '
    config_args='-ds -e -Dprefix=/usr/perl5.24.1-RC3p -Dcf_email=srezic@cpan.org -Doptimize=-O2 -pipe'
    hint=recommended, useposix=true, d_sigaction=define
    useithreads=undef, usemultiplicity=undef
    use64bitint=define, use64bitall=define, uselongdouble=undef
    usemymalloc=n, bincompat5005=undef
  Compiler:
    cc='cc', ccflags ='-DHAS_FPSETMASK -DHAS_FLOATINGPOINT_H -fno-strict-aliasing -pipe -fstack-protector -I/usr/local/include -D_FORTIFY_SOURCE=2',
    optimize='-O2 -pipe',
    cppflags='-DHAS_FPSETMASK -DHAS_FLOATINGPOINT_H -fno-strict-aliasing -pipe -fstack-protector -I/usr/local/include'
    ccversion='', gccversion='4.2.1 Compatible FreeBSD Clang 3.4.1 (tags/RELEASE_34/dot1-final 208032)', gccosandvers=''
    intsize=4, longsize=8, ptrsize=8, doublesize=8, byteorder=12345678, doublekind=3
    d_longlong=define, longlongsize=8, d_longdbl=define, longdblsize=16, longdblkind=3
    ivtype='long', ivsize=8, nvtype='double', nvsize=8, Off_t='off_t', lseeksize=8
    alignbytes=8, prototype=define
  Linker and Libraries:
    ld='cc', ldflags ='-pthread -Wl,-E  -fstack-protector -L/usr/local/lib'
    libpth=/usr/lib /usr/local/lib /usr/include/clang/3.4.1 /usr/lib
    libs=-lpthread -lgdbm -lm -lcrypt -lutil -lc
    perllibs=-lpthread -lm -lcrypt -lutil -lc
    libc=, so=so, useshrplib=false, libperl=libperl.a
    gnulibc_version=''
  Dynamic Linking:
    dlsrc=dl_dlopen.xs, dlext=so, d_dlsymun=undef, ccdlflags=' '
    cccdlflags='-DPIC -fPIC', lddlflags='-shared  -L/usr/local/lib -fstack-protector'


Characteristics of this binary (from libperl): 
  Compile-time options: HAS_TIMES PERLIO_LAYERS PERL_COPY_ON_WRITE
                        PERL_DONT_CREATE_GVSV
                        PERL_HASH_FUNC_ONE_AT_A_TIME_HARD PERL_MALLOC_WRAP
                        PERL_PRESERVE_IVUV USE_64_BIT_ALL USE_64_BIT_INT
                        USE_LARGE_FILES USE_LOCALE USE_LOCALE_COLLATE
                        USE_LOCALE_CTYPE USE_LOCALE_NUMERIC USE_LOCALE_TIME
                        USE_PERLIO USE_PERL_ATOF
  Locally applied patches:
	RC3
  Built under freebsd
  Compiled at Aug 19 2016 19:51:18
  %ENV:
    PERL5LIB=""
    PERL5OPT=""
    PERL5_CPANPLUS_IS_RUNNING="31458"
    PERL5_CPAN_IS_RUNNING="31458"
    PERL5_CPAN_IS_RUNNING_IN_RECURSION="98265,31458"
    PERLDOC="-MPod::Perldoc::ToTextOverstrike"
    PERL_BATCH="yes"
    PERL_CANARY_STABILITY_NOPROMPT="1"
    PERL_CPAN_REPORTER_CONFIG="/var/tmp/cpansmoker-1023/2016082306/cpanreporter_002_config.ini"
    PERL_EXTUTILS_AUTOINSTALL="--defaultdeps"
  @INC:
    /usr/perl5.24.1-RC3p/lib/site_perl/5.24.1/amd64-freebsd
    /usr/perl5.24.1-RC3p/lib/site_perl/5.24.1
    /usr/perl5.24.1-RC3p/lib/5.24.1/amd64-freebsd
    /usr/perl5.24.1-RC3p/lib/5.24.1
    .