Report for MRS-Client-1.0.1

Back
From: metabase:user:cd035d39-6d5b-1014-ab3a-39c0c09612a1
Subject: PASS MRS-Client-1.0.1 v5.22.1 
Date: 2016-03-22T13:27:21Z

This distribution has been tested as part of the CPAN Testers
project, supporting the Perl programming language.  See
http://wiki.cpantesters.org/ for more information or email
questions to cpan-testers-discuss@perl.org


--
Dear Martin Senger,

This is a computer-generated report for MRS-Client-1.0.1
on perl 5.22.1, created by CPAN-Reporter-1.2017.

Thank you for uploading your work to CPAN.  Congratulations!
All tests were successful.

Sections of this report:

    * Tester comments
    * Program output
    * Prerequisites
    * Environment and other context

------------------------------
TESTER COMMENTS
------------------------------

Additional comments from tester:

this report is from an automated smoke testing program
and was not reviewed by a human for accuracy

------------------------------
PROGRAM OUTPUT
------------------------------

Output from 'C:\strawberry\c\bin\dmake.EXE test':

"C:\Strawberry\perl\bin\perl.exe" "-MExtUtils::Command::MM" "-MTest::Harness" "-e" "undef *Test::Harness::Switches; test_harness(0, 'blib\lib', 'blib\arch')" t/*.t
Possible precedence issue with control flow operator at lib/MRS/Client/Blast.pm line 269.
Unescaped left brace in regex is deprecated, passed through in regex; marked by <-- HERE in m/\${ <-- HERE JOBID}/ at lib/MRS/Client/Blast.pm line 409.
Unescaped left brace in regex is deprecated, passed through in regex; marked by <-- HERE in m/\${ <-- HERE SEQDESC}/ at lib/MRS/Client/Blast.pm line 411.
Unescaped left brace in regex is deprecated, passed through in regex; marked by <-- HERE in m/\${ <-- HERE SEQDESC}/ at lib/MRS/Client/Blast.pm line 413.
Unescaped left brace in regex is deprecated, passed through in regex; marked by <-- HERE in m/\${ <-- HERE SEQDESC}/ at lib/MRS/Client/Blast.pm line 415.
Unescaped left brace in regex is deprecated, passed through in regex; marked by <-- HERE in m/\${ <-- HERE DB}/ at lib/MRS/Client/Blast.pm line 417.
Unescaped left brace in regex is deprecated, passed through in regex; marked by <-- HERE in m/\${ <-- HERE SEQLEN}/ at lib/MRS/Client/Blast.pm line 418.
Unescaped left brace in regex is deprecated, passed through in regex; marked by <-- HERE in m/\${ <-- HERE PARMATRIX}/ at lib/MRS/Client/Blast.pm line 419.
Unescaped left brace in regex is deprecated, passed through in regex; marked by <-- HERE in m/\${ <-- HERE PAREXPECT}/ at lib/MRS/Client/Blast.pm line 420.
Unescaped left brace in regex is deprecated, passed through in regex; marked by <-- HERE in m/\${ <-- HERE PARGAPOPEN}/ at lib/MRS/Client/Blast.pm line 421.
Unescaped left brace in regex is deprecated, passed through in regex; marked by <-- HERE in m/\${ <-- HERE PARGAPEXTEND}/ at lib/MRS/Client/Blast.pm line 422.
Unescaped left brace in regex is deprecated, passed through in regex; marked by <-- HERE in m/\${ <-- HERE PARFILTER}/ at lib/MRS/Client/Blast.pm line 423.
Unescaped left brace in regex is deprecated, passed through in regex; marked by <-- HERE in m/\${ <-- HERE DBCOUNT}/ at lib/MRS/Client/Blast.pm line 425.
Unescaped left brace in regex is deprecated, passed through in regex; marked by <-- HERE in m/\${ <-- HERE DBLENGTH}/ at lib/MRS/Client/Blast.pm line 426.
Unescaped left brace in regex is deprecated, passed through in regex; marked by <-- HERE in m/\${ <-- HERE DBSPACE}/ at lib/MRS/Client/Blast.pm line 427.
Unescaped left brace in regex is deprecated, passed through in regex; marked by <-- HERE in m/\${ <-- HERE KAPPA}/ at lib/MRS/Client/Blast.pm line 428.
Unescaped left brace in regex is deprecated, passed through in regex; marked by <-- HERE in m/\${ <-- HERE LAMBDA}/ at lib/MRS/Client/Blast.pm line 429.
Unescaped left brace in regex is deprecated, passed through in regex; marked by <-- HERE in m/\${ <-- HERE ENTROPY}/ at lib/MRS/Client/Blast.pm line 430.
Unescaped left brace in regex is deprecated, passed through in regex; marked by <-- HERE in m/\${ <-- HERE HITNR}/ at lib/MRS/Client/Blast.pm line 439.
Unescaped left brace in regex is deprecated, passed through in regex; marked by <-- HERE in m/\${ <-- HERE HITID}/ at lib/MRS/Client/Blast.pm line 440.
Unescaped left brace in regex is deprecated, passed through in regex; marked by <-- HERE in m/\${ <-- HERE HITSEQID}/ at lib/MRS/Client/Blast.pm line 442.
Unescaped left brace in regex is deprecated, passed through in regex; marked by <-- HERE in m/\${ <-- HERE HITSEQID}/ at lib/MRS/Client/Blast.pm line 444.
Unescaped left brace in regex is deprecated, passed through in regex; marked by <-- HERE in m/\${ <-- HERE HITSUBLEN}/ at lib/MRS/Client/Blast.pm line 447.
Unescaped left brace in regex is deprecated, passed through in regex; marked by <-- HERE in m/\${ <-- HERE HSPNR}/ at lib/MRS/Client/Blast.pm line 456.
Unescaped left brace in regex is deprecated, passed through in regex; marked by <-- HERE in m/\${ <-- HERE HSPBITSCORE}/ at lib/MRS/Client/Blast.pm line 457.
Unescaped left brace in regex is deprecated, passed through in regex; marked by <-- HERE in m/\${ <-- HERE HSPSCORE}/ at lib/MRS/Client/Blast.pm line 458.
Unescaped left brace in regex is deprecated, passed through in regex; marked by <-- HERE in m/\${ <-- HERE HSPEXPECT}/ at lib/MRS/Client/Blast.pm line 459.
Unescaped left brace in regex is deprecated, passed through in regex; marked by <-- HERE in m/\${ <-- HERE HSPIDENTITY}/ at lib/MRS/Client/Blast.pm line 460.
Unescaped left brace in regex is deprecated, passed through in regex; marked by <-- HERE in m/\${ <-- HERE HSPPOSITIVE}/ at lib/MRS/Client/Blast.pm line 461.
Unescaped left brace in regex is deprecated, passed through in regex; marked by <-- HERE in m/\${ <-- HERE HSPMIDLINE}/ at lib/MRS/Client/Blast.pm line 462.
Unescaped left brace in regex is deprecated, passed through in regex; marked by <-- HERE in m/\${ <-- HERE HSPQFROM}/ at lib/MRS/Client/Blast.pm line 484.
Unescaped left brace in regex is deprecated, passed through in regex; marked by <-- HERE in m/\${ <-- HERE HSPQTO}/ at lib/MRS/Client/Blast.pm line 485.
Unescaped left brace in regex is deprecated, passed through in regex; marked by <-- HERE in m/\${ <-- HERE HSPHFROM}/ at lib/MRS/Client/Blast.pm line 486.
Unescaped left brace in regex is deprecated, passed through in regex; marked by <-- HERE in m/\${ <-- HERE HSPHTO}/ at lib/MRS/Client/Blast.pm line 487.
Unescaped left brace in regex is deprecated, passed through in regex; marked by <-- HERE in m/\${ <-- HERE HSPALIGNLEN}/ at lib/MRS/Client/Blast.pm line 488.
Unescaped left brace in regex is deprecated, passed through in regex; marked by <-- HERE in m/\${ <-- HERE HSPQALIGN}/ at lib/MRS/Client/Blast.pm line 489.
Unescaped left brace in regex is deprecated, passed through in regex; marked by <-- HERE in m/\${ <-- HERE HSPSUBALIGN}/ at lib/MRS/Client/Blast.pm line 490.
Unescaped left brace in regex is deprecated, passed through in regex; marked by <-- HERE in m/\${ <-- HERE LOCATION}/ at lib/MRS/Client.pm line 221.
Unescaped left brace in regex is deprecated, passed through in regex; marked by <-- HERE in m/\${ <-- HERE SERVICE}/ at lib/MRS/Client.pm line 222.
Possible precedence issue with control flow operator at lib/MRS/Client/Blast.pm line 269.
Unescaped left brace in regex is deprecated, passed through in regex; marked by <-- HERE in m/\${ <-- HERE JOBID}/ at lib/MRS/Client/Blast.pm line 409.
Unescaped left brace in regex is deprecated, passed through in regex; marked by <-- HERE in m/\${ <-- HERE SEQDESC}/ at lib/MRS/Client/Blast.pm line 411.
Unescaped left brace in regex is deprecated, passed through in regex; marked by <-- HERE in m/\${ <-- HERE SEQDESC}/ at lib/MRS/Client/Blast.pm line 413.
Unescaped left brace in regex is deprecated, passed through in regex; marked by <-- HERE in m/\${ <-- HERE SEQDESC}/ at lib/MRS/Client/Blast.pm line 415.
Unescaped left brace in regex is deprecated, passed through in regex; marked by <-- HERE in m/\${ <-- HERE DB}/ at lib/MRS/Client/Blast.pm line 417.
Unescaped left brace in regex is deprecated, passed through in regex; marked by <-- HERE in m/\${ <-- HERE SEQLEN}/ at lib/MRS/Client/Blast.pm line 418.
Unescaped left brace in regex is deprecated, passed through in regex; marked by <-- HERE in m/\${ <-- HERE PARMATRIX}/ at lib/MRS/Client/Blast.pm line 419.
Unescaped left brace in regex is deprecated, passed through in regex; marked by <-- HERE in m/\${ <-- HERE PAREXPECT}/ at lib/MRS/Client/Blast.pm line 420.
Unescaped left brace in regex is deprecated, passed through in regex; marked by <-- HERE in m/\${ <-- HERE PARGAPOPEN}/ at lib/MRS/Client/Blast.pm line 421.
Unescaped left brace in regex is deprecated, passed through in regex; marked by <-- HERE in m/\${ <-- HERE PARGAPEXTEND}/ at lib/MRS/Client/Blast.pm line 422.
Unescaped left brace in regex is deprecated, passed through in regex; marked by <-- HERE in m/\${ <-- HERE PARFILTER}/ at lib/MRS/Client/Blast.pm line 423.
Unescaped left brace in regex is deprecated, passed through in regex; marked by <-- HERE in m/\${ <-- HERE DBCOUNT}/ at lib/MRS/Client/Blast.pm line 425.
Unescaped left brace in regex is deprecated, passed through in regex; marked by <-- HERE in m/\${ <-- HERE DBLENGTH}/ at lib/MRS/Client/Blast.pm line 426.
Unescaped left brace in regex is deprecated, passed through in regex; marked by <-- HERE in m/\${ <-- HERE DBSPACE}/ at lib/MRS/Client/Blast.pm line 427.
Unescaped left brace in regex is deprecated, passed through in regex; marked by <-- HERE in m/\${ <-- HERE KAPPA}/ at lib/MRS/Client/Blast.pm line 428.
Unescaped left brace in regex is deprecated, passed through in regex; marked by <-- HERE in m/\${ <-- HERE LAMBDA}/ at lib/MRS/Client/Blast.pm line 429.
Unescaped left brace in regex is deprecated, passed through in regex; marked by <-- HERE in m/\${ <-- HERE ENTROPY}/ at lib/MRS/Client/Blast.pm line 430.
Unescaped left brace in regex is deprecated, passed through in regex; marked by <-- HERE in m/\${ <-- HERE HITNR}/ at lib/MRS/Client/Blast.pm line 439.
Unescaped left brace in regex is deprecated, passed through in regex; marked by <-- HERE in m/\${ <-- HERE HITID}/ at lib/MRS/Client/Blast.pm line 440.
Unescaped left brace in regex is deprecated, passed through in regex; marked by <-- HERE in m/\${ <-- HERE HITSEQID}/ at lib/MRS/Client/Blast.pm line 442.
Unescaped left brace in regex is deprecated, passed through in regex; marked by <-- HERE in m/\${ <-- HERE HITSEQID}/ at lib/MRS/Client/Blast.pm line 444.
Unescaped left brace in regex is deprecated, passed through in regex; marked by <-- HERE in m/\${ <-- HERE HITSUBLEN}/ at lib/MRS/Client/Blast.pm line 447.
Unescaped left brace in regex is deprecated, passed through in regex; marked by <-- HERE in m/\${ <-- HERE HSPNR}/ at lib/MRS/Client/Blast.pm line 456.
Unescaped left brace in regex is deprecated, passed through in regex; marked by <-- HERE in m/\${ <-- HERE HSPBITSCORE}/ at lib/MRS/Client/Blast.pm line 457.
Unescaped left brace in regex is deprecated, passed through in regex; marked by <-- HERE in m/\${ <-- HERE HSPSCORE}/ at lib/MRS/Client/Blast.pm line 458.
Unescaped left brace in regex is deprecated, passed through in regex; marked by <-- HERE in m/\${ <-- HERE HSPEXPECT}/ at lib/MRS/Client/Blast.pm line 459.
Unescaped left brace in regex is deprecated, passed through in regex; marked by <-- HERE in m/\${ <-- HERE HSPIDENTITY}/ at lib/MRS/Client/Blast.pm line 460.
Unescaped left brace in regex is deprecated, passed through in regex; marked by <-- HERE in m/\${ <-- HERE HSPPOSITIVE}/ at lib/MRS/Client/Blast.pm line 461.
Unescaped left brace in regex is deprecated, passed through in regex; marked by <-- HERE in m/\${ <-- HERE HSPMIDLINE}/ at lib/MRS/Client/Blast.pm line 462.
Unescaped left brace in regex is deprecated, passed through in regex; marked by <-- HERE in m/\${ <-- HERE HSPQFROM}/ at lib/MRS/Client/Blast.pm line 484.
Unescaped left brace in regex is deprecated, passed through in regex; marked by <-- HERE in m/\${ <-- HERE HSPQTO}/ at lib/MRS/Client/Blast.pm line 485.
Unescaped left brace in regex is deprecated, passed through in regex; marked by <-- HERE in m/\${ <-- HERE HSPHFROM}/ at lib/MRS/Client/Blast.pm line 486.
Unescaped left brace in regex is deprecated, passed through in regex; marked by <-- HERE in m/\${ <-- HERE HSPHTO}/ at lib/MRS/Client/Blast.pm line 487.
Unescaped left brace in regex is deprecated, passed through in regex; marked by <-- HERE in m/\${ <-- HERE HSPALIGNLEN}/ at lib/MRS/Client/Blast.pm line 488.
Unescaped left brace in regex is deprecated, passed through in regex; marked by <-- HERE in m/\${ <-- HERE HSPQALIGN}/ at lib/MRS/Client/Blast.pm line 489.
Unescaped left brace in regex is deprecated, passed through in regex; marked by <-- HERE in m/\${ <-- HERE HSPSUBALIGN}/ at lib/MRS/Client/Blast.pm line 490.
t/00-compile.t .......... ok
Possible precedence issue with control flow operator at C:\cpan\build\MRS-Client-1.0.1-VAblNq\blib\lib/MRS/Client/Blast.pm line 269.
Unescaped left brace in regex is deprecated, passed through in regex; marked by <-- HERE in m/\${ <-- HERE JOBID}/ at C:\cpan\build\MRS-Client-1.0.1-VAblNq\blib\lib/MRS/Client/Blast.pm line 409.
Unescaped left brace in regex is deprecated, passed through in regex; marked by <-- HERE in m/\${ <-- HERE SEQDESC}/ at C:\cpan\build\MRS-Client-1.0.1-VAblNq\blib\lib/MRS/Client/Blast.pm line 411.
Unescaped left brace in regex is deprecated, passed through in regex; marked by <-- HERE in m/\${ <-- HERE SEQDESC}/ at C:\cpan\build\MRS-Client-1.0.1-VAblNq\blib\lib/MRS/Client/Blast.pm line 413.
Unescaped left brace in regex is deprecated, passed through in regex; marked by <-- HERE in m/\${ <-- HERE SEQDESC}/ at C:\cpan\build\MRS-Client-1.0.1-VAblNq\blib\lib/MRS/Client/Blast.pm line 415.
Unescaped left brace in regex is deprecated, passed through in regex; marked by <-- HERE in m/\${ <-- HERE DB}/ at C:\cpan\build\MRS-Client-1.0.1-VAblNq\blib\lib/MRS/Client/Blast.pm line 417.
Unescaped left brace in regex is deprecated, passed through in regex; marked by <-- HERE in m/\${ <-- HERE SEQLEN}/ at C:\cpan\build\MRS-Client-1.0.1-VAblNq\blib\lib/MRS/Client/Blast.pm line 418.
Unescaped left brace in regex is deprecated, passed through in regex; marked by <-- HERE in m/\${ <-- HERE PARMATRIX}/ at C:\cpan\build\MRS-Client-1.0.1-VAblNq\blib\lib/MRS/Client/Blast.pm line 419.
Unescaped left brace in regex is deprecated, passed through in regex; marked by <-- HERE in m/\${ <-- HERE PAREXPECT}/ at C:\cpan\build\MRS-Client-1.0.1-VAblNq\blib\lib/MRS/Client/Blast.pm line 420.
Unescaped left brace in regex is deprecated, passed through in regex; marked by <-- HERE in m/\${ <-- HERE PARGAPOPEN}/ at C:\cpan\build\MRS-Client-1.0.1-VAblNq\blib\lib/MRS/Client/Blast.pm line 421.
Unescaped left brace in regex is deprecated, passed through in regex; marked by <-- HERE in m/\${ <-- HERE PARGAPEXTEND}/ at C:\cpan\build\MRS-Client-1.0.1-VAblNq\blib\lib/MRS/Client/Blast.pm line 422.
Unescaped left brace in regex is deprecated, passed through in regex; marked by <-- HERE in m/\${ <-- HERE PARFILTER}/ at C:\cpan\build\MRS-Client-1.0.1-VAblNq\blib\lib/MRS/Client/Blast.pm line 423.
Unescaped left brace in regex is deprecated, passed through in regex; marked by <-- HERE in m/\${ <-- HERE DBCOUNT}/ at C:\cpan\build\MRS-Client-1.0.1-VAblNq\blib\lib/MRS/Client/Blast.pm line 425.
Unescaped left brace in regex is deprecated, passed through in regex; marked by <-- HERE in m/\${ <-- HERE DBLENGTH}/ at C:\cpan\build\MRS-Client-1.0.1-VAblNq\blib\lib/MRS/Client/Blast.pm line 426.
Unescaped left brace in regex is deprecated, passed through in regex; marked by <-- HERE in m/\${ <-- HERE DBSPACE}/ at C:\cpan\build\MRS-Client-1.0.1-VAblNq\blib\lib/MRS/Client/Blast.pm line 427.
Unescaped left brace in regex is deprecated, passed through in regex; marked by <-- HERE in m/\${ <-- HERE KAPPA}/ at C:\cpan\build\MRS-Client-1.0.1-VAblNq\blib\lib/MRS/Client/Blast.pm line 428.
Unescaped left brace in regex is deprecated, passed through in regex; marked by <-- HERE in m/\${ <-- HERE LAMBDA}/ at C:\cpan\build\MRS-Client-1.0.1-VAblNq\blib\lib/MRS/Client/Blast.pm line 429.
Unescaped left brace in regex is deprecated, passed through in regex; marked by <-- HERE in m/\${ <-- HERE ENTROPY}/ at C:\cpan\build\MRS-Client-1.0.1-VAblNq\blib\lib/MRS/Client/Blast.pm line 430.
Unescaped left brace in regex is deprecated, passed through in regex; marked by <-- HERE in m/\${ <-- HERE HITNR}/ at C:\cpan\build\MRS-Client-1.0.1-VAblNq\blib\lib/MRS/Client/Blast.pm line 439.
Unescaped left brace in regex is deprecated, passed through in regex; marked by <-- HERE in m/\${ <-- HERE HITID}/ at C:\cpan\build\MRS-Client-1.0.1-VAblNq\blib\lib/MRS/Client/Blast.pm line 440.
Unescaped left brace in regex is deprecated, passed through in regex; marked by <-- HERE in m/\${ <-- HERE HITSEQID}/ at C:\cpan\build\MRS-Client-1.0.1-VAblNq\blib\lib/MRS/Client/Blast.pm line 442.
Unescaped left brace in regex is deprecated, passed through in regex; marked by <-- HERE in m/\${ <-- HERE HITSEQID}/ at C:\cpan\build\MRS-Client-1.0.1-VAblNq\blib\lib/MRS/Client/Blast.pm line 444.
Unescaped left brace in regex is deprecated, passed through in regex; marked by <-- HERE in m/\${ <-- HERE HITSUBLEN}/ at C:\cpan\build\MRS-Client-1.0.1-VAblNq\blib\lib/MRS/Client/Blast.pm line 447.
Unescaped left brace in regex is deprecated, passed through in regex; marked by <-- HERE in m/\${ <-- HERE HSPNR}/ at C:\cpan\build\MRS-Client-1.0.1-VAblNq\blib\lib/MRS/Client/Blast.pm line 456.
Unescaped left brace in regex is deprecated, passed through in regex; marked by <-- HERE in m/\${ <-- HERE HSPBITSCORE}/ at C:\cpan\build\MRS-Client-1.0.1-VAblNq\blib\lib/MRS/Client/Blast.pm line 457.
Unescaped left brace in regex is deprecated, passed through in regex; marked by <-- HERE in m/\${ <-- HERE HSPSCORE}/ at C:\cpan\build\MRS-Client-1.0.1-VAblNq\blib\lib/MRS/Client/Blast.pm line 458.
Unescaped left brace in regex is deprecated, passed through in regex; marked by <-- HERE in m/\${ <-- HERE HSPEXPECT}/ at C:\cpan\build\MRS-Client-1.0.1-VAblNq\blib\lib/MRS/Client/Blast.pm line 459.
Unescaped left brace in regex is deprecated, passed through in regex; marked by <-- HERE in m/\${ <-- HERE HSPIDENTITY}/ at C:\cpan\build\MRS-Client-1.0.1-VAblNq\blib\lib/MRS/Client/Blast.pm line 460.
Unescaped left brace in regex is deprecated, passed through in regex; marked by <-- HERE in m/\${ <-- HERE HSPPOSITIVE}/ at C:\cpan\build\MRS-Client-1.0.1-VAblNq\blib\lib/MRS/Client/Blast.pm line 461.
Unescaped left brace in regex is deprecated, passed through in regex; marked by <-- HERE in m/\${ <-- HERE HSPMIDLINE}/ at C:\cpan\build\MRS-Client-1.0.1-VAblNq\blib\lib/MRS/Client/Blast.pm line 462.
Unescaped left brace in regex is deprecated, passed through in regex; marked by <-- HERE in m/\${ <-- HERE HSPQFROM}/ at C:\cpan\build\MRS-Client-1.0.1-VAblNq\blib\lib/MRS/Client/Blast.pm line 484.
Unescaped left brace in regex is deprecated, passed through in regex; marked by <-- HERE in m/\${ <-- HERE HSPQTO}/ at C:\cpan\build\MRS-Client-1.0.1-VAblNq\blib\lib/MRS/Client/Blast.pm line 485.
Unescaped left brace in regex is deprecated, passed through in regex; marked by <-- HERE in m/\${ <-- HERE HSPHFROM}/ at C:\cpan\build\MRS-Client-1.0.1-VAblNq\blib\lib/MRS/Client/Blast.pm line 486.
Unescaped left brace in regex is deprecated, passed through in regex; marked by <-- HERE in m/\${ <-- HERE HSPHTO}/ at C:\cpan\build\MRS-Client-1.0.1-VAblNq\blib\lib/MRS/Client/Blast.pm line 487.
Unescaped left brace in regex is deprecated, passed through in regex; marked by <-- HERE in m/\${ <-- HERE HSPALIGNLEN}/ at C:\cpan\build\MRS-Client-1.0.1-VAblNq\blib\lib/MRS/Client/Blast.pm line 488.
Unescaped left brace in regex is deprecated, passed through in regex; marked by <-- HERE in m/\${ <-- HERE HSPQALIGN}/ at C:\cpan\build\MRS-Client-1.0.1-VAblNq\blib\lib/MRS/Client/Blast.pm line 489.
Unescaped left brace in regex is deprecated, passed through in regex; marked by <-- HERE in m/\${ <-- HERE HSPSUBALIGN}/ at C:\cpan\build\MRS-Client-1.0.1-VAblNq\blib\lib/MRS/Client/Blast.pm line 490.
Unescaped left brace in regex is deprecated, passed through in regex; marked by <-- HERE in m/\${ <-- HERE LOCATION}/ at C:\cpan\build\MRS-Client-1.0.1-VAblNq\blib\lib/MRS/Client.pm line 221.
Unescaped left brace in regex is deprecated, passed through in regex; marked by <-- HERE in m/\${ <-- HERE SERVICE}/ at C:\cpan\build\MRS-Client-1.0.1-VAblNq\blib\lib/MRS/Client.pm line 222.
# Testing MRS::Client 1.0.1, Perl v5.22.1, C:\Strawberry\perl\bin\perl.exe
t/00-load.t ............. ok
Possible precedence issue with control flow operator at C:\cpan\build\MRS-Client-1.0.1-VAblNq\blib\lib/MRS/Client/Blast.pm line 269.
Unescaped left brace in regex is deprecated, passed through in regex; marked by <-- HERE in m/\${ <-- HERE JOBID}/ at C:\cpan\build\MRS-Client-1.0.1-VAblNq\blib\lib/MRS/Client/Blast.pm line 409.
Unescaped left brace in regex is deprecated, passed through in regex; marked by <-- HERE in m/\${ <-- HERE SEQDESC}/ at C:\cpan\build\MRS-Client-1.0.1-VAblNq\blib\lib/MRS/Client/Blast.pm line 411.
Unescaped left brace in regex is deprecated, passed through in regex; marked by <-- HERE in m/\${ <-- HERE SEQDESC}/ at C:\cpan\build\MRS-Client-1.0.1-VAblNq\blib\lib/MRS/Client/Blast.pm line 413.
Unescaped left brace in regex is deprecated, passed through in regex; marked by <-- HERE in m/\${ <-- HERE SEQDESC}/ at C:\cpan\build\MRS-Client-1.0.1-VAblNq\blib\lib/MRS/Client/Blast.pm line 415.
Unescaped left brace in regex is deprecated, passed through in regex; marked by <-- HERE in m/\${ <-- HERE DB}/ at C:\cpan\build\MRS-Client-1.0.1-VAblNq\blib\lib/MRS/Client/Blast.pm line 417.
Unescaped left brace in regex is deprecated, passed through in regex; marked by <-- HERE in m/\${ <-- HERE SEQLEN}/ at C:\cpan\build\MRS-Client-1.0.1-VAblNq\blib\lib/MRS/Client/Blast.pm line 418.
Unescaped left brace in regex is deprecated, passed through in regex; marked by <-- HERE in m/\${ <-- HERE PARMATRIX}/ at C:\cpan\build\MRS-Client-1.0.1-VAblNq\blib\lib/MRS/Client/Blast.pm line 419.
Unescaped left brace in regex is deprecated, passed through in regex; marked by <-- HERE in m/\${ <-- HERE PAREXPECT}/ at C:\cpan\build\MRS-Client-1.0.1-VAblNq\blib\lib/MRS/Client/Blast.pm line 420.
Unescaped left brace in regex is deprecated, passed through in regex; marked by <-- HERE in m/\${ <-- HERE PARGAPOPEN}/ at C:\cpan\build\MRS-Client-1.0.1-VAblNq\blib\lib/MRS/Client/Blast.pm line 421.
Unescaped left brace in regex is deprecated, passed through in regex; marked by <-- HERE in m/\${ <-- HERE PARGAPEXTEND}/ at C:\cpan\build\MRS-Client-1.0.1-VAblNq\blib\lib/MRS/Client/Blast.pm line 422.
Unescaped left brace in regex is deprecated, passed through in regex; marked by <-- HERE in m/\${ <-- HERE PARFILTER}/ at C:\cpan\build\MRS-Client-1.0.1-VAblNq\blib\lib/MRS/Client/Blast.pm line 423.
Unescaped left brace in regex is deprecated, passed through in regex; marked by <-- HERE in m/\${ <-- HERE DBCOUNT}/ at C:\cpan\build\MRS-Client-1.0.1-VAblNq\blib\lib/MRS/Client/Blast.pm line 425.
Unescaped left brace in regex is deprecated, passed through in regex; marked by <-- HERE in m/\${ <-- HERE DBLENGTH}/ at C:\cpan\build\MRS-Client-1.0.1-VAblNq\blib\lib/MRS/Client/Blast.pm line 426.
Unescaped left brace in regex is deprecated, passed through in regex; marked by <-- HERE in m/\${ <-- HERE DBSPACE}/ at C:\cpan\build\MRS-Client-1.0.1-VAblNq\blib\lib/MRS/Client/Blast.pm line 427.
Unescaped left brace in regex is deprecated, passed through in regex; marked by <-- HERE in m/\${ <-- HERE KAPPA}/ at C:\cpan\build\MRS-Client-1.0.1-VAblNq\blib\lib/MRS/Client/Blast.pm line 428.
Unescaped left brace in regex is deprecated, passed through in regex; marked by <-- HERE in m/\${ <-- HERE LAMBDA}/ at C:\cpan\build\MRS-Client-1.0.1-VAblNq\blib\lib/MRS/Client/Blast.pm line 429.
Unescaped left brace in regex is deprecated, passed through in regex; marked by <-- HERE in m/\${ <-- HERE ENTROPY}/ at C:\cpan\build\MRS-Client-1.0.1-VAblNq\blib\lib/MRS/Client/Blast.pm line 430.
Unescaped left brace in regex is deprecated, passed through in regex; marked by <-- HERE in m/\${ <-- HERE HITNR}/ at C:\cpan\build\MRS-Client-1.0.1-VAblNq\blib\lib/MRS/Client/Blast.pm line 439.
Unescaped left brace in regex is deprecated, passed through in regex; marked by <-- HERE in m/\${ <-- HERE HITID}/ at C:\cpan\build\MRS-Client-1.0.1-VAblNq\blib\lib/MRS/Client/Blast.pm line 440.
Unescaped left brace in regex is deprecated, passed through in regex; marked by <-- HERE in m/\${ <-- HERE HITSEQID}/ at C:\cpan\build\MRS-Client-1.0.1-VAblNq\blib\lib/MRS/Client/Blast.pm line 442.
Unescaped left brace in regex is deprecated, passed through in regex; marked by <-- HERE in m/\${ <-- HERE HITSEQID}/ at C:\cpan\build\MRS-Client-1.0.1-VAblNq\blib\lib/MRS/Client/Blast.pm line 444.
Unescaped left brace in regex is deprecated, passed through in regex; marked by <-- HERE in m/\${ <-- HERE HITSUBLEN}/ at C:\cpan\build\MRS-Client-1.0.1-VAblNq\blib\lib/MRS/Client/Blast.pm line 447.
Unescaped left brace in regex is deprecated, passed through in regex; marked by <-- HERE in m/\${ <-- HERE HSPNR}/ at C:\cpan\build\MRS-Client-1.0.1-VAblNq\blib\lib/MRS/Client/Blast.pm line 456.
Unescaped left brace in regex is deprecated, passed through in regex; marked by <-- HERE in m/\${ <-- HERE HSPBITSCORE}/ at C:\cpan\build\MRS-Client-1.0.1-VAblNq\blib\lib/MRS/Client/Blast.pm line 457.
Unescaped left brace in regex is deprecated, passed through in regex; marked by <-- HERE in m/\${ <-- HERE HSPSCORE}/ at C:\cpan\build\MRS-Client-1.0.1-VAblNq\blib\lib/MRS/Client/Blast.pm line 458.
Unescaped left brace in regex is deprecated, passed through in regex; marked by <-- HERE in m/\${ <-- HERE HSPEXPECT}/ at C:\cpan\build\MRS-Client-1.0.1-VAblNq\blib\lib/MRS/Client/Blast.pm line 459.
Unescaped left brace in regex is deprecated, passed through in regex; marked by <-- HERE in m/\${ <-- HERE HSPIDENTITY}/ at C:\cpan\build\MRS-Client-1.0.1-VAblNq\blib\lib/MRS/Client/Blast.pm line 460.
Unescaped left brace in regex is deprecated, passed through in regex; marked by <-- HERE in m/\${ <-- HERE HSPPOSITIVE}/ at C:\cpan\build\MRS-Client-1.0.1-VAblNq\blib\lib/MRS/Client/Blast.pm line 461.
Unescaped left brace in regex is deprecated, passed through in regex; marked by <-- HERE in m/\${ <-- HERE HSPMIDLINE}/ at C:\cpan\build\MRS-Client-1.0.1-VAblNq\blib\lib/MRS/Client/Blast.pm line 462.
Unescaped left brace in regex is deprecated, passed through in regex; marked by <-- HERE in m/\${ <-- HERE HSPQFROM}/ at C:\cpan\build\MRS-Client-1.0.1-VAblNq\blib\lib/MRS/Client/Blast.pm line 484.
Unescaped left brace in regex is deprecated, passed through in regex; marked by <-- HERE in m/\${ <-- HERE HSPQTO}/ at C:\cpan\build\MRS-Client-1.0.1-VAblNq\blib\lib/MRS/Client/Blast.pm line 485.
Unescaped left brace in regex is deprecated, passed through in regex; marked by <-- HERE in m/\${ <-- HERE HSPHFROM}/ at C:\cpan\build\MRS-Client-1.0.1-VAblNq\blib\lib/MRS/Client/Blast.pm line 486.
Unescaped left brace in regex is deprecated, passed through in regex; marked by <-- HERE in m/\${ <-- HERE HSPHTO}/ at C:\cpan\build\MRS-Client-1.0.1-VAblNq\blib\lib/MRS/Client/Blast.pm line 487.
Unescaped left brace in regex is deprecated, passed through in regex; marked by <-- HERE in m/\${ <-- HERE HSPALIGNLEN}/ at C:\cpan\build\MRS-Client-1.0.1-VAblNq\blib\lib/MRS/Client/Blast.pm line 488.
Unescaped left brace in regex is deprecated, passed through in regex; marked by <-- HERE in m/\${ <-- HERE HSPQALIGN}/ at C:\cpan\build\MRS-Client-1.0.1-VAblNq\blib\lib/MRS/Client/Blast.pm line 489.
Unescaped left brace in regex is deprecated, passed through in regex; marked by <-- HERE in m/\${ <-- HERE HSPSUBALIGN}/ at C:\cpan\build\MRS-Client-1.0.1-VAblNq\blib\lib/MRS/Client/Blast.pm line 490.
Unescaped left brace in regex is deprecated, passed through in regex; marked by <-- HERE in m/\${ <-- HERE LOCATION}/ at C:\cpan\build\MRS-Client-1.0.1-VAblNq\blib\lib/MRS/Client.pm line 221.
Unescaped left brace in regex is deprecated, passed through in regex; marked by <-- HERE in m/\${ <-- HERE SERVICE}/ at C:\cpan\build\MRS-Client-1.0.1-VAblNq\blib\lib/MRS/Client.pm line 222.
# Data manipulation
t/01-data.t ............. ok
Possible precedence issue with control flow operator at C:\cpan\build\MRS-Client-1.0.1-VAblNq\blib\lib/MRS/Client/Blast.pm line 269.
Unescaped left brace in regex is deprecated, passed through in regex; marked by <-- HERE in m/\${ <-- HERE JOBID}/ at C:\cpan\build\MRS-Client-1.0.1-VAblNq\blib\lib/MRS/Client/Blast.pm line 409.
Unescaped left brace in regex is deprecated, passed through in regex; marked by <-- HERE in m/\${ <-- HERE SEQDESC}/ at C:\cpan\build\MRS-Client-1.0.1-VAblNq\blib\lib/MRS/Client/Blast.pm line 411.
Unescaped left brace in regex is deprecated, passed through in regex; marked by <-- HERE in m/\${ <-- HERE SEQDESC}/ at C:\cpan\build\MRS-Client-1.0.1-VAblNq\blib\lib/MRS/Client/Blast.pm line 413.
Unescaped left brace in regex is deprecated, passed through in regex; marked by <-- HERE in m/\${ <-- HERE SEQDESC}/ at C:\cpan\build\MRS-Client-1.0.1-VAblNq\blib\lib/MRS/Client/Blast.pm line 415.
Unescaped left brace in regex is deprecated, passed through in regex; marked by <-- HERE in m/\${ <-- HERE DB}/ at C:\cpan\build\MRS-Client-1.0.1-VAblNq\blib\lib/MRS/Client/Blast.pm line 417.
Unescaped left brace in regex is deprecated, passed through in regex; marked by <-- HERE in m/\${ <-- HERE SEQLEN}/ at C:\cpan\build\MRS-Client-1.0.1-VAblNq\blib\lib/MRS/Client/Blast.pm line 418.
Unescaped left brace in regex is deprecated, passed through in regex; marked by <-- HERE in m/\${ <-- HERE PARMATRIX}/ at C:\cpan\build\MRS-Client-1.0.1-VAblNq\blib\lib/MRS/Client/Blast.pm line 419.
Unescaped left brace in regex is deprecated, passed through in regex; marked by <-- HERE in m/\${ <-- HERE PAREXPECT}/ at C:\cpan\build\MRS-Client-1.0.1-VAblNq\blib\lib/MRS/Client/Blast.pm line 420.
Unescaped left brace in regex is deprecated, passed through in regex; marked by <-- HERE in m/\${ <-- HERE PARGAPOPEN}/ at C:\cpan\build\MRS-Client-1.0.1-VAblNq\blib\lib/MRS/Client/Blast.pm line 421.
Unescaped left brace in regex is deprecated, passed through in regex; marked by <-- HERE in m/\${ <-- HERE PARGAPEXTEND}/ at C:\cpan\build\MRS-Client-1.0.1-VAblNq\blib\lib/MRS/Client/Blast.pm line 422.
Unescaped left brace in regex is deprecated, passed through in regex; marked by <-- HERE in m/\${ <-- HERE PARFILTER}/ at C:\cpan\build\MRS-Client-1.0.1-VAblNq\blib\lib/MRS/Client/Blast.pm line 423.
Unescaped left brace in regex is deprecated, passed through in regex; marked by <-- HERE in m/\${ <-- HERE DBCOUNT}/ at C:\cpan\build\MRS-Client-1.0.1-VAblNq\blib\lib/MRS/Client/Blast.pm line 425.
Unescaped left brace in regex is deprecated, passed through in regex; marked by <-- HERE in m/\${ <-- HERE DBLENGTH}/ at C:\cpan\build\MRS-Client-1.0.1-VAblNq\blib\lib/MRS/Client/Blast.pm line 426.
Unescaped left brace in regex is deprecated, passed through in regex; marked by <-- HERE in m/\${ <-- HERE DBSPACE}/ at C:\cpan\build\MRS-Client-1.0.1-VAblNq\blib\lib/MRS/Client/Blast.pm line 427.
Unescaped left brace in regex is deprecated, passed through in regex; marked by <-- HERE in m/\${ <-- HERE KAPPA}/ at C:\cpan\build\MRS-Client-1.0.1-VAblNq\blib\lib/MRS/Client/Blast.pm line 428.
Unescaped left brace in regex is deprecated, passed through in regex; marked by <-- HERE in m/\${ <-- HERE LAMBDA}/ at C:\cpan\build\MRS-Client-1.0.1-VAblNq\blib\lib/MRS/Client/Blast.pm line 429.
Unescaped left brace in regex is deprecated, passed through in regex; marked by <-- HERE in m/\${ <-- HERE ENTROPY}/ at C:\cpan\build\MRS-Client-1.0.1-VAblNq\blib\lib/MRS/Client/Blast.pm line 430.
Unescaped left brace in regex is deprecated, passed through in regex; marked by <-- HERE in m/\${ <-- HERE HITNR}/ at C:\cpan\build\MRS-Client-1.0.1-VAblNq\blib\lib/MRS/Client/Blast.pm line 439.
Unescaped left brace in regex is deprecated, passed through in regex; marked by <-- HERE in m/\${ <-- HERE HITID}/ at C:\cpan\build\MRS-Client-1.0.1-VAblNq\blib\lib/MRS/Client/Blast.pm line 440.
Unescaped left brace in regex is deprecated, passed through in regex; marked by <-- HERE in m/\${ <-- HERE HITSEQID}/ at C:\cpan\build\MRS-Client-1.0.1-VAblNq\blib\lib/MRS/Client/Blast.pm line 442.
Unescaped left brace in regex is deprecated, passed through in regex; marked by <-- HERE in m/\${ <-- HERE HITSEQID}/ at C:\cpan\build\MRS-Client-1.0.1-VAblNq\blib\lib/MRS/Client/Blast.pm line 444.
Unescaped left brace in regex is deprecated, passed through in regex; marked by <-- HERE in m/\${ <-- HERE HITSUBLEN}/ at C:\cpan\build\MRS-Client-1.0.1-VAblNq\blib\lib/MRS/Client/Blast.pm line 447.
Unescaped left brace in regex is deprecated, passed through in regex; marked by <-- HERE in m/\${ <-- HERE HSPNR}/ at C:\cpan\build\MRS-Client-1.0.1-VAblNq\blib\lib/MRS/Client/Blast.pm line 456.
Unescaped left brace in regex is deprecated, passed through in regex; marked by <-- HERE in m/\${ <-- HERE HSPBITSCORE}/ at C:\cpan\build\MRS-Client-1.0.1-VAblNq\blib\lib/MRS/Client/Blast.pm line 457.
Unescaped left brace in regex is deprecated, passed through in regex; marked by <-- HERE in m/\${ <-- HERE HSPSCORE}/ at C:\cpan\build\MRS-Client-1.0.1-VAblNq\blib\lib/MRS/Client/Blast.pm line 458.
Unescaped left brace in regex is deprecated, passed through in regex; marked by <-- HERE in m/\${ <-- HERE HSPEXPECT}/ at C:\cpan\build\MRS-Client-1.0.1-VAblNq\blib\lib/MRS/Client/Blast.pm line 459.
Unescaped left brace in regex is deprecated, passed through in regex; marked by <-- HERE in m/\${ <-- HERE HSPIDENTITY}/ at C:\cpan\build\MRS-Client-1.0.1-VAblNq\blib\lib/MRS/Client/Blast.pm line 460.
Unescaped left brace in regex is deprecated, passed through in regex; marked by <-- HERE in m/\${ <-- HERE HSPPOSITIVE}/ at C:\cpan\build\MRS-Client-1.0.1-VAblNq\blib\lib/MRS/Client/Blast.pm line 461.
Unescaped left brace in regex is deprecated, passed through in regex; marked by <-- HERE in m/\${ <-- HERE HSPMIDLINE}/ at C:\cpan\build\MRS-Client-1.0.1-VAblNq\blib\lib/MRS/Client/Blast.pm line 462.
Unescaped left brace in regex is deprecated, passed through in regex; marked by <-- HERE in m/\${ <-- HERE HSPQFROM}/ at C:\cpan\build\MRS-Client-1.0.1-VAblNq\blib\lib/MRS/Client/Blast.pm line 484.
Unescaped left brace in regex is deprecated, passed through in regex; marked by <-- HERE in m/\${ <-- HERE HSPQTO}/ at C:\cpan\build\MRS-Client-1.0.1-VAblNq\blib\lib/MRS/Client/Blast.pm line 485.
Unescaped left brace in regex is deprecated, passed through in regex; marked by <-- HERE in m/\${ <-- HERE HSPHFROM}/ at C:\cpan\build\MRS-Client-1.0.1-VAblNq\blib\lib/MRS/Client/Blast.pm line 486.
Unescaped left brace in regex is deprecated, passed through in regex; marked by <-- HERE in m/\${ <-- HERE HSPHTO}/ at C:\cpan\build\MRS-Client-1.0.1-VAblNq\blib\lib/MRS/Client/Blast.pm line 487.
Unescaped left brace in regex is deprecated, passed through in regex; marked by <-- HERE in m/\${ <-- HERE HSPALIGNLEN}/ at C:\cpan\build\MRS-Client-1.0.1-VAblNq\blib\lib/MRS/Client/Blast.pm line 488.
Unescaped left brace in regex is deprecated, passed through in regex; marked by <-- HERE in m/\${ <-- HERE HSPQALIGN}/ at C:\cpan\build\MRS-Client-1.0.1-VAblNq\blib\lib/MRS/Client/Blast.pm line 489.
Unescaped left brace in regex is deprecated, passed through in regex; marked by <-- HERE in m/\${ <-- HERE HSPSUBALIGN}/ at C:\cpan\build\MRS-Client-1.0.1-VAblNq\blib\lib/MRS/Client/Blast.pm line 490.
Unescaped left brace in regex is deprecated, passed through in regex; marked by <-- HERE in m/\${ <-- HERE LOCATION}/ at C:\cpan\build\MRS-Client-1.0.1-VAblNq\blib\lib/MRS/Client.pm line 221.
Unescaped left brace in regex is deprecated, passed through in regex; marked by <-- HERE in m/\${ <-- HERE SERVICE}/ at C:\cpan\build\MRS-Client-1.0.1-VAblNq\blib\lib/MRS/Client.pm line 222.
# Setting host and endpoints
t/02-endpoint.t ......... ok
t/03-network.t .......... skipped: these tests are for testing by the author (when AUTHOR_TESTING=1)
Possible precedence issue with control flow operator at C:\cpan\build\MRS-Client-1.0.1-VAblNq\blib\lib/MRS/Client/Blast.pm line 269.
Unescaped left brace in regex is deprecated, passed through in regex; marked by <-- HERE in m/\${ <-- HERE JOBID}/ at C:\cpan\build\MRS-Client-1.0.1-VAblNq\blib\lib/MRS/Client/Blast.pm line 409.
Unescaped left brace in regex is deprecated, passed through in regex; marked by <-- HERE in m/\${ <-- HERE SEQDESC}/ at C:\cpan\build\MRS-Client-1.0.1-VAblNq\blib\lib/MRS/Client/Blast.pm line 411.
Unescaped left brace in regex is deprecated, passed through in regex; marked by <-- HERE in m/\${ <-- HERE SEQDESC}/ at C:\cpan\build\MRS-Client-1.0.1-VAblNq\blib\lib/MRS/Client/Blast.pm line 413.
Unescaped left brace in regex is deprecated, passed through in regex; marked by <-- HERE in m/\${ <-- HERE SEQDESC}/ at C:\cpan\build\MRS-Client-1.0.1-VAblNq\blib\lib/MRS/Client/Blast.pm line 415.
Unescaped left brace in regex is deprecated, passed through in regex; marked by <-- HERE in m/\${ <-- HERE DB}/ at C:\cpan\build\MRS-Client-1.0.1-VAblNq\blib\lib/MRS/Client/Blast.pm line 417.
Unescaped left brace in regex is deprecated, passed through in regex; marked by <-- HERE in m/\${ <-- HERE SEQLEN}/ at C:\cpan\build\MRS-Client-1.0.1-VAblNq\blib\lib/MRS/Client/Blast.pm line 418.
Unescaped left brace in regex is deprecated, passed through in regex; marked by <-- HERE in m/\${ <-- HERE PARMATRIX}/ at C:\cpan\build\MRS-Client-1.0.1-VAblNq\blib\lib/MRS/Client/Blast.pm line 419.
Unescaped left brace in regex is deprecated, passed through in regex; marked by <-- HERE in m/\${ <-- HERE PAREXPECT}/ at C:\cpan\build\MRS-Client-1.0.1-VAblNq\blib\lib/MRS/Client/Blast.pm line 420.
Unescaped left brace in regex is deprecated, passed through in regex; marked by <-- HERE in m/\${ <-- HERE PARGAPOPEN}/ at C:\cpan\build\MRS-Client-1.0.1-VAblNq\blib\lib/MRS/Client/Blast.pm line 421.
Unescaped left brace in regex is deprecated, passed through in regex; marked by <-- HERE in m/\${ <-- HERE PARGAPEXTEND}/ at C:\cpan\build\MRS-Client-1.0.1-VAblNq\blib\lib/MRS/Client/Blast.pm line 422.
Unescaped left brace in regex is deprecated, passed through in regex; marked by <-- HERE in m/\${ <-- HERE PARFILTER}/ at C:\cpan\build\MRS-Client-1.0.1-VAblNq\blib\lib/MRS/Client/Blast.pm line 423.
Unescaped left brace in regex is deprecated, passed through in regex; marked by <-- HERE in m/\${ <-- HERE DBCOUNT}/ at C:\cpan\build\MRS-Client-1.0.1-VAblNq\blib\lib/MRS/Client/Blast.pm line 425.
Unescaped left brace in regex is deprecated, passed through in regex; marked by <-- HERE in m/\${ <-- HERE DBLENGTH}/ at C:\cpan\build\MRS-Client-1.0.1-VAblNq\blib\lib/MRS/Client/Blast.pm line 426.
Unescaped left brace in regex is deprecated, passed through in regex; marked by <-- HERE in m/\${ <-- HERE DBSPACE}/ at C:\cpan\build\MRS-Client-1.0.1-VAblNq\blib\lib/MRS/Client/Blast.pm line 427.
Unescaped left brace in regex is deprecated, passed through in regex; marked by <-- HERE in m/\${ <-- HERE KAPPA}/ at C:\cpan\build\MRS-Client-1.0.1-VAblNq\blib\lib/MRS/Client/Blast.pm line 428.
Unescaped left brace in regex is deprecated, passed through in regex; marked by <-- HERE in m/\${ <-- HERE LAMBDA}/ at C:\cpan\build\MRS-Client-1.0.1-VAblNq\blib\lib/MRS/Client/Blast.pm line 429.
Unescaped left brace in regex is deprecated, passed through in regex; marked by <-- HERE in m/\${ <-- HERE ENTROPY}/ at C:\cpan\build\MRS-Client-1.0.1-VAblNq\blib\lib/MRS/Client/Blast.pm line 430.
Unescaped left brace in regex is deprecated, passed through in regex; marked by <-- HERE in m/\${ <-- HERE HITNR}/ at C:\cpan\build\MRS-Client-1.0.1-VAblNq\blib\lib/MRS/Client/Blast.pm line 439.
Unescaped left brace in regex is deprecated, passed through in regex; marked by <-- HERE in m/\${ <-- HERE HITID}/ at C:\cpan\build\MRS-Client-1.0.1-VAblNq\blib\lib/MRS/Client/Blast.pm line 440.
Unescaped left brace in regex is deprecated, passed through in regex; marked by <-- HERE in m/\${ <-- HERE HITSEQID}/ at C:\cpan\build\MRS-Client-1.0.1-VAblNq\blib\lib/MRS/Client/Blast.pm line 442.
Unescaped left brace in regex is deprecated, passed through in regex; marked by <-- HERE in m/\${ <-- HERE HITSEQID}/ at C:\cpan\build\MRS-Client-1.0.1-VAblNq\blib\lib/MRS/Client/Blast.pm line 444.
Unescaped left brace in regex is deprecated, passed through in regex; marked by <-- HERE in m/\${ <-- HERE HITSUBLEN}/ at C:\cpan\build\MRS-Client-1.0.1-VAblNq\blib\lib/MRS/Client/Blast.pm line 447.
Unescaped left brace in regex is deprecated, passed through in regex; marked by <-- HERE in m/\${ <-- HERE HSPNR}/ at C:\cpan\build\MRS-Client-1.0.1-VAblNq\blib\lib/MRS/Client/Blast.pm line 456.
Unescaped left brace in regex is deprecated, passed through in regex; marked by <-- HERE in m/\${ <-- HERE HSPBITSCORE}/ at C:\cpan\build\MRS-Client-1.0.1-VAblNq\blib\lib/MRS/Client/Blast.pm line 457.
Unescaped left brace in regex is deprecated, passed through in regex; marked by <-- HERE in m/\${ <-- HERE HSPSCORE}/ at C:\cpan\build\MRS-Client-1.0.1-VAblNq\blib\lib/MRS/Client/Blast.pm line 458.
Unescaped left brace in regex is deprecated, passed through in regex; marked by <-- HERE in m/\${ <-- HERE HSPEXPECT}/ at C:\cpan\build\MRS-Client-1.0.1-VAblNq\blib\lib/MRS/Client/Blast.pm line 459.
Unescaped left brace in regex is deprecated, passed through in regex; marked by <-- HERE in m/\${ <-- HERE HSPIDENTITY}/ at C:\cpan\build\MRS-Client-1.0.1-VAblNq\blib\lib/MRS/Client/Blast.pm line 460.
Unescaped left brace in regex is deprecated, passed through in regex; marked by <-- HERE in m/\${ <-- HERE HSPPOSITIVE}/ at C:\cpan\build\MRS-Client-1.0.1-VAblNq\blib\lib/MRS/Client/Blast.pm line 461.
Unescaped left brace in regex is deprecated, passed through in regex; marked by <-- HERE in m/\${ <-- HERE HSPMIDLINE}/ at C:\cpan\build\MRS-Client-1.0.1-VAblNq\blib\lib/MRS/Client/Blast.pm line 462.
Unescaped left brace in regex is deprecated, passed through in regex; marked by <-- HERE in m/\${ <-- HERE HSPQFROM}/ at C:\cpan\build\MRS-Client-1.0.1-VAblNq\blib\lib/MRS/Client/Blast.pm line 484.
Unescaped left brace in regex is deprecated, passed through in regex; marked by <-- HERE in m/\${ <-- HERE HSPQTO}/ at C:\cpan\build\MRS-Client-1.0.1-VAblNq\blib\lib/MRS/Client/Blast.pm line 485.
Unescaped left brace in regex is deprecated, passed through in regex; marked by <-- HERE in m/\${ <-- HERE HSPHFROM}/ at C:\cpan\build\MRS-Client-1.0.1-VAblNq\blib\lib/MRS/Client/Blast.pm line 486.
Unescaped left brace in regex is deprecated, passed through in regex; marked by <-- HERE in m/\${ <-- HERE HSPHTO}/ at C:\cpan\build\MRS-Client-1.0.1-VAblNq\blib\lib/MRS/Client/Blast.pm line 487.
Unescaped left brace in regex is deprecated, passed through in regex; marked by <-- HERE in m/\${ <-- HERE HSPALIGNLEN}/ at C:\cpan\build\MRS-Client-1.0.1-VAblNq\blib\lib/MRS/Client/Blast.pm line 488.
Unescaped left brace in regex is deprecated, passed through in regex; marked by <-- HERE in m/\${ <-- HERE HSPQALIGN}/ at C:\cpan\build\MRS-Client-1.0.1-VAblNq\blib\lib/MRS/Client/Blast.pm line 489.
Unescaped left brace in regex is deprecated, passed through in regex; marked by <-- HERE in m/\${ <-- HERE HSPSUBALIGN}/ at C:\cpan\build\MRS-Client-1.0.1-VAblNq\blib\lib/MRS/Client/Blast.pm line 490.
Unescaped left brace in regex is deprecated, passed through in regex; marked by <-- HERE in m/\${ <-- HERE LOCATION}/ at C:\cpan\build\MRS-Client-1.0.1-VAblNq\blib\lib/MRS/Client.pm line 221.
Unescaped left brace in regex is deprecated, passed through in regex; marked by <-- HERE in m/\${ <-- HERE SERVICE}/ at C:\cpan\build\MRS-Client-1.0.1-VAblNq\blib\lib/MRS/Client.pm line 222.
# Manipulation of hyperlinks
t/04-links.t ............ ok
t/author-critic.t ....... skipped: these tests are for testing by the author
t/author-pod-spell.t .... skipped: these tests are for testing by the author
t/release-eol.t ......... skipped: these tests are for release candidate testing
t/release-no-tabs.t ..... skipped: these tests are for release candidate testing
t/release-pod-syntax.t .. skipped: these tests are for release candidate testing
All tests successful.
Files=11, Tests=113, 17 wallclock secs ( 0.13 usr +  0.06 sys =  0.19 CPU)
Result: PASS

------------------------------
PREREQUISITES
------------------------------

Prerequisite modules loaded:

requires:

    Module                            Need Have    
    --------------------------------- ---- --------
    base                              0    2.23    
    Carp                              0    1.38    
    constant                          0    1.33    
    Data::Dumper                      0    2.158   
    File::Basename                    0    2.85    
    FindBin                           0    1.51    
    Getopt::Std                       0    1.11    
    Math::BigInt                      0    1.999715
    overload                          0    1.26    
    strict                            0    1.09    
    vars                              0    1.03    
    warnings                          0    1.34    
    XML::Compile::SOAP11              2.26 3.17    
    XML::Compile::Transport::SOAPHTTP 0    3.17    
    XML::Compile::WSDL11              0    3.05    

build_requires:

    Module                            Need Have    
    --------------------------------- ---- --------
    File::Find                        0    1.29    
    File::Spec                        0    3.62    
    File::Temp                        0    0.2304  
    Test::More                        0    1.001014

configure_requires:

    Module                            Need Have    
    --------------------------------- ---- --------
    ExtUtils::MakeMaker               6.30 7.10    


------------------------------
ENVIRONMENT AND OTHER CONTEXT
------------------------------

Environment variables:

    AUTOMATED_TESTING = 1
    COMSPEC = C:\WINDOWS.0\system32\cmd.exe
    NONINTERACTIVE_TESTING = 1
    NUMBER_OF_PROCESSORS = 1
    PATH = C:\WINDOWS.0\system32;C:\strawberry\c\bin;C:\strawberry\perl\site\bin;C:\strawberry\perl\bin
    PERL5LIB = C:\cpan\build\XML-Compile-WSDL11-3.05-QRVCZy/blib/arch;C:\cpan\build\XML-Compile-WSDL11-3.05-QRVCZy/blib/lib;C:\cpan\build\XML-Compile-SOAP-3.17-nNNqhE/blib/arch;C:\cpan\build\XML-Compile-SOAP-3.17-nNNqhE/blib/lib;C:\cpan\build\XML-Compile-Cache-1.04-oA1bBG/blib/arch;C:\cpan\build\XML-Compile-Cache-1.04-oA1bBG/blib/lib;C:\cpan\build\XML-LibXML-Simple-0.96-PpNVEV/blib/arch;C:\cpan\build\XML-LibXML-Simple-0.96-PpNVEV/blib/lib;C:\cpan\build\XML-Compile-1.52-sCP0xq/blib/arch;C:\cpan\build\XML-Compile-1.52-sCP0xq/blib/lib;C:\cpan\build\XML-Compile-Tester-0.90-7KYhiy/blib/arch;C:\cpan\build\XML-Compile-Tester-0.90-7KYhiy/blib/lib
    PERL5OPT = 
    PERL5_CPANPLUS_IS_RUNNING = 408
    PERL5_CPAN_IS_RUNNING = 408
    PERL5_CPAN_IS_RUNNING_IN_RECURSION = 3216,408
    PERL_CR_SMOKER_CURRENT = MRS-Client-1.0.1
    PERL_EXTUTILS_AUTOINSTALL = --defaultdeps
    PERL_MM_USE_DEFAULT = 1
    PROCESSOR_IDENTIFIER = x86 Family 6 Model 14 Stepping 8, GenuineIntel
    TEMP = C:\DOKUME~1\smoker\LOKALE~1\Temp
    TERM = dumb

Perl special variables (and OS-specific diagnostics, for MSWin32):

    $^X = C:\Strawberry\perl\bin\perl.exe
    $UID/$EUID = 0 / 0
    $GID = 0
    $EGID = 0
    Win32::GetOSName = WinXP/.Net
    Win32::GetOSVersion = Service Pack 3, 5, 1, 2600, 2, 3, 0, 256, 1
    Win32::FsType = NTFS
    Win32::IsAdminUser = 1

Perl module toolchain versions installed:

    Module              Have    
    ------------------- --------
    CPAN                2.11    
    CPAN::Meta          2.150005
    Cwd                 3.62    
    ExtUtils::CBuilder  0.280224
    ExtUtils::Command   7.10    
    ExtUtils::Install   2.04    
    ExtUtils::MakeMaker 7.10    
    ExtUtils::Manifest  1.70    
    ExtUtils::ParseXS   3.30    
    File::Spec          3.62    
    JSON                2.90    
    JSON::PP            2.27300 
    Module::Build       0.4216  
    Module::Signature   n/a     
    Parse::CPAN::Meta   1.4417  
    Test::Harness       3.36    
    Test::More          1.001014
    YAML                1.15    
    YAML::Syck          n/a     
    version             0.9915  


--

Summary of my perl5 (revision 5 version 22 subversion 1) configuration:
   
  Platform:
    osname=MSWin32, osvers=6.3, archname=MSWin32-x86-multi-thread-64int
    uname='Win32 strawberry-perl 5.22.1.3 #1 Mon Mar  7 05:57:53 2016 i386'
    config_args='undef'
    hint=recommended, useposix=true, d_sigaction=undef
    useithreads=define, usemultiplicity=define
    use64bitint=define, use64bitall=undef, uselongdouble=undef
    usemymalloc=n, bincompat5005=undef
  Compiler:
    cc='gcc', ccflags =' -s -O2 -DWIN32  -DPERL_TEXTMODE_SCRIPTS -DPERL_IMPLICIT_CONTEXT -DPERL_IMPLICIT_SYS -fwrapv -fno-strict-aliasing -mms-bitfields',
    optimize='-s -O2',
    cppflags='-DWIN32'
    ccversion='', gccversion='4.9.2', gccosandvers=''
    intsize=4, longsize=4, ptrsize=4, doublesize=8, byteorder=12345678, doublekind=3
    d_longlong=define, longlongsize=8, d_longdbl=define, longdblsize=12, longdblkind=3
    ivtype='long long', ivsize=8, nvtype='double', nvsize=8, Off_t='long long', lseeksize=8
    alignbytes=8, prototype=define
  Linker and Libraries:
    ld='g++', ldflags ='-s -L"C:\STRAWB~1\perl\lib\CORE" -L"C:\STRAWB~1\c\lib"'
    libpth=C:\STRAWB~1\c\lib C:\STRAWB~1\c\i686-w64-mingw32\lib C:\STRAWB~1\c\lib\gcc\i686-w64-mingw32\4.9.2
    libs=-lmoldname -lkernel32 -luser32 -lgdi32 -lwinspool -lcomdlg32 -ladvapi32 -lshell32 -lole32 -loleaut32 -lnetapi32 -luuid -lws2_32 -lmpr -lwinmm -lversion -lodbc32 -lodbccp32 -lcomctl32
    perllibs=-lmoldname -lkernel32 -luser32 -lgdi32 -lwinspool -lcomdlg32 -ladvapi32 -lshell32 -lole32 -loleaut32 -lnetapi32 -luuid -lws2_32 -lmpr -lwinmm -lversion -lodbc32 -lodbccp32 -lcomctl32
    libc=, so=dll, useshrplib=true, libperl=libperl522.a
    gnulibc_version=''
  Dynamic Linking:
    dlsrc=dl_win32.xs, dlext=xs.dll, d_dlsymun=undef, ccdlflags=' '
    cccdlflags=' ', lddlflags='-mdll -s -L"C:\STRAWB~1\perl\lib\CORE" -L"C:\STRAWB~1\c\lib"'


Characteristics of this binary (from libperl): 
  Compile-time options: HAS_TIMES HAVE_INTERP_INTERN MULTIPLICITY
                        PERLIO_LAYERS PERL_DONT_CREATE_GVSV
                        PERL_HASH_FUNC_ONE_AT_A_TIME_HARD
                        PERL_IMPLICIT_CONTEXT PERL_IMPLICIT_SYS
                        PERL_MALLOC_WRAP PERL_NEW_COPY_ON_WRITE
                        PERL_PRESERVE_IVUV USE_64_BIT_INT USE_ITHREADS
                        USE_LARGE_FILES USE_LOCALE USE_LOCALE_COLLATE
                        USE_LOCALE_CTYPE USE_LOCALE_NUMERIC USE_LOCALE_TIME
                        USE_PERLIO USE_PERL_ATOF
  Built under MSWin32
  Compiled at Mar  7 2016 06:02:38
  %ENV:
    PERL5LIB="C:\cpan\build\XML-Compile-WSDL11-3.05-QRVCZy/blib/arch;C:\cpan\build\XML-Compile-WSDL11-3.05-QRVCZy/blib/lib;C:\cpan\build\XML-Compile-SOAP-3.17-nNNqhE/blib/arch;C:\cpan\build\XML-Compile-SOAP-3.17-nNNqhE/blib/lib;C:\cpan\build\XML-Compile-Cache-1.04-oA1bBG/blib/arch;C:\cpan\build\XML-Compile-Cache-1.04-oA1bBG/blib/lib;C:\cpan\build\XML-LibXML-Simple-0.96-PpNVEV/blib/arch;C:\cpan\build\XML-LibXML-Simple-0.96-PpNVEV/blib/lib;C:\cpan\build\XML-Compile-1.52-sCP0xq/blib/arch;C:\cpan\build\XML-Compile-1.52-sCP0xq/blib/lib;C:\cpan\build\XML-Compile-Tester-0.90-7KYhiy/blib/arch;C:\cpan\build\XML-Compile-Tester-0.90-7KYhiy/blib/lib"
    PERL5_CPANPLUS_IS_RUNNING="408"
    PERL5_CPAN_IS_RUNNING="408"
    PERL5_CPAN_IS_RUNNING_IN_RECURSION="3216,408"
    PERL_CR_SMOKER_CURRENT="MRS-Client-1.0.1"
    PERL_EXTUTILS_AUTOINSTALL="--defaultdeps"
    PERL_MM_USE_DEFAULT="1"
  @INC:
    C:\cpan\build\XML-Compile-WSDL11-3.05-QRVCZy/blib/arch
    C:\cpan\build\XML-Compile-WSDL11-3.05-QRVCZy/blib/lib
    C:\cpan\build\XML-Compile-SOAP-3.17-nNNqhE/blib/arch
    C:\cpan\build\XML-Compile-SOAP-3.17-nNNqhE/blib/lib
    C:\cpan\build\XML-Compile-Cache-1.04-oA1bBG/blib/arch
    C:\cpan\build\XML-Compile-Cache-1.04-oA1bBG/blib/lib
    C:\cpan\build\XML-LibXML-Simple-0.96-PpNVEV/blib/arch
    C:\cpan\build\XML-LibXML-Simple-0.96-PpNVEV/blib/lib
    C:\cpan\build\XML-Compile-1.52-sCP0xq/blib/arch
    C:\cpan\build\XML-Compile-1.52-sCP0xq/blib/lib
    C:\cpan\build\XML-Compile-Tester-0.90-7KYhiy/blib/arch
    C:\cpan\build\XML-Compile-Tester-0.90-7KYhiy/blib/lib
    C:/Strawberry/perl/site/lib
    C:/Strawberry/perl/vendor/lib
    C:/Strawberry/perl/lib
    .