X11-Xlib v0.18 Perl 5 v5.29.4 x86_64-linux
- Status
- Pass
- From
- Andreas J. König (ANDK)
- Dist
-
X11-Xlib v0.18
- Platform
- Perl 5 v5.29.4 x86_64-linux
- Date
- 2018-10-03 01:16:18
- ID
- ee0a80ae-c6a9-11e8-a5c9-d55a7dd86058
This distribution has been tested as part of the CPAN Testers
project, supporting the Perl programming language. See
http://wiki.cpantesters.org/ for more information or email
questions to cpan-testers-discuss@perl.org
--
Dear Michael Conrad,
This is a computer-generated report for X11-Xlib-0.18
on perl 5.29.4, created by CPAN-Reporter-1.2018.
Thank you for uploading your work to CPAN. Congratulations!
All tests were successful.
Sections of this report:
* Tester comments
* Program output
* Prerequisites
* Environment and other context
------------------------------
TESTER COMMENTS
------------------------------
Additional comments from tester:
this report is from an automated smoke testing program
and was not reviewed by a human for accuracy
------------------------------
PROGRAM OUTPUT
------------------------------
Output from '/usr/bin/make test':
"/tmp/basesmoker-reloperl-3TGD/bin/perl" -MExtUtils::Command::MM -e 'cp_nonempty' -- Xlib.bs blib/arch/auto/X11/Xlib/Xlib.bs 644
PERL_DL_NONLAZY=1 "/tmp/basesmoker-reloperl-3TGD/bin/perl" "-MExtUtils::Command::MM" "-MTest::Harness" "-e" "undef *Test::Harness::Switches; test_harness(0, 'blib/lib', 'blib/arch')" t/*.t
t/0-Pod-Coverage.t .... skipped: TODO
Can't stat ../blib: No such file or directory
at /home/sand/src/perl/repoperls/installed-perls/host/k93msid/v5.29.3-35-g4288c5b93b/3c10/lib/site_perl/5.29.4/Test/Pod.pm line 223.
t/0-Pod.t ............. ok
t/1-X11-Xlib.t ........ ok
Unknown XEvent type 538976288 at t/20-xevent.t line 30.
Unknown XEvent type 538976288 at t/20-xevent.t line 30.
Unknown XEvent type 538976288 at t/20-xevent.t line 30.
Unknown XEvent type 538976288 at t/20-xevent.t line 30.
t/20-xevent.t ......... ok
t/21-xvisualinfo.t .... ok
t/22-xrectangle.t ..... ok
t/30-connection.t ..... ok
Xlib fatal error. Further calls to Xlib are forbidden. at t/31-xlib-fatal.t line 66.
t/31-xlib-fatal.t ..... ok
t/32-xlib-nonfatal.t .. ok
t/33-atom.t ........... ok
t/35-event-queue.t .... ok
t/37-input-kb.t ....... ok
t/40-screen-attrs.t ... ok
t/42-window.t ......... ok
t/43-pixmap.t ......... ok
t/70-xcomposite.t ..... skipped: Need Xephyr to run Xcomposite tests
All tests successful.
Files=16, Tests=220, 1 wallclock secs ( 0.04 usr 0.09 sys + 0.95 cusr 0.26 csys = 1.34 CPU)
Result: PASS
------------------------------
PREREQUISITES
------------------------------
Prerequisite modules loaded:
requires:
Module Need Have
------------------- ----- --------
Carp 0 1.50
Scalar::Util 0 1.50
strict 0 1.11
Try::Tiny 0 0.30
warnings 0 1.43
build_requires:
Module Need Have
------------------- ----- --------
ExtUtils::MakeMaker 0 7.34
Test::More 0 1.302140
configure_requires:
Module Need Have
------------------- ----- --------
Devel::CheckLib 1.03 1.13
ExtUtils::Depends 0.405 0.405
ExtUtils::MakeMaker 0 7.34
------------------------------
ENVIRONMENT AND OTHER CONTEXT
------------------------------
Environment variables:
AUTOMATED_TESTING = 1
LANG = en_US.UTF-8
PATH = /home/sand/bin:/usr/local/bin:/usr/bin:/bin:/usr/games:/usr/local/perl/bin:/usr/X11/bin:/sbin:/usr/sbin
PERL5LIB =
PERL5OPT =
PERL5_CPANPLUS_IS_RUNNING = 16417
PERL5_CPAN_IS_RUNNING = 16417
PERL_CANARY_STABILITY_NOPROMPT = 1
PERL_MM_USE_DEFAULT = 1
PERL_USE_UNSAFE_INC = 1
SHELL = /usr/bin/zsh
TERM = screen
Perl special variables (and OS-specific diagnostics, for MSWin32):
$^X = /tmp/basesmoker-reloperl-3TGD/bin/perl
$UID/$EUID = 1005 / 1005
$GID = 1005 1005
$EGID = 1005 1005
Perl module toolchain versions installed:
Module Have
------------------- --------
CPAN 2.21
CPAN::Meta 2.150010
Cwd 3.75
ExtUtils::CBuilder 0.280230
ExtUtils::Command 7.34
ExtUtils::Install 2.14
ExtUtils::MakeMaker 7.34
ExtUtils::Manifest 1.71
ExtUtils::ParseXS 3.39
File::Spec 3.75
JSON 2.97001
JSON::PP 2.97001
Module::Build 0.4224
Module::Signature 0.83
Parse::CPAN::Meta 2.150010
Test::Harness 3.42
Test::More 1.302140
YAML 1.26
YAML::Syck 1.30
version 0.9924
--
Summary of my perl5 (revision 5 version 29 subversion 4) configuration:
Commit id: 4288c5b93b3823465d8a11e569547afd41b5d1b8
Platform:
osname=linux
osvers=4.14.0-3-amd64
archname=x86_64-linux
uname='linux k93msid 4.14.0-3-amd64 #1 smp debian 4.14.12-2 (2018-01-06) x86_64 gnulinux '
config_args='-Dprefix=/home/sand/src/perl/repoperls/installed-perls/host/k93msid/v5.29.3-35-g4288c5b93b/3c10 -Dmyhostname=k93msid -Dinstallusrbinperl=n -Uversiononly -Dusedevel -des -Ui_db -Dlibswanted=cl pthread socket inet nsl gdbm dbm malloc dl ld sun m crypt sec util c cposix posix ucb BSD gdbm_compat -Uuseithreads -Uuselongdouble -DEBUGGING=none'
hint=recommended
useposix=true
d_sigaction=define
useithreads=undef
usemultiplicity=undef
use64bitint=define
use64bitall=define
uselongdouble=undef
usemymalloc=n
default_inc_excludes_dot=define
bincompat5005=undef
Compiler:
cc='cc'
ccflags ='-fwrapv -fno-strict-aliasing -pipe -fstack-protector-strong -I/usr/local/include -D_LARGEFILE_SOURCE -D_FILE_OFFSET_BITS=64 -D_FORTIFY_SOURCE=2'
optimize='-O2'
cppflags='-fwrapv -fno-strict-aliasing -pipe -fstack-protector-strong -I/usr/local/include'
ccversion=''
gccversion='7.2.0'
gccosandvers=''
intsize=4
longsize=8
ptrsize=8
doublesize=8
byteorder=12345678
doublekind=3
d_longlong=define
longlongsize=8
d_longdbl=define
longdblsize=16
longdblkind=3
ivtype='long'
ivsize=8
nvtype='double'
nvsize=8
Off_t='off_t'
lseeksize=8
alignbytes=8
prototype=define
Linker and Libraries:
ld='cc'
ldflags =' -fstack-protector-strong -L/usr/local/lib'
libpth=/usr/local/lib /usr/lib/gcc/x86_64-linux-gnu/7/include-fixed /usr/include/x86_64-linux-gnu /usr/lib /lib/x86_64-linux-gnu /lib/../lib /usr/lib/x86_64-linux-gnu /usr/lib/../lib /lib
libs=-lpthread -lnsl -ldl -lm -lcrypt -lutil -lc
perllibs=-lpthread -lnsl -ldl -lm -lcrypt -lutil -lc
libc=libc-2.26.so
so=so
useshrplib=false
libperl=libperl.a
gnulibc_version='2.26'
Dynamic Linking:
dlsrc=dl_dlopen.xs
dlext=so
d_dlsymun=undef
ccdlflags='-Wl,-E'
cccdlflags='-fPIC'
lddlflags='-shared -O2 -L/usr/local/lib -fstack-protector-strong'
Characteristics of this binary (from libperl):
Compile-time options:
HAS_TIMES
PERLIO_LAYERS
PERL_COPY_ON_WRITE
PERL_DONT_CREATE_GVSV
PERL_MALLOC_WRAP
PERL_OP_PARENT
PERL_PRESERVE_IVUV
PERL_USE_DEVEL
USE_64_BIT_ALL
USE_64_BIT_INT
USE_LARGE_FILES
USE_LOCALE
USE_LOCALE_COLLATE
USE_LOCALE_CTYPE
USE_LOCALE_NUMERIC
USE_LOCALE_TIME
USE_PERLIO
USE_PERL_ATOF
Built under linux
Compiled at Oct 2 2018 05:07:06
%ENV:
PERL5LIB=""
PERL5OPT=""
PERL5_CPANPLUS_IS_RUNNING="16417"
PERL5_CPAN_IS_RUNNING="16417"
PERL_CANARY_STABILITY_NOPROMPT="1"
PERL_MM_USE_DEFAULT="1"
PERL_USE_UNSAFE_INC="1"
@INC:
/home/sand/src/perl/repoperls/installed-perls/host/k93msid/v5.29.3-35-g4288c5b93b/3c10/lib/site_perl/5.29.4/x86_64-linux
/home/sand/src/perl/repoperls/installed-perls/host/k93msid/v5.29.3-35-g4288c5b93b/3c10/lib/site_perl/5.29.4
/home/sand/src/perl/repoperls/installed-perls/host/k93msid/v5.29.3-35-g4288c5b93b/3c10/lib/5.29.4/x86_64-linux
/home/sand/src/perl/repoperls/installed-perls/host/k93msid/v5.29.3-35-g4288c5b93b/3c10/lib/5.29.4
.