Report for DBIx-Class-Wrapper-0.006

Back
From: metabase:user:320bfe00-2aae-11df-837a-5e0a49663a4f
Subject: PASS DBIx-Class-Wrapper-0.006 v5.16.3 GNU/Linux
Date: 2015-07-16T04:41:31Z

This distribution has been tested as part of the CPAN Testers
project, supporting the Perl programming language.  See
http://wiki.cpantesters.org/ for more information or email
questions to cpan-testers-discuss@perl.org


--
Dear Jerome Eteve,

This is a computer-generated report for DBIx-Class-Wrapper-0.006
on perl 5.16.3, created by CPAN-Reporter-1.2014.

Thank you for uploading your work to CPAN.  Congratulations!
All tests were successful.

Sections of this report:

    * Tester comments
    * Program output
    * Prerequisites
    * Environment and other context

------------------------------
TESTER COMMENTS
------------------------------

Additional comments from tester:

this report is from an automated smoke testing program
and was not reviewed by a human for accuracy

------------------------------
PROGRAM OUTPUT
------------------------------

Output from '/usr/bin/make test':

PERL_DL_NONLAZY=1 "/home/sand/src/perl/repoperls/installed-perls/perl/v5.16.3/127e/bin/perl" "-MExtUtils::Command::MM" "-MTest::Harness" "-e" "undef *Test::Harness::Switches; test_harness(0, 'blib/lib', 'blib/arch')" t/*.t
t/00-load.t .............. ok
t/01-dbic_wrapper.t ...... ok
t/02-custom-baseclass.t .. ok
t/03-loop_through.t ...... ok
t/manifest.t ............. skipped: Author tests not required for installation
t/pod-coverage.t ......... ok
t/pod.t .................. ok
All tests successful.
Files=7, Tests=344, 13 wallclock secs ( 0.05 usr  0.06 sys +  5.41 cusr  0.53 csys =  6.05 CPU)
Result: PASS

------------------------------
PREREQUISITES
------------------------------

Prerequisite modules loaded:

requires:

    Module                      Need    Have    
    --------------------------- ------- --------
    Class::Load                 0.20    0.23    
    DBI                         1.63    1.633   
    DBIx::Class                 0.08250 0.082820
    Module::Pluggable           4.0     5.1     
    Moose                       2.1205  2.1500  

build_requires:

    Module                      Need    Have    
    --------------------------- ------- --------
    DBIx::Class::Schema::Loader 0.07039 0.07043 
    ExtUtils::MakeMaker         0       7.05_24 

configure_requires:

    Module                      Need    Have    
    --------------------------- ------- --------
    ExtUtils::MakeMaker         0       7.05_24 


------------------------------
ENVIRONMENT AND OTHER CONTEXT
------------------------------

Environment variables:

    AUTOMATED_TESTING = 1
    LANG = en_US.UTF-8
    LANGUAGE = en_US:en
    PATH = /home/sand/bin:/usr/local/bin:/usr/bin:/bin:/usr/games:/usr/local/perl/bin:/usr/X11/bin:/sbin:/usr/sbin
    PERL5LIB = 
    PERL5OPT = 
    PERL5_CPANPLUS_IS_RUNNING = 938
    PERL5_CPAN_IS_RUNNING = 938
    PERL_MM_USE_DEFAULT = 1
    SHELL = /usr/bin/zsh
    TERM = screen

Perl special variables (and OS-specific diagnostics, for MSWin32):

    $^X = /home/sand/src/perl/repoperls/installed-perls/perl/v5.16.3/127e/bin/perl
    $UID/$EUID = 1005 / 1005
    $GID = 1005 1005
    $EGID = 1005 1005

Perl module toolchain versions installed:

    Module              Have    
    ------------------- --------
    CPAN                2.10    
    CPAN::Meta          2.150005
    Cwd                 3.56_01 
    ExtUtils::CBuilder  0.280223
    ExtUtils::Command   7.05_24 
    ExtUtils::Install   1.58    
    ExtUtils::MakeMaker 7.05_24 
    ExtUtils::Manifest  1.70    
    ExtUtils::ParseXS   3.24    
    File::Spec          3.56_01 
    JSON                2.90    
    JSON::PP            2.27203 
    Module::Build       0.4214  
    Module::Signature   0.79    
    Parse::CPAN::Meta   1.4417  
    Test::Harness       3.35    
    Test::More          1.001014
    YAML                1.15    
    YAML::Syck          1.29    
    version             0.9912  


--

Summary of my perl5 (revision 5 version 16 subversion 3) configuration:
  Commit id: fd04d42d38f4751b981eb6e9213ee1ab8ef11ea6
  Platform:
    osname=linux, osvers=4.0.0-2-amd64, archname=x86_64-linux-ld
    uname='linux k83 4.0.0-2-amd64 #1 smp debian 4.0.5-1 (2015-06-16) x86_64 gnulinux '
    config_args='-Dprefix=/home/sand/src/perl/repoperls/installed-perls/perl/v5.16.3/127e -Dmyhostname=k83 -Dinstallusrbinperl=n -Uversiononly -Dusedevel -des -Ui_db -Uuseithreads -Duselongdouble -DDEBUGGING=-g'
    hint=recommended, useposix=true, d_sigaction=define
    useithreads=undef, usemultiplicity=undef
    useperlio=define, d_sfio=undef, uselargefiles=define, usesocks=undef
    use64bitint=define, use64bitall=define, uselongdouble=define
    usemymalloc=n, bincompat5005=undef
  Compiler:
    cc='cc', ccflags ='-fno-strict-aliasing -pipe -fstack-protector -I/usr/local/include -D_LARGEFILE_SOURCE -D_FILE_OFFSET_BITS=64',
    optimize='-O2 -g',
    cppflags='-fno-strict-aliasing -pipe -fstack-protector -I/usr/local/include'
    ccversion='', gccversion='4.9.2', gccosandvers=''
    intsize=4, longsize=8, ptrsize=8, doublesize=8, byteorder=12345678
    d_longlong=define, longlongsize=8, d_longdbl=define, longdblsize=16
    ivtype='long', ivsize=8, nvtype='long double', nvsize=16, Off_t='off_t', lseeksize=8
    alignbytes=16, prototype=define
  Linker and Libraries:
    ld='cc', ldflags =' -fstack-protector -L/usr/local/lib'
    libpth=/usr/local/lib /lib/x86_64-linux-gnu /lib/../lib /usr/lib/x86_64-linux-gnu /usr/lib/../lib /lib /usr/lib
    libs=-lnsl -lgdbm -ldb -ldl -lm -lcrypt -lutil -lc -lgdbm_compat
    perllibs=-lnsl -ldl -lm -lcrypt -lutil -lc
    libc=, so=so, useshrplib=false, libperl=libperl.a
    gnulibc_version='2.19'
  Dynamic Linking:
    dlsrc=dl_dlopen.xs, dlext=so, d_dlsymun=undef, ccdlflags='-Wl,-E'
    cccdlflags='-fPIC', lddlflags='-shared -O2 -g -L/usr/local/lib -fstack-protector'


Characteristics of this binary (from libperl): 
  Compile-time options: HAS_TIMES PERLIO_LAYERS PERL_DONT_CREATE_GVSV
                        PERL_MALLOC_WRAP PERL_PRESERVE_IVUV PERL_USE_DEVEL
                        USE_64_BIT_ALL USE_64_BIT_INT USE_LARGE_FILES
                        USE_LOCALE USE_LOCALE_COLLATE USE_LOCALE_CTYPE
                        USE_LOCALE_NUMERIC USE_LONG_DOUBLE USE_PERLIO
                        USE_PERL_ATOF
  Built under linux
  Compiled at Jun 30 2015 08:43:37
  %ENV:
    PERL5LIB=""
    PERL5OPT=""
    PERL5_CPANPLUS_IS_RUNNING="938"
    PERL5_CPAN_IS_RUNNING="938"
    PERL_MM_USE_DEFAULT="1"
  @INC:
    /home/sand/src/perl/repoperls/installed-perls/perl/v5.16.3/127e/lib/site_perl/5.16.3/x86_64-linux-ld
    /home/sand/src/perl/repoperls/installed-perls/perl/v5.16.3/127e/lib/site_perl/5.16.3
    /home/sand/src/perl/repoperls/installed-perls/perl/v5.16.3/127e/lib/5.16.3/x86_64-linux-ld
    /home/sand/src/perl/repoperls/installed-perls/perl/v5.16.3/127e/lib/5.16.3
    .