Cache-Memcached-Fast v0.28 Perl 5 v5.36.3 x86_64-linux-quadmath
- Status
- Pass
- From
- Andreas J. König (ANDK)
- Dist
-
Cache-Memcached-Fast v0.28
- Platform
- Perl 5 v5.36.3 x86_64-linux-quadmath
- Date
- 2024-03-07 14:13:54
- ID
- ee2bc878-dc8c-11ee-9868-5bed717a655f
This distribution has been tested as part of the CPAN Testers
project, supporting the Perl programming language. See
http://wiki.cpantesters.org/ for more information or email
questions to cpan-testers-discuss@perl.org
--
Dear James Raspass,
This is a computer-generated report for Cache-Memcached-Fast-0.28
on perl 5.36.3, created by CPAN-Reporter-1.2019.
Thank you for uploading your work to CPAN. Congratulations!
All tests were successful.
Sections of this report:
* Tester comments
* Program output
* Prerequisites
* Environment and other context
------------------------------
TESTER COMMENTS
------------------------------
Additional comments from tester:
this report is from an automated smoke testing program
and was not reviewed by a human for accuracy
------------------------------
PROGRAM OUTPUT
------------------------------
Output from '/usr/bin/make test':
"/home/sand/src/perl/repoperls/installed-perls/host/k93msid/v5.36.3/ec94/bin/perl" -MExtUtils::Command::MM -e 'cp_nonempty' -- Fast.bs blib/arch/auto/Cache/Memcached/Fast/Fast.bs 644
make[1]: Entering directory '/tmp/loop_over_bdir-3294073-PR4qYj/Cache-Memcached-Fast-0.28-0/src'
make[1]: Nothing to be done for 'all'.
make[1]: Leaving directory '/tmp/loop_over_bdir-3294073-PR4qYj/Cache-Memcached-Fast-0.28-0/src'
make[1]: Entering directory '/tmp/loop_over_bdir-3294073-PR4qYj/Cache-Memcached-Fast-0.28-0/src'
No tests defined for Cache::Memcached::Fast::libclient extension.
make[1]: Leaving directory '/tmp/loop_over_bdir-3294073-PR4qYj/Cache-Memcached-Fast-0.28-0/src'
PERL_DL_NONLAZY=1 "/home/sand/src/perl/repoperls/installed-perls/host/k93msid/v5.36.3/ec94/bin/perl" "-MExtUtils::Command::MM" "-MTest::Harness" "-e" "undef *Test::Harness::Switches; test_harness(0, 'blib/lib', 'blib/arch')" t/*.t
t/0-info.t .......... skipped: Not connected
t/big-value.t ....... skipped: Not connected
t/changes.t ......... skipped: Author test, set the $AUTHOR_TESTING environment variable to run it
t/commands.t ........ skipped: Not connected
t/disconnect-all.t .. skipped: Not connected
t/errors.t .......... ok
t/flush-all.t ....... skipped: Not connected
t/hash-namespace.t .. skipped: Not connected
t/magic.t ........... skipped: Not connected
t/malformed.t ....... skipped: Not connected
t/namespace.t ....... skipped: Not connected
t/noreply.t ......... skipped: Not connected
t/nowait.t .......... skipped: Not connected
t/perl-namespace.t .. ok
t/pod-coverage.t .... skipped: Author test, set the $AUTHOR_TESTING environment variable to run it
t/pod.t ............. skipped: Author test, set the $AUTHOR_TESTING environment variable to run it
t/serialize.t ....... skipped: Not connected
t/threads.t ......... skipped: Not connected
t/tidy.t ............ skipped: Author test, set the $AUTHOR_TESTING environment variable to run it
t/utf8.t ............ skipped: Not connected
t/validation.t ...... ok
All tests successful.
Files=21, Tests=8, 4 wallclock secs ( 0.05 usr 0.06 sys + 2.09 cusr 0.55 csys = 2.75 CPU)
Result: PASS
------------------------------
PREREQUISITES
------------------------------
Prerequisite modules loaded:
requires:
Module Need Have
------------------- -------- --------
Carp 1.25 1.52
XSLoader 0.14 0.31
build_requires:
Module Need Have
------------------- -------- --------
ExtUtils::MakeMaker 0 7.70
Test2::Suite 0.000072 0.000159
------------------------------
ENVIRONMENT AND OTHER CONTEXT
------------------------------
Environment variables:
AUTOMATED_TESTING = 1
LANG = en_US.UTF-8
LANGUAGE = en_US:en
PATH = /home/sand/bin:/usr/local/bin:/usr/bin:/bin:/usr/games:/usr/local/perl/bin:/usr/X11/bin:/sbin:/usr/sbin
PERL5LIB =
PERL5OPT =
PERL5_CPANPLUS_IS_RUNNING = 1976391
PERL5_CPAN_IS_RUNNING = 1976391
PERL_CANARY_STABILITY_NOPROMPT = 1
PERL_MM_USE_DEFAULT = 1
PERL_USE_UNSAFE_INC = 1
SHELL = /usr/bin/zsh
TERM = screen
Perl special variables (and OS-specific diagnostics, for MSWin32):
$^X = /home/sand/src/perl/repoperls/installed-perls/host/k93msid/v5.36.3/ec94/bin/perl
$UID/$EUID = 1005 / 1005
$GID = 1005 1005
$EGID = 1005 1005
Perl module toolchain versions installed:
Module Have
------------------- --------
CPAN 2.36
CPAN::Meta 2.150010
Cwd 3.84
ExtUtils::CBuilder 0.280236
ExtUtils::Command 7.70
ExtUtils::Install 2.20
ExtUtils::MakeMaker 7.70
ExtUtils::Manifest 1.73
ExtUtils::ParseXS 3.45
File::Spec 3.84
JSON 4.10
JSON::PP 4.16
Module::Build 0.4234
Module::Signature 0.88
Parse::CPAN::Meta 2.150010
Test2 1.302197
Test::Harness 3.48
Test::More 1.302197
YAML 1.30
YAML::Syck 1.34
version 0.9930
--
Summary of my perl5 (revision 5 version 36 subversion 3) configuration:
Commit id: d456446ba5b8fba87f3f26fa700eb749c622e434
Platform:
osname=linux
osvers=6.5.0-4-amd64
archname=x86_64-linux-quadmath
uname='linux k93msid 6.5.0-4-amd64 #1 smp preempt_dynamic debian 6.5.10-1 (2023-11-03) x86_64 gnulinux '
config_args='-Dprefix=/home/sand/src/perl/repoperls/installed-perls/host/k93msid/v5.36.3/ec94 -Dmyhostname=k93msid -Dinstallusrbinperl=n -Uversiononly -Dusedevel -des -Ui_db -Dlibswanted=cl pthread socket inet nsl gdbm dbm malloc dl ld sun m crypt sec util c cposix posix ucb BSD gdbm_compat -Uuseithreads -Uuselongdouble -DEBUGGING=both -Dusequadmath'
hint=recommended
useposix=true
d_sigaction=define
useithreads=undef
usemultiplicity=undef
use64bitint=define
use64bitall=define
uselongdouble=undef
usemymalloc=n
default_inc_excludes_dot=define
Compiler:
cc='cc'
ccflags ='-fwrapv -DDEBUGGING -fno-strict-aliasing -pipe -fstack-protector-strong -I/usr/local/include -D_LARGEFILE_SOURCE -D_FILE_OFFSET_BITS=64 -D_FORTIFY_SOURCE=2'
optimize='-O2 -g'
cppflags='-fwrapv -DDEBUGGING -fno-strict-aliasing -pipe -fstack-protector-strong -I/usr/local/include'
ccversion=''
gccversion='13.2.0'
gccosandvers=''
intsize=4
longsize=8
ptrsize=8
doublesize=8
byteorder=12345678
doublekind=3
d_longlong=define
longlongsize=8
d_longdbl=define
longdblsize=16
longdblkind=3
ivtype='long'
ivsize=8
nvtype='__float128'
nvsize=16
Off_t='off_t'
lseeksize=8
alignbytes=16
prototype=define
Linker and Libraries:
ld='cc'
ldflags =' -fstack-protector-strong -L/usr/local/lib'
libpth=/usr/local/lib /usr/lib/x86_64-linux-gnu /usr/lib /usr/lib64
libs=-lpthread -lnsl -ldl -lm -lcrypt -lutil -lc -lquadmath
perllibs=-lpthread -lnsl -ldl -lm -lcrypt -lutil -lc -lquadmath
libc=/lib/x86_64-linux-gnu/libc.so.6
so=so
useshrplib=false
libperl=libperl.a
gnulibc_version='2.37'
Dynamic Linking:
dlsrc=dl_dlopen.xs
dlext=so
d_dlsymun=undef
ccdlflags='-Wl,-E'
cccdlflags='-fPIC'
lddlflags='-shared -O2 -g -L/usr/local/lib -fstack-protector-strong'
Characteristics of this binary (from libperl):
Compile-time options:
DEBUGGING
HAS_TIMES
PERLIO_LAYERS
PERL_COPY_ON_WRITE
PERL_DONT_CREATE_GVSV
PERL_MALLOC_WRAP
PERL_OP_PARENT
PERL_PRESERVE_IVUV
PERL_USE_DEVEL
USE_64_BIT_ALL
USE_64_BIT_INT
USE_LARGE_FILES
USE_LOCALE
USE_LOCALE_COLLATE
USE_LOCALE_CTYPE
USE_LOCALE_NUMERIC
USE_LOCALE_TIME
USE_PERLIO
USE_PERL_ATOF
USE_QUADMATH
Built under linux
Compiled at Nov 30 2023 08:51:53
%ENV:
PERL5LIB=""
PERL5OPT=""
PERL5_CPANPLUS_IS_RUNNING="1976391"
PERL5_CPAN_IS_RUNNING="1976391"
PERL_CANARY_STABILITY_NOPROMPT="1"
PERL_MM_USE_DEFAULT="1"
PERL_USE_UNSAFE_INC="1"
@INC:
/home/sand/src/perl/repoperls/installed-perls/host/k93msid/v5.36.3/ec94/lib/site_perl/5.36.3/x86_64-linux-quadmath
/home/sand/src/perl/repoperls/installed-perls/host/k93msid/v5.36.3/ec94/lib/site_perl/5.36.3
/home/sand/src/perl/repoperls/installed-perls/host/k93msid/v5.36.3/ec94/lib/5.36.3/x86_64-linux-quadmath
/home/sand/src/perl/repoperls/installed-perls/host/k93msid/v5.36.3/ec94/lib/5.36.3
.