Pod-Tree v1.31 Perl 5 v5.28.1 x86_64-linux-thread-multi
- Status
- Pass
- From
- Slaven Rezić (SREZIC)
- Dist
-
Pod-Tree v1.31
- Platform
- Perl 5 v5.28.1 x86_64-linux-thread-multi
- Date
- 2019-02-22 10:59:31
- ID
- ee37cfa8-3690-11e9-8c9f-b7c27d2783cc
This distribution has been tested as part of the CPAN Testers
project, supporting the Perl programming language. See
http://wiki.cpantesters.org/ for more information or email
questions to cpan-testers-discuss@perl.org
--
Dear Mohammad S Anwar,
This is a computer-generated report for Pod-Tree-1.31
on perl 5.28.1, created by CPAN-Reporter-1.2018.
Thank you for uploading your work to CPAN. Congratulations!
All tests were successful.
Sections of this report:
* Tester comments
* Program output
* Prerequisites
* Environment and other context
------------------------------
TESTER COMMENTS
------------------------------
Additional comments from tester:
none provided
------------------------------
PROGRAM OUTPUT
------------------------------
Output from '/usr/bin/make test':
PERL_DL_NONLAZY=1 "/opt/perl-5.28.1t/bin/perl" "-MExtUtils::Command::MM" "-MTest::Harness" "-e" "undef *Test::Harness::Switches; test_harness(0, 'blib/lib', 'blib/arch')" t/*.t
mod2html syntax OK
podtree2html syntax OK
pods2html syntax OK
perl2html syntax OK
t/00-compile.t .... ok
t/10-cut.t ........ ok
t/11-html.t ....... ok
t/12-load.t ....... ok
t/13-mapper.t ..... ok
t/14-option.t ..... ok
t/15-pod.t ........ ok
t/16-pod2html.t ... ok
t/17-pods2html.t .. ok
t/18-template.t ... ok
t/19-tree.t ....... ok
t/94-version.t .... ok
All tests successful.
Files=12, Tests=145, 2 wallclock secs ( 0.03 usr 0.06 sys + 1.93 cusr 0.52 csys = 2.54 CPU)
Result: PASS
------------------------------
PREREQUISITES
------------------------------
Prerequisite modules loaded:
requires:
Module Need Have
------------------- ------ --------
Code::TidyAll 0 0.73
File::Find 1 1.34
HTML::Stream 1.49 1.60
IO::File 1 1.39
IO::String 1 1.08
Perl::Tidy 0 20181120
Pod::Escapes 1.02 1.07
Text::Template 1 1.53
build_requires:
Module Need Have
------------------- ------ --------
ExtUtils::MakeMaker 0 7.34
Path::Tiny 0.105 0.108
Test::Compile v1.2.1 v1.3.0
Test::More 1 1.302160
configure_requires:
Module Need Have
------------------- ------ --------
ExtUtils::MakeMaker 0 7.34
------------------------------
ENVIRONMENT AND OTHER CONTEXT
------------------------------
Environment variables:
LANG = C
PATH = /usr/local/bin:/usr/bin:/bin:/usr/local/sbin:/usr/sbin:/sbin:/home/cpansand/bin/linux-gnu:/home/cpansand/bin/sh:/home/cpansand/bin:/usr/games:/home/cpansand/devel:/home/eserte/src/srezic-misc/scripts
PERL5LIB = /home/cpansand/.cpan/build/2019022210/HTML-Stream-1.60-0/blib/arch:/home/cpansand/.cpan/build/2019022210/HTML-Stream-1.60-0/blib/lib
PERL5OPT =
PERL5_CPANPLUS_IS_RUNNING = 21126
PERL5_CPAN_IS_RUNNING = 21126
PERL5_CPAN_IS_RUNNING_IN_RECURSION = 21046,21126
PERLDOC = -MPod::Perldoc::ToTextOverstrike
PERL_BATCH = yes
PERL_CANARY_STABILITY_NOPROMPT = 1
PERL_CPAN_REPORTER_CONFIG = /var/tmp/cpansmoker-1023/2019022210/cpanreporter_000_config.ini
PERL_EXTUTILS_AUTOINSTALL = --defaultdeps
PERL_USE_UNSAFE_INC = 1
SHELL = /usr/bin/zsh
TERM = screen
TMPDIR = /var/tmp/cpansmoker-1023/2019022210
Perl special variables (and OS-specific diagnostics, for MSWin32):
$^X = /opt/perl-5.28.1t/bin/perl
$UID/$EUID = 1023 / 1023
$GID = 1023 1023
$EGID = 1023 1023
Perl module toolchain versions installed:
Module Have
------------------- --------
CPAN 2.20
CPAN::Meta 2.150010
Cwd 3.75
ExtUtils::CBuilder 0.280230
ExtUtils::Command 7.34
ExtUtils::Install 2.14
ExtUtils::MakeMaker 7.34
ExtUtils::Manifest 1.70
ExtUtils::ParseXS 3.39
File::Spec 3.75
JSON 4.01
JSON::PP 2.97001
Module::Build 0.4224
Module::Signature 0.83
Parse::CPAN::Meta 2.150010
Test::Harness 3.42
Test::More 1.302160
YAML 1.27
YAML::Syck 1.31
version 0.9923
--
Summary of my perl5 (revision 5 version 28 subversion 1) configuration:
Platform:
osname=linux
osvers=3.16.0-7-amd64
archname=x86_64-linux-thread-multi
uname='linux debian8 3.16.0-7-amd64 #1 smp debian 3.16.59-1 (2018-10-03) x86_64 gnulinux '
config_args='-ds -e -Dprefix=/opt/perl-5.28.1t -Dusethreads -Dcf_email=srezic@cpan.org'
hint=recommended
useposix=true
d_sigaction=define
useithreads=define
usemultiplicity=define
use64bitint=define
use64bitall=define
uselongdouble=undef
usemymalloc=n
default_inc_excludes_dot=define
bincompat5005=undef
Compiler:
cc='cc'
ccflags ='-D_REENTRANT -D_GNU_SOURCE -fwrapv -fno-strict-aliasing -pipe -fstack-protector-strong -I/usr/local/include -D_LARGEFILE_SOURCE -D_FILE_OFFSET_BITS=64 -D_FORTIFY_SOURCE=2'
optimize='-O2'
cppflags='-D_REENTRANT -D_GNU_SOURCE -fwrapv -fno-strict-aliasing -pipe -fstack-protector-strong -I/usr/local/include'
ccversion=''
gccversion='4.9.2'
gccosandvers=''
intsize=4
longsize=8
ptrsize=8
doublesize=8
byteorder=12345678
doublekind=3
d_longlong=define
longlongsize=8
d_longdbl=define
longdblsize=16
longdblkind=3
ivtype='long'
ivsize=8
nvtype='double'
nvsize=8
Off_t='off_t'
lseeksize=8
alignbytes=8
prototype=define
Linker and Libraries:
ld='cc'
ldflags =' -fstack-protector-strong -L/usr/local/lib'
libpth=/usr/local/lib /usr/lib/gcc/x86_64-linux-gnu/4.9/include-fixed /usr/include/x86_64-linux-gnu /usr/lib /lib/x86_64-linux-gnu /lib/../lib /usr/lib/x86_64-linux-gnu /usr/lib/../lib /lib
libs=-lpthread -lnsl -lgdbm -ldb -ldl -lm -lcrypt -lutil -lc -lgdbm_compat
perllibs=-lpthread -lnsl -ldl -lm -lcrypt -lutil -lc
libc=libc-2.19.so
so=so
useshrplib=false
libperl=libperl.a
gnulibc_version='2.19'
Dynamic Linking:
dlsrc=dl_dlopen.xs
dlext=so
d_dlsymun=undef
ccdlflags='-Wl,-E'
cccdlflags='-fPIC'
lddlflags='-shared -O2 -L/usr/local/lib -fstack-protector-strong'
Characteristics of this binary (from libperl):
Compile-time options:
HAS_TIMES
MULTIPLICITY
PERLIO_LAYERS
PERL_COPY_ON_WRITE
PERL_DONT_CREATE_GVSV
PERL_IMPLICIT_CONTEXT
PERL_MALLOC_WRAP
PERL_OP_PARENT
PERL_PRESERVE_IVUV
USE_64_BIT_ALL
USE_64_BIT_INT
USE_ITHREADS
USE_LARGE_FILES
USE_LOCALE
USE_LOCALE_COLLATE
USE_LOCALE_CTYPE
USE_LOCALE_NUMERIC
USE_LOCALE_TIME
USE_PERLIO
USE_PERL_ATOF
USE_REENTRANT_API
Built under linux
Compiled at Dec 4 2018 07:09:39
%ENV:
PERL5LIB="/home/cpansand/.cpan/build/2019022210/HTML-Stream-1.60-0/blib/arch:/home/cpansand/.cpan/build/2019022210/HTML-Stream-1.60-0/blib/lib"
PERL5OPT=""
PERL5_CPANPLUS_IS_RUNNING="21126"
PERL5_CPAN_IS_RUNNING="21126"
PERL5_CPAN_IS_RUNNING_IN_RECURSION="21046,21126"
PERLDOC="-MPod::Perldoc::ToTextOverstrike"
PERL_BATCH="yes"
PERL_CANARY_STABILITY_NOPROMPT="1"
PERL_CPAN_REPORTER_CONFIG="/var/tmp/cpansmoker-1023/2019022210/cpanreporter_000_config.ini"
PERL_EXTUTILS_AUTOINSTALL="--defaultdeps"
PERL_USE_UNSAFE_INC="1"
@INC:
/home/cpansand/.cpan/build/2019022210/HTML-Stream-1.60-0/blib/arch
/home/cpansand/.cpan/build/2019022210/HTML-Stream-1.60-0/blib/lib
/opt/perl-5.28.1t/lib/site_perl/5.28.1/x86_64-linux-thread-multi
/opt/perl-5.28.1t/lib/site_perl/5.28.1
/opt/perl-5.28.1t/lib/5.28.1/x86_64-linux-thread-multi
/opt/perl-5.28.1t/lib/5.28.1
.