Webservice-Diffbot v0.003 Perl 5 v5.24.3 x86_64-linux-ld

Status
Pass
From
Andreas J. König (ANDK)
Dist
Webservice-Diffbot v0.003
Platform
Perl 5 v5.24.3 x86_64-linux-ld
Date
2017-10-15 08:36:25
ID
ee448d9e-b183-11e7-a723-ed9c47e224a9
This distribution has been tested as part of the CPAN Testers
project, supporting the Perl programming language.  See
http://wiki.cpantesters.org/ for more information or email
questions to cpan-testers-discuss@perl.org


--
Dear Cesare Gargano,

This is a computer-generated report for Webservice-Diffbot-0.003
on perl 5.24.3, created by CPAN-Reporter-1.2018.

Thank you for uploading your work to CPAN.  Congratulations!
All tests were successful.

Sections of this report:

    * Tester comments
    * Program output
    * Prerequisites
    * Environment and other context

------------------------------
TESTER COMMENTS
------------------------------

Additional comments from tester:

this report is from an automated smoke testing program
and was not reviewed by a human for accuracy

------------------------------
PROGRAM OUTPUT
------------------------------

Output from '/usr/bin/make test':

PERL_DL_NONLAZY=1 "/home/sand/src/perl/repoperls/installed-perls/host/k93msid/v5.24.3/2d7c/bin/perl" "-MExtUtils::Command::MM" "-MTest::Harness" "-e" "undef *Test::Harness::Switches; test_harness(0, 'blib/lib', 'blib/arch')" t/*.t
t/00-compile.t .......... ok
# 
# Versions for all modules listed in MYMETA.json (including optional ones):
#    Version Module                  
#   -------- ------------------------
#   2.150010 CPAN::Meta              
#      2.140 CPAN::Meta::Requirements
#       0.46 Capture::Tiny           
#       7.30 ExtUtils::MakeMaker     
#    3.63_01 File::Spec              
#    3.63_01 File::Spec::Functions   
#       1.36 IO::Handle              
#       1.20 IPC::Open3              
#       2.94 JSON                    
#       6.27 LWP::UserAgent          
#       1.49 List::Util              
#     0.4224 Module::Build           
#   2.003002 Moo                     
#      0.014 Test::Fatal             
#   1.112071 Test::InDistDir         
#   1.302102 Test::More              
#       1.72 URI                     
#       0.27 namespace::clean        
#       1.11 strict                  
#   2.000003 strictures              
#     0.9916 version                 
#       1.36 warnings                
t/00-report-prereqs.t ... ok
t/basic.t ............... ok
t/release-distmeta.t .... skipped: these tests are for release candidate testing
t/release-no-tabs.t ..... skipped: these tests are for release candidate testing
t/release-pod-syntax.t .. skipped: these tests are for release candidate testing
All tests successful.
Files=6, Tests=7,  5 wallclock secs ( 0.04 usr  0.02 sys +  0.57 cusr  0.13 csys =  0.76 CPU)
Result: PASS

------------------------------
PREREQUISITES
------------------------------

Prerequisite modules loaded:

requires:

    Module                Need   Have    
    --------------------- ------ --------
    JSON                  0      2.94    
    LWP::UserAgent        0      6.27    
    Moo                   0      2.003002
    namespace::clean      0      0.27    

build_requires:

    Module                Need   Have    
    --------------------- ------ --------
    Capture::Tiny         0      0.46    
    ExtUtils::MakeMaker   0      7.30    
    File::Spec            0      3.63_01 
    File::Spec::Functions 0      3.63_01 
    IO::Handle            0      1.36    
    IPC::Open3            0      1.20    
    List::Util            0      1.49    
    Module::Build         0.3601 0.4224  
    strict                0      1.11    
    strictures            0      2.000003
    Test::Fatal           0      0.014   
    Test::InDistDir       0      1.112071
    Test::More            0      1.302102
    URI                   0      1.72    
    version               0      0.9916  
    warnings              0      1.36    

configure_requires:

    Module                Need   Have    
    --------------------- ------ --------
    ExtUtils::MakeMaker   6.30   7.30    
    Module::Build         0.3601 0.4224  


------------------------------
ENVIRONMENT AND OTHER CONTEXT
------------------------------

Environment variables:

    AUTOMATED_TESTING = 1
    LANG = en_US.UTF-8
    PATH = /home/sand/bin:/usr/local/bin:/usr/bin:/bin:/usr/games:/usr/local/perl/bin:/usr/X11/bin:/sbin:/usr/sbin
    PERL5LIB = /tmp/loop_over_bdir-12659-l06s1y/Test-InDistDir-1.112071-0/blib/arch:/tmp/loop_over_bdir-12659-l06s1y/Test-InDistDir-1.112071-0/blib/lib
    PERL5OPT = 
    PERL5_CPANPLUS_IS_RUNNING = 12662
    PERL5_CPAN_IS_RUNNING = 12662
    PERL5_CPAN_IS_RUNNING_IN_RECURSION = 834,12662
    PERL_CANARY_STABILITY_NOPROMPT = 1
    PERL_MM_USE_DEFAULT = 1
    PERL_USE_UNSAFE_INC = 1
    SHELL = /usr/bin/zsh
    TERM = screen

Perl special variables (and OS-specific diagnostics, for MSWin32):

    $^X = /home/sand/src/perl/repoperls/installed-perls/host/k93msid/v5.24.3/2d7c/bin/perl
    $UID/$EUID = 1005 / 1005
    $GID = 1005 1005
    $EGID = 1005 1005

Perl module toolchain versions installed:

    Module              Have      
    ------------------- ----------
    CPAN                2.18      
    CPAN::Meta          2.150010  
    Cwd                 3.63_01   
    ExtUtils::CBuilder  0.280226  
    ExtUtils::Command   7.30      
    ExtUtils::Install   2.06      
    ExtUtils::MakeMaker 7.30      
    ExtUtils::Manifest  1.70      
    ExtUtils::ParseXS   3.31      
    File::Spec          3.63_01   
    JSON                2.94      
    JSON::PP            2.27300_01
    Module::Build       0.4224    
    Module::Signature   0.81      
    Parse::CPAN::Meta   2.150010  
    Test::Harness       3.39      
    Test::More          1.302102  
    YAML                1.23      
    YAML::Syck          1.30      
    version             0.9916    


--

Summary of my perl5 (revision 5 version 24 subversion 3) configuration:
  Derived from: 9f1d3884c227a955e9ecaaadba4cba3280c47e3a
  Platform:
    osname=linux, osvers=4.12.0-2-amd64, archname=x86_64-linux-ld
    uname='linux k93msid 4.12.0-2-amd64 #1 smp debian 4.12.13-1 (2017-09-19) x86_64 gnulinux '
    config_args='-Dprefix=/home/sand/src/perl/repoperls/installed-perls/host/k93msid/v5.24.3/2d7c -Dmyhostname=k93msid -Dinstallusrbinperl=n -Uversiononly -Dusedevel -des -Ui_db -Dlibswanted=cl pthread socket inet nsl gdbm dbm malloc dl ld sun m crypt sec util c cposix posix ucb BSD gdbm_compat -Uuseithreads -Duselongdouble -DDEBUGGING=-g'
    hint=recommended, useposix=true, d_sigaction=define
    useithreads=undef, usemultiplicity=undef
    use64bitint=define, use64bitall=define, uselongdouble=define
    usemymalloc=n, bincompat5005=undef
  Compiler:
    cc='cc', ccflags ='-fwrapv -fno-strict-aliasing -pipe -fstack-protector-strong -I/usr/local/include -D_LARGEFILE_SOURCE -D_FILE_OFFSET_BITS=64 -D_FORTIFY_SOURCE=2',
    optimize='-O2 -g',
    cppflags='-fwrapv -fno-strict-aliasing -pipe -fstack-protector-strong -I/usr/local/include'
    ccversion='', gccversion='7.2.0', gccosandvers=''
    intsize=4, longsize=8, ptrsize=8, doublesize=8, byteorder=12345678, doublekind=3
    d_longlong=define, longlongsize=8, d_longdbl=define, longdblsize=16, longdblkind=3
    ivtype='long', ivsize=8, nvtype='long double', nvsize=16, Off_t='off_t', lseeksize=8
    alignbytes=16, prototype=define
  Linker and Libraries:
    ld='cc', ldflags =' -fstack-protector-strong -L/usr/local/lib'
    libpth=/usr/local/lib /usr/lib/gcc/x86_64-linux-gnu/7/include-fixed /usr/include/x86_64-linux-gnu /usr/lib /lib/x86_64-linux-gnu /lib/../lib /usr/lib/x86_64-linux-gnu /usr/lib/../lib /lib
    libs=-lpthread -lnsl -ldl -lm -lcrypt -lutil -lc
    perllibs=-lpthread -lnsl -ldl -lm -lcrypt -lutil -lc
    libc=libc-2.24.so, so=so, useshrplib=false, libperl=libperl.a
    gnulibc_version='2.24'
  Dynamic Linking:
    dlsrc=dl_dlopen.xs, dlext=so, d_dlsymun=undef, ccdlflags='-Wl,-E'
    cccdlflags='-fPIC', lddlflags='-shared -O2 -g -L/usr/local/lib -fstack-protector-strong'


Characteristics of this binary (from libperl): 
  Compile-time options: HAS_TIMES PERLIO_LAYERS PERL_COPY_ON_WRITE
                        PERL_DONT_CREATE_GVSV
                        PERL_HASH_FUNC_ONE_AT_A_TIME_HARD PERL_MALLOC_WRAP
                        PERL_PRESERVE_IVUV PERL_USE_DEVEL USE_64_BIT_ALL
                        USE_64_BIT_INT USE_LARGE_FILES USE_LOCALE
                        USE_LOCALE_COLLATE USE_LOCALE_CTYPE
                        USE_LOCALE_NUMERIC USE_LOCALE_TIME USE_LONG_DOUBLE
                        USE_PERLIO USE_PERL_ATOF
  Locally applied patches:
	uncommitted-changes
  Built under linux
  Compiled at Oct  2 2017 05:47:06
  %ENV:
    PERL5LIB="/tmp/loop_over_bdir-12659-l06s1y/Test-InDistDir-1.112071-0/blib/arch:/tmp/loop_over_bdir-12659-l06s1y/Test-InDistDir-1.112071-0/blib/lib"
    PERL5OPT=""
    PERL5_CPANPLUS_IS_RUNNING="12662"
    PERL5_CPAN_IS_RUNNING="12662"
    PERL5_CPAN_IS_RUNNING_IN_RECURSION="834,12662"
    PERL_CANARY_STABILITY_NOPROMPT="1"
    PERL_MM_USE_DEFAULT="1"
    PERL_USE_UNSAFE_INC="1"
  @INC:
    /tmp/loop_over_bdir-12659-l06s1y/Test-InDistDir-1.112071-0/blib/arch
    /tmp/loop_over_bdir-12659-l06s1y/Test-InDistDir-1.112071-0/blib/lib
    /home/sand/src/perl/repoperls/installed-perls/host/k93msid/v5.24.3/2d7c/lib/site_perl/5.24.3/x86_64-linux-ld
    /home/sand/src/perl/repoperls/installed-perls/host/k93msid/v5.24.3/2d7c/lib/site_perl/5.24.3
    /home/sand/src/perl/repoperls/installed-perls/host/k93msid/v5.24.3/2d7c/lib/5.24.3/x86_64-linux-ld
    /home/sand/src/perl/repoperls/installed-perls/host/k93msid/v5.24.3/2d7c/lib/5.24.3
    .