Report for Filter-Crypto-2.06

Back
From: metabase:user:314402c4-2aae-11df-837a-5e0a49663a4f
Subject: PASS Filter-Crypto-2.06 v5.10.1 FreeBSD
Date: 2014-06-02T21:43:27Z

This distribution has been tested as part of the CPAN Testers
project, supporting the Perl programming language.  See
http://wiki.cpantesters.org/ for more information or email
questions to cpan-testers-discuss@perl.org


--
Dear Steve Hay,

This is a computer-generated report for Filter-Crypto-2.06
on perl 5.10.1, created by CPAN-Reporter-1.2011.

Thank you for uploading your work to CPAN.  Congratulations!
All tests were successful.

Sections of this report:

    * Tester comments
    * Program output
    * Prerequisites
    * Environment and other context

------------------------------
TESTER COMMENTS
------------------------------

Additional comments from tester:

none provided

------------------------------
PROGRAM OUTPUT
------------------------------

Output from '/usr/bin/make test':

Running Mkbootstrap for Filter::Crypto::CryptFile ()
chmod 644 CryptFile.bs
Running Mkbootstrap for Filter::Crypto::Decrypt ()
chmod 644 Decrypt.bs
PERL_DL_NONLAZY=1 /usr/perl5.10.1/bin/perl5.10.1 "-MExtUtils::Command::MM" "-MTest::Harness" "-e" "undef *Test::Harness::Switches; test_harness(0, 'blib/lib', 'blib/arch')" t/*.t
t/01_imports_01.t .. ok
t/01_imports_02.t .. ok
t/01_imports_03.t .. ok
t/01_imports_04.t .. ok
t/02_function.t .... ok
t/03_script.t ...... ok
t/04_par.t ......... skipped: PAR::Filter required to test PAR::Filter::Crypto
t/05_errstr.t ...... ok
t/06_pod.t ......... ok
All tests successful.
Files=9, Tests=438, 18 wallclock secs ( 0.07 usr  0.09 sys + 15.02 cusr  2.78 csys = 17.96 CPU)
Result: PASS

------------------------------
PREREQUISITES
------------------------------

Prerequisite modules loaded:

requires:

    Module                Need     Have     
    --------------------- -------- ---------
    Exporter              0        5.70     
    Fcntl                 0        1.06     
    perl                  5.008001 5.010001 
    Scalar::Util          0        1.38     
    Text::ParseWords      0        3.27     
    XSLoader              0        0.10     

build_requires:

    Module                Need     Have     
    --------------------- -------- ---------
    blib                  0        1.04     
    Config                0        0        
    Cwd                   0        3.47     
    ExtUtils::MakeMaker   0        6.98     
    File::Copy            0        2.14     
    File::Spec::Functions 0        3.47     
    FindBin               0        1.50     
    perl                  5.008001 5.010001 
    strict                0        1.04     
    Test::More            0        1.001003 
    warnings              0        1.06     

configure_requires:

    Module                Need     Have     
    --------------------- -------- ---------
    Carp                  0        1.3301   
    Config                0        0        
    constant              0        1.27     
    Cwd                   0        3.47     
    ExtUtils::MakeMaker   6.66     6.98     
    Fcntl                 0        1.06     
    File::Basename        0        2.77     
    File::Copy            0        2.14     
    File::Spec::Functions 0        3.47     
    Getopt::Long          0        2.42     
    perl                  5.008001 5.010001 
    Pod::Usage            1.15     1.63     
    strict                0        1.04     
    Text::Wrap            0        2013.0523
    warnings              0        1.06     


------------------------------
ENVIRONMENT AND OTHER CONTEXT
------------------------------

Environment variables:

    DBIC_NO_WARN_BAD_PERL = 1
    LC_ALL = de_DE.ISO8859-1
    PATH = /usr/local/bin:/usr/bin:/bin:/usr/local/sbin:/usr/sbin:/sbin:/home/cpansand/bin/freebsd9.1:/home/cpansand/bin/sh:/home/cpansand/bin:/usr/games:/home/cpansand/devel:/usr/home/eserte/src/srezic-misc/scripts
    PERL5LIB = 
    PERL5OPT = 
    PERL5_CPANPLUS_IS_RUNNING = 55634
    PERL5_CPAN_IS_RUNNING = 55634
    PERL5_CPAN_IS_RUNNING_IN_RECURSION = 12721,55634
    PERLDOC = -MPod::Perldoc::ToTextOverstrike
    PERL_BATCH = yes
    PERL_CPAN_REPORTER_CONFIG = /var/tmp/cpansmoker-1023/N4V3EEW9rz_config.ini
    PERL_EXTUTILS_AUTOINSTALL = --defaultdeps
    PERL_HTML_DISPLAY_CLASS = HTML::Display::Mozilla
    SHELL = /usr/local/bin/zsh
    TERM = screen
    TMPDIR = /var/tmp/cpansmoker-1023

Perl special variables (and OS-specific diagnostics, for MSWin32):

    $^X = /usr/perl5.10.1/bin/perl5.10.1
    $UID/$EUID = 1023 / 1023
    $GID = 1023 1023
    $EGID = 1023 1023

Perl module toolchain versions installed:

    Module              Have    
    ------------------- --------
    CPAN                1.9402  
    CPAN::Meta          2.141170
    Cwd                 3.47    
    ExtUtils::CBuilder  0.280216
    ExtUtils::Command   1.16    
    ExtUtils::Install   1.54    
    ExtUtils::MakeMaker 6.98    
    ExtUtils::Manifest  1.60    
    ExtUtils::ParseXS   3.24    
    File::Spec          3.47    
    JSON                2.90    
    JSON::PP            2.27203 
    Module::Build       0.4205  
    Module::Signature   0.73    
    Parse::CPAN::Meta   1.4414  
    Test::Harness       3.30    
    Test::More          1.001003
    YAML                0.92    
    YAML::Syck          1.27    
    version             0.9908  


--

Summary of my perl5 (revision 5 version 10 subversion 1) configuration:
   
  Platform:
    osname=freebsd, osvers=9.2-release-p4, archname=amd64-freebsd
    uname='freebsd cvrsnica-freebsd-92 9.2-release-p4 freebsd 9.2-release-p4 #0: tue apr 8 18:08:22 utc 2014 root@amd64-builder.daemonology.net:usrobjusrsrcsysgeneric amd64 '
    config_args='-ds -e -Dprefix=/usr/perl5.10.1'
    hint=recommended, useposix=true, d_sigaction=define
    useithreads=undef, usemultiplicity=undef
    useperlio=define, d_sfio=undef, uselargefiles=define, usesocks=undef
    use64bitint=define, use64bitall=define, uselongdouble=undef
    usemymalloc=n, bincompat5005=undef
  Compiler:
    cc='cc', ccflags ='-DHAS_FPSETMASK -DHAS_FLOATINGPOINT_H -fno-strict-aliasing -pipe -fstack-protector -I/usr/local/include',
    optimize='-O',
    cppflags='-DHAS_FPSETMASK -DHAS_FLOATINGPOINT_H -fno-strict-aliasing -pipe -fstack-protector -I/usr/local/include'
    ccversion='', gccversion='4.2.1 20070831 patched [FreeBSD]', gccosandvers=''
    intsize=4, longsize=8, ptrsize=8, doublesize=8, byteorder=12345678
    d_longlong=define, longlongsize=8, d_longdbl=define, longdblsize=16
    ivtype='long', ivsize=8, nvtype='double', nvsize=8, Off_t='off_t', lseeksize=8
    alignbytes=8, prototype=define
  Linker and Libraries:
    ld='cc', ldflags ='-Wl,-E  -fstack-protector -L/usr/local/lib'
    libpth=/usr/lib /usr/local/lib
    libs=-lgdbm -lm -lcrypt -lutil -lc
    perllibs=-lm -lcrypt -lutil -lc
    libc=, so=so, useshrplib=false, libperl=libperl.a
    gnulibc_version=''
  Dynamic Linking:
    dlsrc=dl_dlopen.xs, dlext=so, d_dlsymun=undef, ccdlflags=' '
    cccdlflags='-DPIC -fPIC', lddlflags='-shared  -L/usr/local/lib -fstack-protector'


Characteristics of this binary (from libperl): 
  Compile-time options: PERL_DONT_CREATE_GVSV PERL_MALLOC_WRAP USE_64_BIT_ALL
                        USE_64_BIT_INT USE_LARGE_FILES USE_PERLIO
  Built under freebsd
  Compiled at May 15 2014 23:30:26
  %ENV:
    PERL5LIB=""
    PERL5OPT=""
    PERL5_CPANPLUS_IS_RUNNING="55634"
    PERL5_CPAN_IS_RUNNING="55634"
    PERL5_CPAN_IS_RUNNING_IN_RECURSION="12721,55634"
    PERLDOC="-MPod::Perldoc::ToTextOverstrike"
    PERL_BATCH="yes"
    PERL_CPAN_REPORTER_CONFIG="/var/tmp/cpansmoker-1023/N4V3EEW9rz_config.ini"
    PERL_EXTUTILS_AUTOINSTALL="--defaultdeps"
    PERL_HTML_DISPLAY_CLASS="HTML::Display::Mozilla"
  @INC:
    /usr/perl5.10.1/lib/5.10.1/amd64-freebsd
    /usr/perl5.10.1/lib/5.10.1
    /usr/perl5.10.1/lib/site_perl/5.10.1/amd64-freebsd
    /usr/perl5.10.1/lib/site_perl/5.10.1
    .