Report for MAD-Loader-3.001003

Back
From: metabase:user:30ae4450-2aae-11df-837a-5e0a49663a4f
Subject: PASS MAD-Loader-3.001003 v5.16.2 GNU/Linux
Date: 2015-03-15T20:07:39Z

This distribution has been tested as part of the CPAN Testers
project, supporting the Perl programming language.  See
http://wiki.cpantesters.org/ for more information or email
questions to cpan-testers-discuss@perl.org


--
Dear Blabos de Blebe,

This is a computer-generated report for MAD-Loader-3.001003
on perl 5.16.2, created by CPAN-Reporter-1.2010.

Thank you for uploading your work to CPAN.  Congratulations!
All tests were successful.

Sections of this report:

    * Tester comments
    * Program output
    * Prerequisites
    * Environment and other context

------------------------------
TESTER COMMENTS
------------------------------

Additional comments from tester:

this report is from an automated smoke testing program
and was not reviewed by a human for accuracy

------------------------------
PROGRAM OUTPUT
------------------------------

Output from '/usr/bin/make test':

PERL_DL_NONLAZY=1 "/home/c/perl5/perlbrew/perls/5.16.2i/bin/perl" "-MExtUtils::Command::MM" "-MTest::Harness" "-e" "undef *Test::Harness::Switches; test_harness(0, 'blib/lib', 'blib/arch')" t/*.t t/01-functions/*.t t/01-functions/01-fqn/*.t t/01-functions/02-load-module/*.t t/01-functions/03-build-object/*.t t/02-methods/01-new/*.t t/02-methods/02-load/*.t t/02-methods/03-build/*.t t/02-methods/04-load-and-build/*.t
t/01-functions/01-fqn/01-fqn.t ...................... ok
t/01-functions/02-load-module/01-without-prefix.t ... ok
t/01-functions/02-load-module/02-with-prefix.t ...... ok
t/01-functions/03-build-object/01-build.t ........... ok
t/01-functions/03-build-object/02-fail.t ............ ok
t/01-functions/04-load-and-new.t .................... ok
t/02-methods/01-new/01-new.t ........................ ok
t/02-methods/02-load/01-add-inc.t ................... ok
t/02-methods/02-load/02-set-inc.t ................... ok
t/02-methods/03-build/01-without-args.t ............. ok
t/02-methods/03-build/02-with-args.t ................ ok
t/02-methods/04-load-and-build/01-load-and-build.t .. ok
t/author-critic.t ................................... skipped: these tests are for testing by the author
t/release-pod-coverage.t ............................ skipped: these tests are for release candidate testing
t/release-pod-syntax.t .............................. skipped: these tests are for release candidate testing
All tests successful.
Files=15, Tests=51,  1 wallclock secs ( 0.05 usr  0.05 sys +  1.02 cusr  0.32 csys =  1.44 CPU)
Result: PASS

------------------------------
PREREQUISITES
------------------------------

Prerequisite modules loaded:

requires:

    Module                  Need     Have    
    ----------------------- -------- --------
    Carp                    1.12     1.26    
    Const::Fast             0.014    0.014   
    Moo                     1.004006 2.000000

build_requires:

    Module                  Need     Have    
    ----------------------- -------- --------
    ExtUtils::MakeMaker     0        7.04    
    File::Spec              3.47     3.47    
    Pod::Coverage::TrustPod 0.100003 0.100003
    Scalar::Util            1.38     1.41    
    Test::Most              0.34     0.34    
    Test::Perl::Critic      1.02     1.02    
    Test::Pod               1.41     1.45    
    Test::Pod::Coverage     1.08     1.08    

configure_requires:

    Module                  Need     Have    
    ----------------------- -------- --------
    ExtUtils::MakeMaker     6.30     7.04    


------------------------------
ENVIRONMENT AND OTHER CONTEXT
------------------------------

Environment variables:

    AUTOMATED_TESTING = 1
    LANG = ru_RU.utf8
    PATH = /home/c/perl5/perlbrew/bin:/home/c/perl5/perlbrew/perls/5.16.2i/bin:/usr/local/bin:/usr/bin:/bin:/usr/local/games:/usr/games
    PERL5LIB = /home/c/.cpan/build/Test-Most-0.34-53ILeE/blib/arch:/home/c/.cpan/build/Test-Most-0.34-53ILeE/blib/lib:/home/c/.cpan/build/Const-Fast-0.014-x6DmfY/blib/arch:/home/c/.cpan/build/Const-Fast-0.014-x6DmfY/blib/lib:/home/c/.cpan/build/Moo-2.000000-dxNGwJ/blib/arch:/home/c/.cpan/build/Moo-2.000000-dxNGwJ/blib/lib:/home/c/.cpan/build/Module-Runtime-0.014-L5_a0Q/blib/arch:/home/c/.cpan/build/Module-Runtime-0.014-L5_a0Q/blib/lib:/home/c/.cpan/build/Role-Tiny-2.000000-oSJ3Hy/blib/arch:/home/c/.cpan/build/Role-Tiny-2.000000-oSJ3Hy/blib/lib:/home/c/.cpan/build/PathTools-3.47-OymkCY/blib/arch:/home/c/.cpan/build/PathTools-3.47-OymkCY/blib/lib:/home/c/.cpan/build/Pod-Coverage-TrustPod-0.100003-d4GURK/blib/arch:/home/c/.cpan/build/Pod-Coverage-TrustPod-0.100003-d4GURK/blib/lib:/home/c/.cpan/build/Scalar-List-Utils-1.41-aMqeb2/blib/arch:/home/c/.cpan/build/Scalar-List-Utils-1.41-aMqeb2/blib/lib
    PERL5OPT = 
    PERL5_CPANPLUS_IS_RUNNING = 17133
    PERL5_CPAN_IS_RUNNING = 17133
    PERL5_CPAN_IS_RUNNING_IN_RECURSION = 28586,17133
    PERLBREW_MANPATH = /home/c/perl5/perlbrew/perls/5.16.2i/man
    PERLBREW_PATH = /home/c/perl5/perlbrew/bin:/home/c/perl5/perlbrew/perls/5.16.2i/bin
    PERLBREW_PERL = 5.16.2i
    PERLBREW_ROOT = /home/c/perl5/perlbrew
    PERLBREW_SKIP_INIT = 1
    PERLBREW_VERSION = 0.58
    PERL_CR_SMOKER_CURRENT = MAD-Loader-3.001003
    PERL_EXTUTILS_AUTOINSTALL = --defaultdeps
    PERL_MM_USE_DEFAULT = 1
    SHELL = /bin/bash
    TERM = xterm

Perl special variables (and OS-specific diagnostics, for MSWin32):

    $^X = /home/c/perl5/perlbrew/perls/5.16.2i/bin/perl
    $UID/$EUID = 1000 / 1000
    $GID = 1000 24 25 27 29 30 44 46 108 109 115 1000 1001
    $EGID = 1000 24 25 27 29 30 44 46 108 109 115 1000 1001

Perl module toolchain versions installed:

    Module              Have    
    ------------------- --------
    CPAN                2.00    
    CPAN::Meta          2.120921
    Cwd                 3.47    
    ExtUtils::CBuilder  0.280206
    ExtUtils::Command   1.17    
    ExtUtils::Install   1.58    
    ExtUtils::MakeMaker 7.04    
    ExtUtils::Manifest  1.65    
    ExtUtils::ParseXS   3.16    
    File::Spec          3.47    
    JSON                2.53    
    JSON::PP            2.27203 
    Module::Build       0.4005  
    Module::Signature   0.70    
    Parse::CPAN::Meta   1.4404  
    Test::Harness       3.30    
    Test::More          0.98    
    YAML                0.84    
    YAML::Syck          1.22    
    version             0.9901  


--

Summary of my perl5 (revision 5 version 16 subversion 2) configuration:
   
  Platform:
    osname=linux, osvers=2.6.32-5-686, archname=i686-linux-thread-multi
    uname='linux deb1 2.6.32-5-686 #1 smp sun sep 23 09:49:36 utc 2012 i686 gnulinux '
    config_args='-de -Dprefix=/home/c/perl5/perlbrew/perls/5.16.2i -Dusethreads -Aeval:scriptdir=/home/c/perl5/perlbrew/perls/5.16.2i/bin'
    hint=recommended, useposix=true, d_sigaction=define
    useithreads=define, usemultiplicity=define
    useperlio=define, d_sfio=undef, uselargefiles=define, usesocks=undef
    use64bitint=undef, use64bitall=undef, uselongdouble=undef
    usemymalloc=n, bincompat5005=undef
  Compiler:
    cc='cc', ccflags ='-D_REENTRANT -D_GNU_SOURCE -fno-strict-aliasing -pipe -fstack-protector -I/usr/local/include -D_LARGEFILE_SOURCE -D_FILE_OFFSET_BITS=64',
    optimize='-O2',
    cppflags='-D_REENTRANT -D_GNU_SOURCE -fno-strict-aliasing -pipe -fstack-protector -I/usr/local/include'
    ccversion='', gccversion='4.4.5', gccosandvers=''
    intsize=4, longsize=4, ptrsize=4, doublesize=8, byteorder=1234
    d_longlong=define, longlongsize=8, d_longdbl=define, longdblsize=12
    ivtype='long', ivsize=4, nvtype='double', nvsize=8, Off_t='off_t', lseeksize=8
    alignbytes=4, prototype=define
  Linker and Libraries:
    ld='cc', ldflags =' -fstack-protector -L/usr/local/lib'
    libpth=/usr/local/lib /lib/../lib /usr/lib/../lib /lib /usr/lib /usr/lib/i486-linux-gnu /usr/lib64
    libs=-lnsl -lgdbm -ldb -ldl -lm -lcrypt -lutil -lpthread -lc -lgdbm_compat
    perllibs=-lnsl -ldl -lm -lcrypt -lutil -lpthread -lc
    libc=/lib/libc-2.11.3.so, so=so, useshrplib=false, libperl=libperl.a
    gnulibc_version='2.11.3'
  Dynamic Linking:
    dlsrc=dl_dlopen.xs, dlext=so, d_dlsymun=undef, ccdlflags='-Wl,-E'
    cccdlflags='-fPIC', lddlflags='-shared -O2 -L/usr/local/lib -fstack-protector'


Characteristics of this binary (from libperl): 
  Compile-time options: HAS_TIMES MULTIPLICITY PERLIO_LAYERS
                        PERL_DONT_CREATE_GVSV PERL_IMPLICIT_CONTEXT
                        PERL_MALLOC_WRAP PERL_PRESERVE_IVUV USE_ITHREADS
                        USE_LARGE_FILES USE_LOCALE USE_LOCALE_COLLATE
                        USE_LOCALE_CTYPE USE_LOCALE_NUMERIC USE_PERLIO
                        USE_PERL_ATOF USE_REENTRANT_API
  Built under linux
  Compiled at Jan 26 2013 16:12:36
  %ENV:
    PERL5LIB="/home/c/.cpan/build/Test-Most-0.34-53ILeE/blib/arch:/home/c/.cpan/build/Test-Most-0.34-53ILeE/blib/lib:/home/c/.cpan/build/Const-Fast-0.014-x6DmfY/blib/arch:/home/c/.cpan/build/Const-Fast-0.014-x6DmfY/blib/lib:/home/c/.cpan/build/Moo-2.000000-dxNGwJ/blib/arch:/home/c/.cpan/build/Moo-2.000000-dxNGwJ/blib/lib:/home/c/.cpan/build/Module-Runtime-0.014-L5_a0Q/blib/arch:/home/c/.cpan/build/Module-Runtime-0.014-L5_a0Q/blib/lib:/home/c/.cpan/build/Role-Tiny-2.000000-oSJ3Hy/blib/arch:/home/c/.cpan/build/Role-Tiny-2.000000-oSJ3Hy/blib/lib:/home/c/.cpan/build/PathTools-3.47-OymkCY/blib/arch:/home/c/.cpan/build/PathTools-3.47-OymkCY/blib/lib:/home/c/.cpan/build/Pod-Coverage-TrustPod-0.100003-d4GURK/blib/arch:/home/c/.cpan/build/Pod-Coverage-TrustPod-0.100003-d4GURK/blib/lib:/home/c/.cpan/build/Scalar-List-Utils-1.41-aMqeb2/blib/arch:/home/c/.cpan/build/Scalar-List-Utils-1.41-aMqeb2/blib/lib"
    PERL5OPT=""
    PERL5_CPANPLUS_IS_RUNNING="17133"
    PERL5_CPAN_IS_RUNNING="17133"
    PERL5_CPAN_IS_RUNNING_IN_RECURSION="28586,17133"
    PERLBREW_MANPATH="/home/c/perl5/perlbrew/perls/5.16.2i/man"
    PERLBREW_PATH="/home/c/perl5/perlbrew/bin:/home/c/perl5/perlbrew/perls/5.16.2i/bin"
    PERLBREW_PERL="5.16.2i"
    PERLBREW_ROOT="/home/c/perl5/perlbrew"
    PERLBREW_SKIP_INIT="1"
    PERLBREW_VERSION="0.58"
    PERL_CR_SMOKER_CURRENT="MAD-Loader-3.001003"
    PERL_EXTUTILS_AUTOINSTALL="--defaultdeps"
    PERL_MM_USE_DEFAULT="1"
  @INC:
    /home/c/.cpan/build/Test-Most-0.34-53ILeE/blib/arch
    /home/c/.cpan/build/Test-Most-0.34-53ILeE/blib/lib
    /home/c/.cpan/build/Const-Fast-0.014-x6DmfY/blib/arch
    /home/c/.cpan/build/Const-Fast-0.014-x6DmfY/blib/lib
    /home/c/.cpan/build/Moo-2.000000-dxNGwJ/blib/arch
    /home/c/.cpan/build/Moo-2.000000-dxNGwJ/blib/lib
    /home/c/.cpan/build/Module-Runtime-0.014-L5_a0Q/blib/arch
    /home/c/.cpan/build/Module-Runtime-0.014-L5_a0Q/blib/lib
    /home/c/.cpan/build/Role-Tiny-2.000000-oSJ3Hy/blib/arch
    /home/c/.cpan/build/Role-Tiny-2.000000-oSJ3Hy/blib/lib
    /home/c/.cpan/build/PathTools-3.47-OymkCY/blib/arch
    /home/c/.cpan/build/PathTools-3.47-OymkCY/blib/lib
    /home/c/.cpan/build/Pod-Coverage-TrustPod-0.100003-d4GURK/blib/arch
    /home/c/.cpan/build/Pod-Coverage-TrustPod-0.100003-d4GURK/blib/lib
    /home/c/.cpan/build/Scalar-List-Utils-1.41-aMqeb2/blib/arch
    /home/c/.cpan/build/Scalar-List-Utils-1.41-aMqeb2/blib/lib
    /home/c/perl5/perlbrew/perls/5.16.2i/lib/site_perl/5.16.2/i686-linux-thread-multi
    /home/c/perl5/perlbrew/perls/5.16.2i/lib/site_perl/5.16.2
    /home/c/perl5/perlbrew/perls/5.16.2i/lib/5.16.2/i686-linux-thread-multi
    /home/c/perl5/perlbrew/perls/5.16.2i/lib/5.16.2
    .