Report for Text-VimColor-0.24

Back
From: metabase:user:320bfe00-2aae-11df-837a-5e0a49663a4f
Subject: PASS Text-VimColor-0.24 v5.20.2 RC1 GNU/Linux
Date: 2015-02-08T11:16:30Z

This distribution has been tested as part of the CPAN Testers
project, supporting the Perl programming language.  See
http://wiki.cpantesters.org/ for more information or email
questions to cpan-testers-discuss@perl.org


--
Dear Randy Stauner,

This is a computer-generated report for Text-VimColor-0.24
on perl 5.20.2, created by CPAN-Reporter-1.2011.

Thank you for uploading your work to CPAN.  Congratulations!
All tests were successful.

Sections of this report:

    * Tester comments
    * Program output
    * Prerequisites
    * Environment and other context

------------------------------
TESTER COMMENTS
------------------------------

Additional comments from tester:

this report is from an automated smoke testing program
and was not reviewed by a human for accuracy

------------------------------
PROGRAM OUTPUT
------------------------------

Output from '/usr/bin/make test':

Skip blib/lib/auto/share/dist/Text-VimColor/light.css (unchanged)
Skip blib/lib/auto/share/dist/Text-VimColor/light.xsl (unchanged)
Skip blib/lib/auto/share/dist/Text-VimColor/mark.vim (unchanged)
PERL_DL_NONLAZY=1 "/tmp/basesmoker-reloperl-K7XP/bin/perl" "-MExtUtils::Command::MM" "-MTest::Harness" "-e" "undef *Test::Harness::Switches; test_harness(0, 'blib/lib', 'blib/arch')" t/*.t
t/00-compile.t ......... ok
# 
# Versions for all modules listed in MYMETA.json (including optional ones):
#    Version Module                  
#   -------- ------------------------
#   2.143240 CPAN::Meta              
#      2.131 CPAN::Meta::Requirements
#     1.3301 Carp                    
#       5.71 Exporter                
#    7.05_12 ExtUtils::MakeMaker     
#       2.30 File::Copy              
#      1.102 File::ShareDir          
#       0.10 File::ShareDir::Install 
#    3.48_01 File::Spec              
#    3.48_01 File::Spec::Functions   
#     0.2304 File::Temp              
#       2.42 Getopt::Long            
#       1.16 IO::File                
#       1.35 IO::Handle              
#       1.16 IPC::Open3              
#       1.41 List::Util              
#       0.35 Path::Class             
#       1.07 Symbol                  
#       4.03 Term::ANSIColor         
#   1.001014 Test::More              
#       1.31 constant                
#       0.63 lib                     
#       1.08 strict                  
#     0.9909 version                 
#       1.23 warnings                
t/00-report-prereqs.t .. ok
# vim --version
# 
# VIM - Vi IMproved 7.4 (2013 Aug 10, compiled Dec 30 2014 04:22:18)
# Included patches: 1-488
# Modified by pkg-vim-maintainers@lists.alioth.debian.org
# Compiled by jamessan@
# Huge version without GUI.  Features included (+) or not (-):
# +acl             +farsi           +mouse_netterm   +syntax
# +arabic          +file_in_path    +mouse_sgr       +tag_binary
# +autocmd         +find_in_path    -mouse_sysmouse  +tag_old_static
# -balloon_eval    +float           +mouse_urxvt     -tag_any_white
# -browse          +folding         +mouse_xterm     -tcl
# ++builtin_terms  -footer          +multi_byte      +terminfo
# +byte_offset     +fork()          +multi_lang      +termresponse
# +cindent         +gettext         -mzscheme        +textobjects
# -clientserver    -hangul_input    +netbeans_intg   +title
# -clipboard       +iconv           +path_extra      -toolbar
# +cmdline_compl   +insert_expand   -perl            +user_commands
# +cmdline_hist    +jumplist        +persistent_undo +vertsplit
# +cmdline_info    +keymap          +postscript      +virtualedit
# +comments        +langmap         +printer         +visual
# +conceal         +libcall         +profile         +visualextra
# +cryptv          +linebreak       -python          +viminfo
# +cscope          +lispindent      -python3         +vreplace
# +cursorbind      +listcmds        +quickfix        +wildignore
# +cursorshape     +localmap        +reltime         +wildmenu
# +dialog_con      -lua             +rightleft       +windows
# +diff            +menu            -ruby            +writebackup
# +digraphs        +mksession       +scrollbind      -X11
# -dnd             +modify_fname    +signs           -xfontset
# -ebcdic          +mouse           +smartindent     -xim
# +emacs_tags      -mouseshape      -sniff           -xsmp
# +eval            +mouse_dec       +startuptime     -xterm_clipboard
# +ex_extra        +mouse_gpm       +statusline      -xterm_save
# +extra_search    -mouse_jsbterm   -sun_workshop    -xpm
#    system vimrc file: "$VIM/vimrc"
#      user vimrc file: "$HOME/.vimrc"
#  2nd user vimrc file: "~/.vim/vimrc"
#       user exrc file: "$HOME/.exrc"
#   fall-back for $VIM: "/usr/share/vim"
# Compilation: gcc -c -I. -Iproto -DHAVE_CONFIG_H     -g -O2 -fPIE -fstack-protector-strong -Wformat -Werror=format-security -U_FORTIFY_SOURCE -D_FORTIFY_SOURCE=1      
# Linking: gcc   -fPIE -pie -Wl,-z,relro -Wl,-z,now -Wl,--as-needed -o vim        -lm -ltinfo -lnsl  -lselinux -lacl -lattr -lgpm -ldl          
# 
t/000-vim-version.t .... ok
t/ansi.t ............... ok
t/bin.t ................ ok
t/compare-formats.t .... ok
t/encoding.t ........... ok
t/html.t ............... ok
t/input_filename.t ..... ok
t/new.t ................ ok
t/override-options.t ... ok
t/share-dir.t .......... ok
t/tvctestsyn.t ......... ok
t/untie-std-handles.t .. ok
t/vim_let.t ............ ok
t/vim_options.t ........ ok
t/xml.t ................ ok
All tests successful.

Test Summary Report
-------------------
t/encoding.t         (Wstat: 0 Tests: 8 Failed: 0)
  TODO passed:   5-6
Files=17, Tests=136,  2 wallclock secs ( 0.08 usr  0.01 sys +  2.40 cusr  0.26 csys =  2.75 CPU)
Result: PASS

------------------------------
PREREQUISITES
------------------------------

Prerequisite modules loaded:

requires:

    Module                  Need Have    
    ----------------------- ---- --------
    Carp                    0    1.3301  
    constant                0    1.31    
    File::Copy              0    2.30    
    File::ShareDir          0    1.102   
    File::Temp              0    0.2304  
    Getopt::Long            0    2.42    
    IO::File                0    1.16    
    IPC::Open3              0    1.16    
    Path::Class             0.04 0.35    
    strict                  0    1.08    
    Symbol                  0    1.07    
    Term::ANSIColor         1.03 4.03    
    warnings                0    1.23    

build_requires:

    Module                  Need Have    
    ----------------------- ---- --------
    Exporter                0    5.71    
    ExtUtils::MakeMaker     0    7.05_12 
    File::Spec              0    3.48_01 
    File::Spec::Functions   0    3.48_01 
    File::Temp              0    0.2304  
    IO::Handle              0    1.35    
    IPC::Open3              0    1.16    
    lib                     0    0.63    
    List::Util              0    1.41    
    Path::Class             0.04 0.35    
    Test::More              0.88 1.001014
    version                 0    0.9909  

configure_requires:

    Module                  Need Have    
    ----------------------- ---- --------
    ExtUtils::MakeMaker     6.30 7.05_12 
    File::ShareDir::Install 0.03 0.10    
    File::Temp              0    0.2304  
    IO::File                0    1.16    
    IPC::Open3              0    1.16    
    strict                  0    1.08    
    warnings                0    1.23    


------------------------------
ENVIRONMENT AND OTHER CONTEXT
------------------------------

Environment variables:

    AUTOMATED_TESTING = 1
    LANG = en_US.UTF-8
    LANGUAGE = en_US:en
    PATH = /home/sand/bin:/usr/local/bin:/usr/bin:/bin:/usr/games:/usr/local/perl/bin:/usr/X11/bin:/sbin:/usr/sbin
    PERL5LIB = 
    PERL5OPT = 
    PERL5_CPANPLUS_IS_RUNNING = 8515
    PERL5_CPAN_IS_RUNNING = 8515
    PERL_MM_USE_DEFAULT = 1
    SHELL = /usr/bin/zsh
    TERM = screen

Perl special variables (and OS-specific diagnostics, for MSWin32):

    $^X = /tmp/basesmoker-reloperl-K7XP/bin/perl
    $UID/$EUID = 1005 / 1005
    $GID = 1005 1005
    $EGID = 1005 1005

Perl module toolchain versions installed:

    Module              Have    
    ------------------- --------
    CPAN                2.05    
    CPAN::Meta          2.143240
    Cwd                 3.48_01 
    ExtUtils::CBuilder  0.280220
    ExtUtils::Command   7.05_12 
    ExtUtils::Install   1.67    
    ExtUtils::MakeMaker 7.05_12 
    ExtUtils::Manifest  1.70    
    ExtUtils::ParseXS   3.24    
    File::Spec          3.48_01 
    JSON                2.90    
    JSON::PP            2.27203 
    Module::Build       0.4211  
    Module::Signature   0.73    
    Parse::CPAN::Meta   1.4414  
    Test::Harness       3.35    
    Test::More          1.001014
    YAML                1.14    
    YAML::Syck          1.29    
    version             0.9909  


--

Summary of my perl5 (revision 5 version 20 subversion 2) configuration:
  Commit id: a920fedcd88708027dc9204b8d8abac1638789d4
  Platform:
    osname=linux, osvers=3.16.0-4-amd64, archname=x86_64-linux-thread-multi-ld
    uname='linux k83 3.16.0-4-amd64 #1 smp debian 3.16.7-ckt2-1 (2014-12-08) x86_64 gnulinux '
    config_args='-Dprefix=/home/sand/src/perl/repoperls/installed-perls/perl/v5.20.2-RC1/a2da -Dmyhostname=k83 -Dinstallusrbinperl=n -Uversiononly -Dusedevel -des -Ui_db -Duseithreads -Duselongdouble -DDEBUGGING=-g'
    hint=recommended, useposix=true, d_sigaction=define
    useithreads=define, usemultiplicity=define
    use64bitint=define, use64bitall=define, uselongdouble=define
    usemymalloc=n, bincompat5005=undef
  Compiler:
    cc='cc', ccflags ='-D_REENTRANT -D_GNU_SOURCE -fwrapv -fno-strict-aliasing -pipe -fstack-protector -I/usr/local/include -D_LARGEFILE_SOURCE -D_FILE_OFFSET_BITS=64',
    optimize='-O2 -g',
    cppflags='-D_REENTRANT -D_GNU_SOURCE -fwrapv -fno-strict-aliasing -pipe -fstack-protector -I/usr/local/include'
    ccversion='', gccversion='4.9.2', gccosandvers=''
    intsize=4, longsize=8, ptrsize=8, doublesize=8, byteorder=12345678
    d_longlong=define, longlongsize=8, d_longdbl=define, longdblsize=16
    ivtype='long', ivsize=8, nvtype='long double', nvsize=16, Off_t='off_t', lseeksize=8
    alignbytes=16, prototype=define
  Linker and Libraries:
    ld='cc', ldflags =' -fstack-protector -L/usr/local/lib'
    libpth=/usr/local/lib /usr/lib/gcc/x86_64-linux-gnu/4.9/include-fixed /usr/include/x86_64-linux-gnu /usr/lib /lib/x86_64-linux-gnu /lib/../lib /usr/lib/x86_64-linux-gnu /usr/lib/../lib /lib
    libs=-lnsl -lgdbm -ldb -ldl -lm -lcrypt -lutil -lpthread -lc -lgdbm_compat
    perllibs=-lnsl -ldl -lm -lcrypt -lutil -lpthread -lc
    libc=libc-2.19.so, so=so, useshrplib=false, libperl=libperl.a
    gnulibc_version='2.19'
  Dynamic Linking:
    dlsrc=dl_dlopen.xs, dlext=so, d_dlsymun=undef, ccdlflags='-Wl,-E'
    cccdlflags='-fPIC', lddlflags='-shared -O2 -g -L/usr/local/lib -fstack-protector'


Characteristics of this binary (from libperl): 
  Compile-time options: HAS_TIMES MULTIPLICITY PERLIO_LAYERS
                        PERL_DONT_CREATE_GVSV
                        PERL_HASH_FUNC_ONE_AT_A_TIME_HARD
                        PERL_IMPLICIT_CONTEXT PERL_MALLOC_WRAP
                        PERL_NEW_COPY_ON_WRITE PERL_PRESERVE_IVUV
                        PERL_USE_DEVEL USE_64_BIT_ALL USE_64_BIT_INT
                        USE_ITHREADS USE_LARGE_FILES USE_LOCALE
                        USE_LOCALE_COLLATE USE_LOCALE_CTYPE
                        USE_LOCALE_NUMERIC USE_LONG_DOUBLE USE_PERLIO
                        USE_PERL_ATOF USE_REENTRANT_API
  Locally applied patches:
	RC1
  Built under linux
  Compiled at Feb  1 2015 07:01:11
  %ENV:
    PERL5LIB=""
    PERL5OPT=""
    PERL5_CPANPLUS_IS_RUNNING="8515"
    PERL5_CPAN_IS_RUNNING="8515"
    PERL_MM_USE_DEFAULT="1"
  @INC:
    /home/sand/src/perl/repoperls/installed-perls/perl/v5.20.2-RC1/a2da/lib/site_perl/5.20.2/x86_64-linux-thread-multi-ld
    /home/sand/src/perl/repoperls/installed-perls/perl/v5.20.2-RC1/a2da/lib/site_perl/5.20.2
    /home/sand/src/perl/repoperls/installed-perls/perl/v5.20.2-RC1/a2da/lib/5.20.2/x86_64-linux-thread-multi-ld
    /home/sand/src/perl/repoperls/installed-perls/perl/v5.20.2-RC1/a2da/lib/5.20.2
    .