Crypt-OpenSSL-PKCS10 v0.28-TRIAL Perl 5 v5.24.0 OpenBSD.amd64-openbsd

Status
Pass
From
Chris Williams (BINGOS)
Dist
Crypt-OpenSSL-PKCS10 v0.28-TRIAL
Platform
Perl 5 v5.24.0 OpenBSD.amd64-openbsd
Date
2025-01-26 12:13:20
ID
eed752f4-dbde-11ef-98b0-b3c3213a625c
This distribution has been tested as part of the CPAN Testers
project, supporting the Perl programming language.  See
http://wiki.cpantesters.org/ for more information or email
questions to cpan-testers-discuss@perl.org


--

Dear TIMLEGGE,

This is a computer-generated error report created automatically by
CPANPLUS, version 0.9914. Testers personal comments may appear
at the end of this report.


Thank you for uploading your work to CPAN.  Congratulations!
All tests were successful.

TEST RESULTS:

Below is the error stack from stage 'make test':

"/home/cpan/pit/bare/perl-5.24.0/bin/perl" -MExtUtils::Command::MM -e 'cp_nonempty' -- PKCS10.bs blib/arch/auto/Crypt/OpenSSL/PKCS10/PKCS10.bs 644
PERL_DL_NONLAZY=1 "/home/cpan/pit/bare/perl-5.24.0/bin/perl" "-MExtUtils::Command::MM" "-MTest::Harness" "-e" "undef *Test::Harness::Switches; test_harness(0, 'blib/lib', 'blib/arch')" t/*.t
t/10-rsa-keys.t ........ ok
t/20-ec.t .............. ok
t/30-ec-keys.t ......... ok
t/author-pod-spell.t ... skipped: these tests are for testing by the author
t/author-pod-syntax.t .. skipped: these tests are for testing by the author
-----BEGIN CERTIFICATE REQUEST-----
MIIBPzCBqQIBADAAMIGfMA0GCSqGSIb3DQEBAQUAA4GNADCBiQKBgQDokf4LaASf
Va2g8Gey0uBmsA3RahsKUKyFftQiLvXiBlYCOuwTn0ZeCnBgB/NlNytoFS7YbdYc
SUDY6nPR2EfHrI5p7BtEup5q8PRn/3oTjzzgROVfRibPFrnCRDHh4OXj8BOTi6bU
/scYzrpQpJhv3YAvV8HFgukahDKt43oc6wIDAQABoAAwDQYJKoZIhvcNAQELBQAD
gYEAZnHWNQ2NZ4Ymm51VRoHiIqQCBZ/wS7C70NcXSoQZUkzdf61Z1dnJwiUps8mB
gRjgJd4Wy8MdKTf41IDTTeh/iDNlTxf+x47AwxaNcg4QVpAw5mPfG+FakK4SKLMV
bt8FQ5PkGnAUoONtkx9r1m0dBbvSnUcu8HEIfiI7ECBu79o=
-----END CERTIFICATE REQUEST-----
-----BEGIN PRIVATE KEY-----
MIICeAIBADANBgkqhkiG9w0BAQEFAASCAmIwggJeAgEAAoGBAOiR/gtoBJ9VraDw
Z7LS4GawDdFqGwpQrIV+1CIu9eIGVgI67BOfRl4KcGAH82U3K2gVLtht1hxJQNjq
c9HYR8esjmnsG0S6nmrw9Gf/ehOPPOBE5V9GJs8WucJEMeHg5ePwE5OLptT+xxjO
ulCkmG/dgC9XwcWC6RqEMq3jehzrAgMBAAECgYEAv66sIryNqsFUBKR/43w4pYoP
KX15YewR9UkOEEqCL9MnClmD/7wzpAiYjB2hdtecuAFVhd4pLVEW2HGMGfVXWmG6
IMUZ/47hnuD4uxcM6FO82Bx4epwOTKlvhwMVnk90TNR97AljsgaLUFte6vVupOQA
ogj5TQLNUZNUV4bpxAkCQQD6qwJ/TXQIIuQz2pxDPEZLUNHs32vZjPAo9sTQ2pzY
bPulqCf8G2vGuN6RbsZPDvoywpe17O+H7F0/NMNijaWlAkEA7YRu3WUTV/L+fxKy
JfCoCycHhu0xFhoth1PeDIj5kSA+4YchCpEsFEpPRQ6UkJxrqLIHJxVc+kn8RIEM
DrnTTwJAcb0wx+S0FpEGbQTvzI5H8xq79jg2bqNFwcCe84mOi6F/2d3gLsOedrAh
xWm3L95C5s9nGVRmJ423jdt6IHjXRQJBAMe9LCJg4rB+d4jTZx9Cz355dvn/s9zb
bNg2LjCqa/2geWDda2rghIoXp6vyQ/uMn3jBJgS3EXamC1BsmYA0wz8CQQCUWDdN
nJUOzO6sHC20/OAFjQYZxgvB66SW8xAw1HuSFCnnHBMN2yuBsAquIhfNywSi1tfc
BtkVdOSq9TbUWg4U
-----END PRIVATE KEY-----


RSA Public-Key: (1024 bit)
Modulus:

-----BEGIN CERTIFICATE REQUEST-----
MIIBPzCBqQIBADAAMIGfMA0GCSqGSIb3DQEBAQUAA4GNADCBiQKBgQDuh9hbcZSy
+NAL4mJ9sjkLmHFlpnfay6oXoYozEMJg6EPpRpg4JdloXGMpvcXuHTD/gLpnmB6G
0sp85i4O5grkaL1nTlKcWdjxyDHbL3KvATg6P+ac/ifaCNzAKXwTd3DEkhmS8dkc
87psRggpWZIzPdgZWMjbuUSpiHBqAgX/jQIDAQABoAAwDQYJKoZIhvcNAQELBQAD
gYEA4KGldl2QtaxTeGbHBAqEh92WOKHjZyADH0pVZJn61rF0h0vwwY5nlN8SyOSG
DDwb6yp2BgP9oTfFI3eHPiJalSy5/MQsPmqV2p2hl4pd8HmCEZCZuASf3Leq+sSv
WjpiSkY3OgCuPpXk8MPWB/J0bebzEjAPXCGZ8/TaxAxukIE=
-----END CERTIFICATE REQUEST-----

RSA Public-Key: (1024 bit)
Modulus:

rsa
-----BEGIN PUBLIC KEY-----
MIGfMA0GCSqGSIb3DQEBAQUAA4GNADCBiQKBgQDuh9hbcZSy+NAL4mJ9sjkLmHFl
pnfay6oXoYozEMJg6EPpRpg4JdloXGMpvcXuHTD/gLpnmB6G0sp85i4O5grkaL1n
TlKcWdjxyDHbL3KvATg6P+ac/ifaCNzAKXwTd3DEkhmS8dkc87psRggpWZIzPdgZ
WMjbuUSpiHBqAgX/jQIDAQAB
-----END PUBLIC KEY-----

-----BEGIN CERTIFICATE REQUEST-----
MIIBPzCBqQIBADAAMIGfMA0GCSqGSIb3DQEBAQUAA4GNADCBiQKBgQDS7ynp3IjM
EoRWFP3Hkfx9NdL57tw92xQO+NKHd9+RzCB3DJ/Rx0IfimU8R08x8HZlNVCifTyn
lQ/AaZHoWMJwyG9Qo52q3Txz2zEQuneyihIbDeX64XdqFnZAgmQshqyf9FDHBmhC
7vddBjJXihgowXa59XSorxTTEWUU8Tj/nQIDAQABoAAwDQYJKoZIhvcNAQEMBQAD
gYEAWlbe8WbCe9Nm4fagve6Og9ic+158FQSOWoUTi5+PzqCzE1fxYQ1cPRWkiErp
zuqWvLR73r/6tdAQgbAwH+/oFD2dBRLKdT5auzp541i3oMTII4AG96CLUcHp75+S
QgXMX/LuQ34Je/GrlGTKkseB0tmj1lYQCVgzmcUaPxvK1I8=
-----END CERTIFICATE REQUEST-----

RSA Public-Key: (1024 bit)
Modulus:

rsa
-----BEGIN PUBLIC KEY-----
MIGfMA0GCSqGSIb3DQEBAQUAA4GNADCBiQKBgQDS7ynp3IjMEoRWFP3Hkfx9NdL5
7tw92xQO+NKHd9+RzCB3DJ/Rx0IfimU8R08x8HZlNVCifTynlQ/AaZHoWMJwyG9Q
o52q3Txz2zEQuneyihIbDeX64XdqFnZAgmQshqyf9FDHBmhC7vddBjJXihgowXa5
9XSorxTTEWUU8Tj/nQIDAQAB
-----END PUBLIC KEY-----

-----BEGIN CERTIFICATE REQUEST-----
MIICJzCCAZACAQAwKTELMAkGA1UEBhMCUk8xDDAKBgNVBAoMA1VUSTEMMAoGA1UE
CwwDc3NpMIGfMA0GCSqGSIb3DQEBAQUAA4GNADCBiQKBgQCx3uULOVCokkObb9Rg
FkDwpVChoT1nXYTF3jj/MzRdMhBphJlGseZaLL8hC7QyjZlwNfsqzyI3L++fP5ml
WEqu6GGInluQJkMwd3czyffDhVbpf+l5CgAU65tU2QmASprPKN7O7jOUAYaWuD1e
WaNWKKj0vB3je/VCO39krwRUiQIDAQABoIG9MIG6BgkqhkiG9w0BCQ4xgawwgakw
DgYDVR0PAQH/BAQDAgWgMC4GA1UdJQQnMCUGCCsGAQUFBwMBBglghkgBhvhCBAEG
CisGAQQBgjcKAwMGAisEMBwGA1UdEQQVMBOBEXN0ZXZlQG9wZW5zc2wub3JnMB0G
A1UdDgQWBBTFsQVtfe285fbh+yQ9fZ5Lo8zsDzAZBgMqAwMEEhYQTXkgbmV3IGV4
dGVuc2lvbjAPBgMqAwQECB4GAGEAYgBjMA0GCSqGSIb3DQEBCwUAA4GBAKVwqibG
AZm7iLdVC6i2Vys8vlXzEjCgT5Yvh8QQI1HazECmuI3EpJWdjzdNKMQ1NFbpzNX3
pvIJCTJONUF7cRO2H/Dp/y+s6izFw2H3uhAWlmz8dUUpQ4uEs/ec4A89fac0fiRR
uXFp3sAEFWHmpmY2bA6l1BSYORcW11RJfG/J
-----END CERTIFICATE REQUEST-----
RSA Public-Key: (1024 bit)
Modulus:

-----BEGIN PUBLIC KEY-----
MIGfMA0GCSqGSIb3DQEBAQUAA4GNADCBiQKBgQCx3uULOVCokkObb9RgFkDwpVCh
oT1nXYTF3jj/MzRdMhBphJlGseZaLL8hC7QyjZlwNfsqzyI3L++fP5mlWEqu6GGI
nluQJkMwd3czyffDhVbpf+l5CgAU65tU2QmASprPKN7O7jOUAYaWuD1eWaNWKKj0
vB3je/VCO39krwRUiQIDAQAB
-----END PUBLIC KEY-----

t/Mytest.t ............. ok
t/release-kwalitee.t ... skipped: these tests are for release candidate testing
t/release-meta-json.t .. skipped: these tests are for release candidate testing
All tests successful.
Files=8, Tests=719, 19 wallclock secs ( 0.06 usr  0.02 sys + 15.34 cusr  3.67 csys = 19.09 CPU)
Result: PASS


PREREQUISITES:

Here is a list of prerequisites you specified and versions we
managed to load:

	  Module Name                        Have     Want
	  Crypt::OpenSSL::Guess              0.15     0.11
	  Crypt::OpenSSL::RSA                0.33        0
	  Exporter                           5.72        0
	  File::Slurper                     0.014        0
	  File::Spec::Functions              3.75        0
	  File::Temp                       0.2311        0
	  Import::Into                   1.002005        0
	  Test::Lib                         0.003        0
	  Test::More                     1.302200        0
	  XSLoader                           0.21        0

Perl module toolchain versions installed:
	Module Name                        Have
	CPANPLUS                         0.9914
	CPANPLUS::Dist::Build              0.90
	Cwd                                3.75
	ExtUtils::CBuilder             0.280236
	ExtUtils::Command                  7.70
	ExtUtils::Install                  2.22
	ExtUtils::MakeMaker                7.70
	ExtUtils::Manifest                 1.75
	ExtUtils::ParseXS                  3.51
	File::Spec                         3.75
	Module::Build                    0.4234
	Pod::Parser                        1.63
	Pod::Simple                        3.32
	Test2                          1.302200
	Test::Harness                      3.48
	Test::More                     1.302200
	version                          0.9932

******************************** NOTE ********************************
The comments above are created mechanically, possibly without manual
checking by the sender.  As there are many people performing automatic
tests on each upload to CPAN, it is likely that you will receive
identical messages about the same problem.

If you believe that the message is mistaken, please reply to the first
one with correction and/or additional informations, and do not take
it personally.  We appreciate your patience. :)
**********************************************************************

Additional comments:


This report was machine-generated by CPANPLUS::Dist::YACSmoke 1.08.
Powered by minismokebox version 0.68

CPANPLUS is prefering Build.PL

------------------------------
ENVIRONMENT AND OTHER CONTEXT
------------------------------

Environment variables:

    AUTOMATED_TESTING = 1
    NONINTERACTIVE_TESTING = 1
    PATH = /home/cpan/bin:/bin:/sbin:/usr/bin:/usr/sbin:/usr/X11R6/bin:/usr/local/bin:/usr/local/sbin
    PERL5LIB = /home/cpan/pit/jail/VCy0A3FtEH/lib/perl5:/home/cpan/pit/bare/conf/perl-5.24.0/.cpanplus/5.24.0/build/x5pxZ51zPN/Crypt-OpenSSL-PKCS10-0.28/blib/lib:/home/cpan/pit/bare/conf/perl-5.24.0/.cpanplus/5.24.0/build/x5pxZ51zPN/Crypt-OpenSSL-PKCS10-0.28/blib/arch
    PERL5_CPANPLUS_IS_RUNNING = 89083
    PERL5_CPANPLUS_IS_VERSION = 0.9914
    PERL5_MINISMOKEBOX = 0.68
    PERL5_YACSMOKE_BASE = /home/cpan/pit/bare/conf/perl-5.24.0
    PERL_EXTUTILS_AUTOINSTALL = --defaultdeps
    PERL_LOCAL_LIB_ROOT = /home/cpan/pit/jail/VCy0A3FtEH
    PERL_MB_OPT = --install_base "/home/cpan/pit/jail/VCy0A3FtEH"
    PERL_MM_OPT = INSTALL_BASE=/home/cpan/pit/jail/VCy0A3FtEH
    PERL_MM_USE_DEFAULT = 1
    SHELL = /usr/local/bin/bash
    TERM = screen.xterm-256color

Perl special variables (and OS-specific diagnostics, for MSWin32):

    Perl: $^X = /home/cpan/pit/bare/perl-5.24.0/bin/perl
    UID:  $<  = 1001
    EUID: $>  = 1001
    GID:  $(  = 1001 1001
    EGID: $)  = 1001 1001


-------------------------------


--

Summary of my perl5 (revision 5 version 24 subversion 0) configuration:
   
  Platform:
    osname=openbsd, osvers=7.3, archname=OpenBSD.amd64-openbsd
    uname='openbsd overture.bingosnet.co.uk 7.3 generic#1072 amd64 '
    config_args='-des -Dprefix=/home/cpan/pit/bare/perl-5.24.0'
    hint=recommended, useposix=true, d_sigaction=define
    useithreads=undef, usemultiplicity=undef
    use64bitint=define, use64bitall=define, uselongdouble=undef
    usemymalloc=n, bincompat5005=undef
  Compiler:
    cc='cc', ccflags ='-fno-strict-aliasing -pipe -fstack-protector-strong -I/usr/local/include',
    optimize='-O2',
    cppflags='-fno-strict-aliasing -pipe -fstack-protector-strong -I/usr/local/include'
    ccversion='', gccversion='OpenBSD Clang 13.0.0', gccosandvers=''
    intsize=4, longsize=8, ptrsize=8, doublesize=8, byteorder=12345678, doublekind=3
    d_longlong=define, longlongsize=8, d_longdbl=define, longdblsize=16, longdblkind=3
    ivtype='long', ivsize=8, nvtype='double', nvsize=8, Off_t='off_t', lseeksize=8
    alignbytes=8, prototype=define
  Linker and Libraries:
    ld='cc', ldflags ='-Wl,-E  -fstack-protector-strong -L/usr/local/lib'
    libpth=/usr/lib/clang/13.0.0/lib /usr/lib /usr/local/lib
    libs=-lpthread -lgdbm -lm -lutil -lc
    perllibs=-lpthread -lm -lutil -lc
    libc=/usr/lib/libc.so.97.0, so=so, useshrplib=false, libperl=libperl.a
    gnulibc_version=''
  Dynamic Linking:
    dlsrc=dl_dlopen.xs, dlext=so, d_dlsymun=undef, ccdlflags=' '
    cccdlflags='-DPIC -fPIC ', lddlflags='-shared -fPIC  -L/usr/local/lib -fstack-protector-strong'


Characteristics of this binary (from libperl): 
  Compile-time options: HAS_TIMES PERLIO_LAYERS PERL_COPY_ON_WRITE
                        PERL_DONT_CREATE_GVSV
                        PERL_HASH_FUNC_ONE_AT_A_TIME_HARD PERL_MALLOC_WRAP
                        PERL_PRESERVE_IVUV USE_64_BIT_ALL USE_64_BIT_INT
                        USE_LARGE_FILES USE_LOCALE USE_LOCALE_COLLATE
                        USE_LOCALE_CTYPE USE_LOCALE_NUMERIC USE_LOCALE_TIME
                        USE_PERLIO USE_PERL_ATOF
  Locally applied patches:
	Devel::PatchPerl 2.08
  Built under openbsd
  Compiled at May 29 2023 21:08:29
  %ENV:
    PERL5LIB="/home/cpan/pit/jail/VCy0A3FtEH/lib/perl5:/home/cpan/pit/bare/conf/perl-5.24.0/.cpanplus/5.24.0/build/x5pxZ51zPN/Crypt-OpenSSL-PKCS10-0.28/blib/lib:/home/cpan/pit/bare/conf/perl-5.24.0/.cpanplus/5.24.0/build/x5pxZ51zPN/Crypt-OpenSSL-PKCS10-0.28/blib/arch"
    PERL5_CPANPLUS_IS_RUNNING="89083"
    PERL5_CPANPLUS_IS_VERSION="0.9914"
    PERL5_MINISMOKEBOX="0.68"
    PERL5_YACSMOKE_BASE="/home/cpan/pit/bare/conf/perl-5.24.0"
    PERL_EXTUTILS_AUTOINSTALL="--defaultdeps"
    PERL_LOCAL_LIB_ROOT="/home/cpan/pit/jail/VCy0A3FtEH"
    PERL_MB_OPT="--install_base "/home/cpan/pit/jail/VCy0A3FtEH""
    PERL_MM_OPT="INSTALL_BASE=/home/cpan/pit/jail/VCy0A3FtEH"
    PERL_MM_USE_DEFAULT="1"
  @INC:
    /home/cpan/pit/jail/VCy0A3FtEH/lib/perl5/5.24.0/OpenBSD.amd64-openbsd
    /home/cpan/pit/jail/VCy0A3FtEH/lib/perl5/5.24.0
    /home/cpan/pit/jail/VCy0A3FtEH/lib/perl5/OpenBSD.amd64-openbsd
    /home/cpan/pit/jail/VCy0A3FtEH/lib/perl5
    /home/cpan/pit/bare/conf/perl-5.24.0/.cpanplus/5.24.0/build/x5pxZ51zPN/Crypt-OpenSSL-PKCS10-0.28/blib/lib
    /home/cpan/pit/bare/conf/perl-5.24.0/.cpanplus/5.24.0/build/x5pxZ51zPN/Crypt-OpenSSL-PKCS10-0.28/blib/arch
    /home/cpan/pit/bare/perl-5.24.0/lib/site_perl/5.24.0/OpenBSD.amd64-openbsd
    /home/cpan/pit/bare/perl-5.24.0/lib/site_perl/5.24.0
    /home/cpan/pit/bare/perl-5.24.0/lib/5.24.0/OpenBSD.amd64-openbsd
    /home/cpan/pit/bare/perl-5.24.0/lib/5.24.0
    .