Net-Upwork-API v2.3.0 Perl 5 v5.32.0 i686-linux-64int
- Status
- Pass
- From
- David Cantrell (DCANTRELL)
- Dist
-
Net-Upwork-API v2.3.0
- Platform
- Perl 5 v5.32.0 i686-linux-64int
- Date
- 2024-11-29 05:15:22
- ID
- eee23e5e-ae10-11ef-9c7e-d6ce9fa32e11
This distribution has been tested as part of the CPAN Testers
project, supporting the Perl programming language. See
http://wiki.cpantesters.org/ for more information or email
questions to cpan-testers-discuss@perl.org
--
Dear Maksym Novozhylov,
This is a computer-generated report for Net-Upwork-API-2.3.0
on perl 5.32.0, created by CPAN-Reporter-1.2018.
Thank you for uploading your work to CPAN. Congratulations!
All tests were successful.
Sections of this report:
* Tester comments
* Program output
* Prerequisites
* Environment and other context
------------------------------
TESTER COMMENTS
------------------------------
Additional comments from tester:
this report is from an automated smoke testing program
and was not reviewed by a human for accuracy
------------------------------
PROGRAM OUTPUT
------------------------------
Output from './Build test':
t/0-signature.t ............................. ok
t/00.load.t ................................. ok
t/01.core_packages.t ........................ ok
t/02.routers_auth.t ......................... ok
t/03.routers_messages.t ..................... ok
t/04.routers_snapshot.t ..................... ok
t/05.routers_metadata.t ..................... ok
t/06.routers_payments.t ..................... ok
t/07.routers_workdays.t ..................... ok
t/08.routers_workdiary.t .................... ok
t/09.routers_activities_engagement.t ........ ok
t/10.routers_activities_team.t .............. ok
t/11.routers_freelancers_profile.t .......... ok
t/12.routers_freelancers_search.t ........... ok
t/13.routers_jobs_profile.t ................. ok
t/14.routers_jobs_search.t .................. ok
t/15.routers_organization_companies.t ....... ok
t/16.routers_organization_teams.t ........... ok
t/17.routers_organization_users.t ........... ok
t/18.routers_hr_contracts.t ................. ok
t/19.routers_hr_engagements.t ............... ok
t/20.routers_hr_interviews.t ................ ok
t/21.routers_hr_jobs.t ...................... ok
t/22.routers_hr_milestones.t ................ ok
t/23.routers_hr_submissions.t ............... ok
t/24.routers_hr_clients_applications.t ...... ok
t/25.routers_hr_clients_offers.t ............ ok
t/26.routers_hr_freelancers_offers.t ........ ok
t/27.routers_hr_freelancers_applications.t .. ok
t/28.routers_reports_time.t ................. ok
t/29.routers_reports_finance_accounts.t ..... ok
t/30.routers_reports_finance_billings.t ..... ok
t/31.routers_reports_finance_earnings.t ..... ok
t/32.routers_graphql.t ...................... ok
All tests successful.
Files=34, Tests=180, 14 wallclock secs ( 0.18 usr 0.06 sys + 8.00 cusr 1.21 csys = 9.45 CPU)
Result: PASS
------------------------------
PREREQUISITES
------------------------------
Prerequisite modules loaded:
requires:
Module Need Have
--------------- ------ --------
IO::Socket::SSL 1.965 2.084
Net::OAuth2 0.67 0.67
perl v5.8.8 5.032000
build_requires:
Module Need Have
--------------- ------ --------
Test::More 0.66 1.302198
Test::Warn 0.21 0.37
configure_requires:
Module Need Have
--------------- ------ --------
Module::Build 0.42 0.4234
------------------------------
ENVIRONMENT AND OTHER CONTEXT
------------------------------
Environment variables:
AUTOMATED_TESTING = 1
LANG = en_GB.UTF-8
LANGUAGE = en_GB:en
LC_TERMINAL = iTerm2
LC_TERMINAL_VERSION = 3.5.10
NONINTERACTIVE_TESTING = 1
PATH = /home/david/.cargo/bin:/home/david/perl5/perlbrew/bin:/home/david/perl5/perlbrew/perls/perl-5.32.0/bin:/home/david/bin:/usr/local/bin:/usr/bin:/bin:/usr/local/games:/usr/games
PERL = 5.32.0-int64
PERL5LIB =
PERL5OPT =
PERL5_CPANPLUS_IS_RUNNING = 8420
PERL5_CPAN_IS_RUNNING = 8420
PERLBREW_HOME = /home/david/.perlbrew
PERLBREW_MANPATH = /home/david/perl5/perlbrew/perls/perl-5.32.0/man
PERLBREW_PATH = /home/david/perl5/perlbrew/bin:/home/david/perl5/perlbrew/perls/perl-5.32.0/bin
PERLBREW_PERL = perl-5.32.0
PERLBREW_ROOT = /home/david/perl5/perlbrew
PERLBREW_SHELLRC_VERSION = 0.89
PERLBREW_VERSION = 0.89
PERLVER = 5.32.0-int64
PERL_INLINE_DIRECTORY = /home/david/.Inline-5.32.0-int64
PERL_MM_USE_DEFAULT = 1
PERL_USE_UNSAFE_INC = 0
SHELL = /bin/bash
TERM = screen
Perl special variables (and OS-specific diagnostics, for MSWin32):
$^X = /home/david/cpantesting/perl-5.32.0-int64/bin/perl
$UID/$EUID = 1000 / 1000
$GID = 1000 24 25 27 29 30 44 46 109 1000
$EGID = 1000 24 25 27 29 30 44 46 109 1000
Perl module toolchain versions installed:
Module Have
------------------- --------
CPAN 2.27
CPAN::Meta 2.150010
Cwd 3.75
ExtUtils::CBuilder 0.280236
ExtUtils::Command 7.70
ExtUtils::Install 2.22
ExtUtils::MakeMaker 7.70
ExtUtils::Manifest 1.75
ExtUtils::ParseXS 3.51
File::Spec 3.75
JSON 4.10
JSON::PP 4.16
Module::Build 0.4234
Module::Signature n/a
Parse::CPAN::Meta 2.150010
Test::Harness 3.48
Test::More 1.302198
YAML 1.30
YAML::Syck 1.34
version 0.9930
--
Summary of my perl5 (revision 5 version 32 subversion 0) configuration:
Platform:
osname=linux
osvers=5.10.0-11-686-pae
archname=i686-linux-64int
uname='linux cpantesting-linux-32bit-utm 5.10.0-11-686-pae #1 smp debian 5.10.92-1 (2022-01-18) i686 gnulinux '
config_args='-de -Dprefix=/home/david/cpantesting/perl-5.32.0-int64 -Duse64bitint'
hint=recommended
useposix=true
d_sigaction=define
useithreads=undef
usemultiplicity=undef
use64bitint=define
use64bitall=undef
uselongdouble=undef
usemymalloc=n
default_inc_excludes_dot=define
bincompat5005=undef
Compiler:
cc='cc'
ccflags ='-fwrapv -fno-strict-aliasing -pipe -fstack-protector-strong -I/usr/local/include -D_LARGEFILE_SOURCE -D_FILE_OFFSET_BITS=64 -D_FORTIFY_SOURCE=2'
optimize='-O2'
cppflags='-fwrapv -fno-strict-aliasing -pipe -fstack-protector-strong -I/usr/local/include'
ccversion=''
gccversion='10.2.1 20210110'
gccosandvers=''
intsize=4
longsize=4
ptrsize=4
doublesize=8
byteorder=12345678
doublekind=3
d_longlong=define
longlongsize=8
d_longdbl=define
longdblsize=12
longdblkind=3
ivtype='long long'
ivsize=8
nvtype='double'
nvsize=8
Off_t='off_t'
lseeksize=8
alignbytes=4
prototype=define
Linker and Libraries:
ld='cc'
ldflags =' -fstack-protector-strong -L/usr/local/lib'
libpth=/usr/local/lib /usr/include/i386-linux-gnu /usr/lib /lib/i386-linux-gnu /lib/../lib /usr/lib/i386-linux-gnu /usr/lib/../lib /lib /lib64 /usr/lib64
libs=-lpthread -lnsl -ldl -lm -lcrypt -lutil -lc
perllibs=-lpthread -lnsl -ldl -lm -lcrypt -lutil -lc
libc=libc-2.31.so
so=so
useshrplib=false
libperl=libperl.a
gnulibc_version='2.31'
Dynamic Linking:
dlsrc=dl_dlopen.xs
dlext=so
d_dlsymun=undef
ccdlflags='-Wl,-E'
cccdlflags='-fPIC'
lddlflags='-shared -O2 -L/usr/local/lib -fstack-protector-strong'
Characteristics of this binary (from libperl):
Compile-time options:
HAS_TIMES
PERLIO_LAYERS
PERL_COPY_ON_WRITE
PERL_DONT_CREATE_GVSV
PERL_MALLOC_WRAP
PERL_OP_PARENT
PERL_PRESERVE_IVUV
USE_64_BIT_INT
USE_LARGE_FILES
USE_LOCALE
USE_LOCALE_COLLATE
USE_LOCALE_CTYPE
USE_LOCALE_NUMERIC
USE_LOCALE_TIME
USE_PERLIO
USE_PERL_ATOF
Built under linux
Compiled at Feb 8 2022 19:01:41
%ENV:
PERL="5.32.0-int64"
PERL5LIB=""
PERL5OPT=""
PERL5_CPANPLUS_IS_RUNNING="8420"
PERL5_CPAN_IS_RUNNING="8420"
PERLBREW_HOME="/home/david/.perlbrew"
PERLBREW_MANPATH="/home/david/perl5/perlbrew/perls/perl-5.32.0/man"
PERLBREW_PATH="/home/david/perl5/perlbrew/bin:/home/david/perl5/perlbrew/perls/perl-5.32.0/bin"
PERLBREW_PERL="perl-5.32.0"
PERLBREW_ROOT="/home/david/perl5/perlbrew"
PERLBREW_SHELLRC_VERSION="0.89"
PERLBREW_VERSION="0.89"
PERLVER="5.32.0-int64"
PERL_INLINE_DIRECTORY="/home/david/.Inline-5.32.0-int64"
PERL_MM_USE_DEFAULT="1"
PERL_USE_UNSAFE_INC="0"
@INC:
/home/david/cpantesting/perl-5.32.0-int64/lib/site_perl/5.32.0/i686-linux-64int
/home/david/cpantesting/perl-5.32.0-int64/lib/site_perl/5.32.0
/home/david/cpantesting/perl-5.32.0-int64/lib/5.32.0/i686-linux-64int
/home/david/cpantesting/perl-5.32.0-int64/lib/5.32.0