Net-Statsd-Server v0.20 Perl 5 v5.39.1 x86_64-linux-thread-multi-ld

Status
Pass
From
Andreas J. König (ANDK)
Dist
Net-Statsd-Server v0.20
Platform
Perl 5 v5.39.1 x86_64-linux-thread-multi-ld
Date
2023-08-12 17:59:08
ID
ef069b0c-3939-11ee-858d-317d6e249b46
This distribution has been tested as part of the CPAN Testers
project, supporting the Perl programming language.  See
http://wiki.cpantesters.org/ for more information or email
questions to cpan-testers-discuss@perl.org


--
Dear Cosimo Streppone,

This is a computer-generated report for Net-Statsd-Server-0.20
on perl 5.39.1, created by CPAN-Reporter-1.2019.

Thank you for uploading your work to CPAN.  Congratulations!
All tests were successful.

Sections of this report:

    * Tester comments
    * Program output
    * Prerequisites
    * Environment and other context

------------------------------
TESTER COMMENTS
------------------------------

Additional comments from tester:

this report is from an automated smoke testing program
and was not reviewed by a human for accuracy

------------------------------
PROGRAM OUTPUT
------------------------------

Output from '/usr/bin/make test':

PERL_DL_NONLAZY=1 "/tmp/basesmoker-reloperl-7R5g/bin/perl" "-MExtUtils::Command::MM" "-MTest::Harness" "-e" "undef *Test::Harness::Switches; test_harness(0, 'blib/lib', 'blib/arch')" t/*.t t/integration-tests/*.t
t/000-sanity.t ............................. ok
t/config.t ................................. ok
t/graphite.t ............................... ok
2023-08-12 17:55:54.000000 +0000 note  Net::Statsd::Server: Initializing Net::Statsd::Server::Backend::Console backend
2023-08-12 17:55:54.000000 +0000 note  Net::Statsd::Server: Initializing Net::Statsd::Server::Backend::Graphite backend
2023-08-12 17:55:54.000000 +0000 info  AnyEvent: Autoloaded model 'AnyEvent::Impl::EV', using it.
2023-08-12 17:55:54.980715 +0000 note  Net::Statsd::Server: statsd server started on 0.0.0.0:40001 (v0.17)
2023-08-12 17:55:54.980748 +0000 note  Net::Statsd::Server: manager interface started on 0.0.0.0:40002
2023-08-12 17:55:54.980778 +0000 note  Net::Statsd::Server: metrics flush will happen every 1s
2023-08-12 17:55:55.400958 +0000 warn  Net::Statsd::Server: Bad line: 1 in msg "a_bad_test_value|z"
2023-08-12 17:55:55.983088 +0000 note  Net::Statsd::Server: flushing metrics
Flushing stats at Sat Aug 12 17:55:55 2023
{"sets":null,"gauges":{},"pctThreshold":[90],"counter_rates":{"statsd.bad_lines_seen":1,"statsd.packets_received":1},"counters":{"statsd.bad_lines_seen":1,"statsd.packets_received":1},"timers":{},"timer_data":{}}
t/integration-tests/bad-message.t .......... ok
2023-08-12 17:55:56.000000 +0000 note  Net::Statsd::Server: Initializing Net::Statsd::Server::Backend::Console backend
2023-08-12 17:55:56.000000 +0000 note  Net::Statsd::Server: Initializing Net::Statsd::Server::Backend::Graphite backend
2023-08-12 17:55:56.000000 +0000 info  AnyEvent: Autoloaded model 'AnyEvent::Impl::EV', using it.
2023-08-12 17:55:56.249717 +0000 note  Net::Statsd::Server: statsd server started on 0.0.0.0:40001 (v0.17)
2023-08-12 17:55:56.249748 +0000 note  Net::Statsd::Server: manager interface started on 0.0.0.0:40002
2023-08-12 17:55:56.249778 +0000 note  Net::Statsd::Server: metrics flush will happen every 1s
2023-08-12 17:55:57.250916 +0000 note  Net::Statsd::Server: flushing metrics
Flushing stats at Sat Aug 12 17:55:57 2023
{"gauges":{},"timers":{},"counter_rates":{"statsd.packets_received":1,"statsd.bad_lines_seen":0,"a_test_value":100},"pctThreshold":[90],"sets":null,"counters":{"statsd.packets_received":1,"a_test_value":100,"statsd.bad_lines_seen":0},"timer_data":{}}
# stats.counters.statsd.packets_received.rate 1.000000 1691862957
# stats.counters.statsd.packets_received.count 1 1691862957
# stats.counters.a_test_value.rate 100.000000 1691862957
# stats.counters.a_test_value.count 100 1691862957
# stats.counters.statsd.bad_lines_seen.rate 0.000000 1691862957
# stats.counters.statsd.bad_lines_seen.count 0 1691862957
# stats.statsd.numStats 3 1691862957
# stats.statsd.graphiteStats.calculationtime 0.039000 1691862957
# stats.statsd.processing_time 0.018 1691862957
# stats.statsd.graphiteStats.last_exception 93886079818536 1691862957
# stats.statsd.graphiteStats.last_flush 93886079818536 1691862957
t/integration-tests/counts-are-valid.t ..... ok
2023-08-12 17:55:57.000000 +0000 note  Net::Statsd::Server: Initializing Net::Statsd::Server::Backend::Graphite backend
2023-08-12 17:55:57.000000 +0000 info  AnyEvent: Autoloaded model 'AnyEvent::Impl::EV', using it.
2023-08-12 17:55:57.469393 +0000 note  Net::Statsd::Server: statsd server started on 0.0.0.0:40001 (v0.17)
2023-08-12 17:55:57.469429 +0000 note  Net::Statsd::Server: manager interface started on 0.0.0.0:40002
2023-08-12 17:55:57.469460 +0000 note  Net::Statsd::Server: metrics flush will happen every 1s
2023-08-12 17:55:58.472172 +0000 note  Net::Statsd::Server: flushing metrics
# First flush. Test gauge should be there.
2023-08-12 17:55:59.473848 +0000 note  Net::Statsd::Server: flushing metrics
# Second flush. deleteGauges=false should keep the test gauge.
t/integration-tests/delete-gauges-false.t .. ok
2023-08-12 17:55:59.000000 +0000 note  Net::Statsd::Server: Initializing Net::Statsd::Server::Backend::Graphite backend
2023-08-12 17:55:59.000000 +0000 info  AnyEvent: Autoloaded model 'AnyEvent::Impl::EV', using it.
2023-08-12 17:55:59.678275 +0000 note  Net::Statsd::Server: statsd server started on 0.0.0.0:40001 (v0.17)
2023-08-12 17:55:59.678322 +0000 note  Net::Statsd::Server: manager interface started on 0.0.0.0:40002
2023-08-12 17:55:59.678353 +0000 note  Net::Statsd::Server: metrics flush will happen every 1s
2023-08-12 17:56:00.680402 +0000 note  Net::Statsd::Server: flushing metrics
# First flush. Test gauge should be there.
2023-08-12 17:56:01.682426 +0000 note  Net::Statsd::Server: flushing metrics
# Second flush. deleteIdleStats should have cleared the test gauge.
t/integration-tests/delete-idle-stats.t .... ok
2023-08-12 17:56:01.000000 +0000 note  Net::Statsd::Server: Initializing Net::Statsd::Server::Backend::Console backend
2023-08-12 17:56:01.000000 +0000 note  Net::Statsd::Server: Initializing Net::Statsd::Server::Backend::Graphite backend
2023-08-12 17:56:01.000000 +0000 info  AnyEvent: Autoloaded model 'AnyEvent::Impl::EV', using it.
2023-08-12 17:56:01.889467 +0000 note  Net::Statsd::Server: statsd server started on 0.0.0.0:40001 (v0.17)
2023-08-12 17:56:01.889498 +0000 note  Net::Statsd::Server: manager interface started on 0.0.0.0:40002
2023-08-12 17:56:01.889528 +0000 note  Net::Statsd::Server: metrics flush will happen every 1s
2023-08-12 17:56:02.892277 +0000 note  Net::Statsd::Server: flushing metrics
Flushing stats at Sat Aug 12 17:56:02 2023
{"pctThreshold":[90],"timers":{},"timer_data":{},"counter_rates":{"statsd.packets_received":1,"a_test_value,category=web,severity=high":100,"statsd.bad_lines_seen":0},"sets":null,"counters":{"statsd.bad_lines_seen":0,"a_test_value,category=web,severity=high":100,"statsd.packets_received":1},"gauges":{}}
# stats.counters.statsd.bad_lines_seen.rate 0.000000 1691862962
# stats.counters.statsd.bad_lines_seen.count 0 1691862962
# stats.counters.a_test_value,category=web,severity=high.rate 100.000000 1691862962
# stats.counters.a_test_value,category=web,severity=high.count 100 1691862962
# stats.counters.statsd.packets_received.rate 1.000000 1691862962
# stats.counters.statsd.packets_received.count 1 1691862962
# stats.statsd.numStats 3 1691862962
# stats.statsd.graphiteStats.calculationtime 0.039000 1691862962
# stats.statsd.processing_time 0.017 1691862962
# stats.statsd.graphiteStats.last_exception 94893656156968 1691862962
# stats.statsd.graphiteStats.last_flush 94893656156968 1691862962
t/integration-tests/keys-with-tags.t ....... ok
2023-08-12 17:56:03.000000 +0000 note  Net::Statsd::Server: Initializing Net::Statsd::Server::Backend::Graphite backend
2023-08-12 17:56:03.000000 +0000 info  AnyEvent: Autoloaded model 'AnyEvent::Impl::EV', using it.
2023-08-12 17:56:03.110739 +0000 note  Net::Statsd::Server: statsd server started on 0.0.0.0:40001 (v0.17)
2023-08-12 17:56:03.110770 +0000 note  Net::Statsd::Server: manager interface started on 0.0.0.0:40002
2023-08-12 17:56:03.110932 +0000 note  Net::Statsd::Server: metrics flush will happen every 1s
# Expected mean value is 2111.99
2023-08-12 17:56:04.113486 +0000 note  Net::Statsd::Server: flushing metrics
# stats.counters.statsd.bad_lines_seen.rate 0.000000 1691862964
# stats.counters.statsd.bad_lines_seen.count 0 1691862964
# stats.counters.statsd.packets_received.rate 100.000000 1691862964
# stats.counters.statsd.packets_received.count 100 1691862964
# stats.timers.read_latency.sum_99 208208.000000 1691862964
# stats.timers.read_latency.upper 2991.000000 1691862964
# stats.timers.read_latency.mean_98 2094.214286 1691862964
# stats.timers.read_latency.sum_95 196335.000000 1691862964
# stats.timers.read_latency.mean 2111.990000 1691862964
# stats.timers.read_latency.upper_98 2969.000000 1691862964
# stats.timers.read_latency.upper_95 2959.000000 1691862964
# stats.timers.read_latency.sum_98 205233.000000 1691862964
# stats.timers.read_latency.median 2144.000000 1691862964
# stats.timers.read_latency.mean_95 2066.684211 1691862964
# stats.timers.read_latency.std 578.375803 1691862964
# stats.timers.read_latency.count 100.000000 1691862964
# stats.timers.read_latency.lower 1024.000000 1691862964
# stats.timers.read_latency.sum_squares_95 435313841.000000 1691862964
# stats.timers.read_latency.count_95 95.000000 1691862964
# stats.timers.read_latency.count_98 98.000000 1691862964
# stats.timers.read_latency.sum_squares_98 461705327.000000 1691862964
# stats.timers.read_latency.sum_squares_99 470555952.000000 1691862964
# stats.timers.read_latency.sum_squares 479502033.000000 1691862964
# stats.timers.read_latency.mean_99 2103.111111 1691862964
# stats.timers.read_latency.sum 211199.000000 1691862964
# stats.timers.read_latency.upper_99 2975.000000 1691862964
# stats.timers.read_latency.count_ps 100.000000 1691862964
# stats.timers.read_latency.count_99 99.000000 1691862964
# stats.statsd.numStats 3 1691862964
# stats.statsd.graphiteStats.calculationtime 0.086000 1691862964
# stats.statsd.processing_time 0.214 1691862964
# stats.statsd.graphiteStats.last_exception 94232658258728 1691862964
# stats.statsd.graphiteStats.last_flush 94232658258728 1691862964
t/integration-tests/percent-threshold.t .... ok
2023-08-12 17:56:04.000000 +0000 note  Net::Statsd::Server: Initializing Net::Statsd::Server::Backend::Console backend
2023-08-12 17:56:04.000000 +0000 note  Net::Statsd::Server: Initializing Net::Statsd::Server::Backend::Graphite backend
2023-08-12 17:56:04.000000 +0000 info  AnyEvent: Autoloaded model 'AnyEvent::Impl::EV', using it.
2023-08-12 17:56:04.361103 +0000 note  Net::Statsd::Server: statsd server started on 0.0.0.0:40001 (v0.17)
2023-08-12 17:56:04.361157 +0000 note  Net::Statsd::Server: manager interface started on 0.0.0.0:40002
2023-08-12 17:56:04.361212 +0000 note  Net::Statsd::Server: metrics flush will happen every 1s
2023-08-12 17:56:05.362870 +0000 note  Net::Statsd::Server: flushing metrics
Flushing stats at Sat Aug 12 17:56:05 2023
{"counters":{"statsd.bad_lines_seen":0,"statsd.packets_received":1},"pctThreshold":["90"],"timers":{"a_test_value":["100"]},"gauges":{},"counter_rates":{"statsd.bad_lines_seen":0,"statsd.packets_received":1},"timer_data":{"a_test_value":{"upper_90":"100","mean":100,"lower":"100","count_90":1,"count":1,"sum_90":"100","std":0,"sum":"100","sum_squares":10000,"upper":"100","sum_squares_90":10000,"median":"100","mean_90":"100","count_ps":1}},"sets":null}
# stats.counters.statsd.bad_lines_seen.rate 0.000000 1691862965
# stats.counters.statsd.bad_lines_seen.count 0 1691862965
# stats.counters.statsd.packets_received.rate 1.000000 1691862965
# stats.counters.statsd.packets_received.count 1 1691862965
# stats.timers.a_test_value.upper_90 100.000000 1691862965
# stats.timers.a_test_value.mean 100.000000 1691862965
# stats.timers.a_test_value.lower 100.000000 1691862965
# stats.timers.a_test_value.count_90 1.000000 1691862965
# stats.timers.a_test_value.count 1.000000 1691862965
# stats.timers.a_test_value.sum_90 100.000000 1691862965
# stats.timers.a_test_value.std 0.000000 1691862965
# stats.timers.a_test_value.sum 100.000000 1691862965
# stats.timers.a_test_value.sum_squares 10000.000000 1691862965
# stats.timers.a_test_value.upper 100.000000 1691862965
# stats.timers.a_test_value.sum_squares_90 10000.000000 1691862965
# stats.timers.a_test_value.median 100.000000 1691862965
# stats.timers.a_test_value.mean_90 100.000000 1691862965
# stats.timers.a_test_value.count_ps 1.000000 1691862965
# stats.statsd.numStats 3 1691862965
# stats.statsd.graphiteStats.calculationtime 0.080000 1691862965
# stats.statsd.processing_time 0.051 1691862965
# stats.statsd.graphiteStats.last_exception 94522809801512 1691862965
# stats.statsd.graphiteStats.last_flush 94522809801512 1691862965
t/integration-tests/timers-are-valid.t ..... ok
t/process-metrics.t ........................ ok
t/trim.t ................................... ok
All tests successful.
Files=12, Tests=92, 11 wallclock secs ( 0.06 usr  0.01 sys +  1.28 cusr  0.28 csys =  1.63 CPU)
Result: PASS

------------------------------
PREREQUISITES
------------------------------

Prerequisite modules loaded:

requires:

    Module                Need Have    
    --------------------- ---- --------
    AnyEvent::Handle::UDP 0    0.050   
    IO::Socket::INET      0    1.52    
    JSON::XS              0    4.03    

build_requires:

    Module                Need Have    
    --------------------- ---- --------
    ExtUtils::MakeMaker   0    7.70    
    Test::More            0    1.302195

configure_requires:

    Module                Need Have    
    --------------------- ---- --------
    ExtUtils::MakeMaker   0    7.70    


------------------------------
ENVIRONMENT AND OTHER CONTEXT
------------------------------

Environment variables:

    AUTOMATED_TESTING = 1
    LANG = en_US.UTF-8
    PATH = /home/sand/bin:/usr/local/bin:/usr/local/sbin:/usr/sbin:/usr/bin:/sbin:/bin:/usr/games:/usr/local/games:/snap/bin:/usr/local/perl/bin:/usr/X11/bin
    PERL5LIB = /tmp/loop_over_bdir-2237323-WVu5pP/NoZone-1.3-0/blib/arch:/tmp/loop_over_bdir-2237323-WVu5pP/NoZone-1.3-0/blib/lib:/tmp/loop_over_bdir-2237323-WVu5pP/Alien-SNMP-MIBDEV-2.020000-0/blib/arch:/tmp/loop_over_bdir-2237323-WVu5pP/Alien-SNMP-MIBDEV-2.020000-0/blib/lib:/tmp/loop_over_bdir-2237323-WVu5pP/Business-Shipping-DataFiles-1.02-0/blib/arch:/tmp/loop_over_bdir-2237323-WVu5pP/Business-Shipping-DataFiles-1.02-0/blib/lib:/tmp/loop_over_bdir-2237323-WVu5pP/dta-tokwrap-0.98-0/blib/arch:/tmp/loop_over_bdir-2237323-WVu5pP/dta-tokwrap-0.98-0/blib/lib:/tmp/loop_over_bdir-2237323-WVu5pP/OSDial-3.0.2.124-0/blib/arch:/tmp/loop_over_bdir-2237323-WVu5pP/OSDial-3.0.2.124-0/blib/lib:/tmp/loop_over_bdir-2237323-WVu5pP/Devel-Required-0.16-0/blib/arch:/tmp/loop_over_bdir-2237323-WVu5pP/Devel-Required-0.16-0/blib/lib:/tmp/loop_over_bdir-2237323-WVu5pP/Lingua-BioYaTeA-0.11-0/blib/arch:/tmp/loop_over_bdir-2237323-WVu5pP/Lingua-BioYaTeA-0.11-0/blib/lib:/tmp/loop_over_bdir-2237323-WVu5pP/Lingua-YaTeA-0.626-0/blib/arch:/tmp/loop_over_bdir-2237323-WVu5pP/Lingua-YaTeA-0.626-0/blib/lib
    PERL5OPT = 
    PERL5_CPANPLUS_IS_RUNNING = 2237331
    PERL5_CPAN_IS_RUNNING = 2237331
    PERL_CANARY_STABILITY_NOPROMPT = 1
    PERL_MM_USE_DEFAULT = 1
    PERL_USE_UNSAFE_INC = 1
    SHELL = /usr/bin/zsh
    TERM = screen

Perl special variables (and OS-specific diagnostics, for MSWin32):

    $^X = /tmp/basesmoker-reloperl-7R5g/bin/perl
    $UID/$EUID = 1005 / 1005
    $GID = 1005 1005
    $EGID = 1005 1005

Perl module toolchain versions installed:

    Module              Have    
    ------------------- --------
    CPAN                2.36    
    CPAN::Meta          2.150010
    Cwd                 3.89    
    ExtUtils::CBuilder  0.280239
    ExtUtils::Command   7.70    
    ExtUtils::Install   2.22    
    ExtUtils::MakeMaker 7.70    
    ExtUtils::Manifest  1.75    
    ExtUtils::ParseXS   3.51    
    File::Spec          3.88    
    JSON                4.10    
    JSON::PP            4.16    
    Module::Build       0.4234  
    Module::Signature   0.88    
    Parse::CPAN::Meta   2.150010
    Test2               1.302195
    Test::Harness       3.44    
    Test::More          1.302195
    YAML                1.30    
    YAML::Syck          1.34    
    version             0.9929  


--

Summary of my perl5 (revision 5 version 39 subversion 1) configuration:
  Commit id: 8c6729f5e3d051878ec60933bcc19650d2dddb85
  Platform:
    osname=linux
    osvers=5.4.0-155-generic
    archname=x86_64-linux-thread-multi-ld
    uname='linux k93focal 5.4.0-155-generic #172-ubuntu smp fri jul 7 16:10:02 utc 2023 x86_64 x86_64 x86_64 gnulinux '
    config_args='-Dprefix=/home/sand/src/perl/repoperls/installed-perls/host/k93focal/v5.39.1/e463 -Dmyhostname=k93focal -Dinstallusrbinperl=n -Uversiononly -Dusedevel -des -Ui_db -Dlibswanted=cl pthread socket inet nsl gdbm dbm malloc dl ld sun m crypt sec util c cposix posix ucb BSD gdbm_compat -Duseithreads -Duselongdouble -DEBUGGING=both'
    hint=recommended
    useposix=true
    d_sigaction=define
    useithreads=define
    usemultiplicity=define
    use64bitint=define
    use64bitall=define
    uselongdouble=define
    usemymalloc=n
    default_inc_excludes_dot=define
  Compiler:
    cc='cc'
    ccflags ='-D_REENTRANT -D_GNU_SOURCE -fwrapv -DDEBUGGING -fno-strict-aliasing -pipe -fstack-protector-strong -I/usr/local/include -D_LARGEFILE_SOURCE -D_FILE_OFFSET_BITS=64'
    optimize='-O2 -g'
    cppflags='-D_REENTRANT -D_GNU_SOURCE -fwrapv -DDEBUGGING -fno-strict-aliasing -pipe -fstack-protector-strong -I/usr/local/include'
    ccversion=''
    gccversion='9.4.0'
    gccosandvers=''
    intsize=4
    longsize=8
    ptrsize=8
    doublesize=8
    byteorder=12345678
    doublekind=3
    d_longlong=define
    longlongsize=8
    d_longdbl=define
    longdblsize=16
    longdblkind=3
    ivtype='long'
    ivsize=8
    nvtype='long double'
    nvsize=16
    Off_t='off_t'
    lseeksize=8
    alignbytes=16
    prototype=define
  Linker and Libraries:
    ld='cc'
    ldflags =' -fstack-protector-strong -L/usr/local/lib'
    libpth=/usr/local/lib /usr/lib/x86_64-linux-gnu /usr/lib /usr/lib64
    libs=-lpthread -lnsl -ldl -lm -lcrypt -lutil -lc
    perllibs=-lpthread -lnsl -ldl -lm -lcrypt -lutil -lc
    libc=libc-2.31.so
    so=so
    useshrplib=false
    libperl=libperl.a
    gnulibc_version='2.31'
  Dynamic Linking:
    dlsrc=dl_dlopen.xs
    dlext=so
    d_dlsymun=undef
    ccdlflags='-Wl,-E'
    cccdlflags='-fPIC'
    lddlflags='-shared -O2 -g -L/usr/local/lib -fstack-protector-strong'


Characteristics of this binary (from libperl): 
  Compile-time options:
    DEBUGGING
    HAS_LONG_DOUBLE
    HAS_STRTOLD
    HAS_TIMES
    MULTIPLICITY
    PERLIO_LAYERS
    PERL_COPY_ON_WRITE
    PERL_DONT_CREATE_GVSV
    PERL_HASH_FUNC_SIPHASH13
    PERL_HASH_USE_SBOX32
    PERL_MALLOC_WRAP
    PERL_OP_PARENT
    PERL_PRESERVE_IVUV
    PERL_TRACK_MEMPOOL
    PERL_USE_DEVEL
    PERL_USE_SAFE_PUTENV
    USE_64_BIT_ALL
    USE_64_BIT_INT
    USE_ITHREADS
    USE_LARGE_FILES
    USE_LOCALE
    USE_LOCALE_COLLATE
    USE_LOCALE_CTYPE
    USE_LOCALE_NUMERIC
    USE_LOCALE_TIME
    USE_LONG_DOUBLE
    USE_PERLIO
    USE_PERL_ATOF
    USE_REENTRANT_API
    USE_THREAD_SAFE_LOCALE
  Built under linux
  Compiled at Aug  8 2023 19:09:29
  %ENV:
    PERL5LIB="/tmp/loop_over_bdir-2237323-WVu5pP/NoZone-1.3-0/blib/arch:/tmp/loop_over_bdir-2237323-WVu5pP/NoZone-1.3-0/blib/lib:/tmp/loop_over_bdir-2237323-WVu5pP/Alien-SNMP-MIBDEV-2.020000-0/blib/arch:/tmp/loop_over_bdir-2237323-WVu5pP/Alien-SNMP-MIBDEV-2.020000-0/blib/lib:/tmp/loop_over_bdir-2237323-WVu5pP/Business-Shipping-DataFiles-1.02-0/blib/arch:/tmp/loop_over_bdir-2237323-WVu5pP/Business-Shipping-DataFiles-1.02-0/blib/lib:/tmp/loop_over_bdir-2237323-WVu5pP/dta-tokwrap-0.98-0/blib/arch:/tmp/loop_over_bdir-2237323-WVu5pP/dta-tokwrap-0.98-0/blib/lib:/tmp/loop_over_bdir-2237323-WVu5pP/OSDial-3.0.2.124-0/blib/arch:/tmp/loop_over_bdir-2237323-WVu5pP/OSDial-3.0.2.124-0/blib/lib:/tmp/loop_over_bdir-2237323-WVu5pP/Devel-Required-0.16-0/blib/arch:/tmp/loop_over_bdir-2237323-WVu5pP/Devel-Required-0.16-0/blib/lib:/tmp/loop_over_bdir-2237323-WVu5pP/Lingua-BioYaTeA-0.11-0/blib/arch:/tmp/loop_over_bdir-2237323-WVu5pP/Lingua-BioYaTeA-0.11-0/blib/lib:/tmp/loop_over_bdir-2237323-WVu5pP/Lingua-YaTeA-0.626-0/blib/arch:/tmp/loop_over_bdir-2237323-WVu5pP/Lingua-YaTeA-0.626-0/blib/lib"
    PERL5OPT=""
    PERL5_CPANPLUS_IS_RUNNING="2237331"
    PERL5_CPAN_IS_RUNNING="2237331"
    PERL_CANARY_STABILITY_NOPROMPT="1"
    PERL_MM_USE_DEFAULT="1"
    PERL_USE_UNSAFE_INC="1"
  @INC:
    /tmp/loop_over_bdir-2237323-WVu5pP/NoZone-1.3-0/blib/arch
    /tmp/loop_over_bdir-2237323-WVu5pP/NoZone-1.3-0/blib/lib
    /tmp/loop_over_bdir-2237323-WVu5pP/Alien-SNMP-MIBDEV-2.020000-0/blib/arch
    /tmp/loop_over_bdir-2237323-WVu5pP/Alien-SNMP-MIBDEV-2.020000-0/blib/lib
    /tmp/loop_over_bdir-2237323-WVu5pP/Business-Shipping-DataFiles-1.02-0/blib/arch
    /tmp/loop_over_bdir-2237323-WVu5pP/Business-Shipping-DataFiles-1.02-0/blib/lib
    /tmp/loop_over_bdir-2237323-WVu5pP/dta-tokwrap-0.98-0/blib/arch
    /tmp/loop_over_bdir-2237323-WVu5pP/dta-tokwrap-0.98-0/blib/lib
    /tmp/loop_over_bdir-2237323-WVu5pP/OSDial-3.0.2.124-0/blib/arch
    /tmp/loop_over_bdir-2237323-WVu5pP/OSDial-3.0.2.124-0/blib/lib
    /tmp/loop_over_bdir-2237323-WVu5pP/Devel-Required-0.16-0/blib/arch
    /tmp/loop_over_bdir-2237323-WVu5pP/Devel-Required-0.16-0/blib/lib
    /tmp/loop_over_bdir-2237323-WVu5pP/Lingua-BioYaTeA-0.11-0/blib/arch
    /tmp/loop_over_bdir-2237323-WVu5pP/Lingua-BioYaTeA-0.11-0/blib/lib
    /tmp/loop_over_bdir-2237323-WVu5pP/Lingua-YaTeA-0.626-0/blib/arch
    /tmp/loop_over_bdir-2237323-WVu5pP/Lingua-YaTeA-0.626-0/blib/lib
    /home/sand/src/perl/repoperls/installed-perls/host/k93focal/v5.39.1/e463/lib/site_perl/5.39.1/x86_64-linux-thread-multi-ld
    /home/sand/src/perl/repoperls/installed-perls/host/k93focal/v5.39.1/e463/lib/site_perl/5.39.1
    /home/sand/src/perl/repoperls/installed-perls/host/k93focal/v5.39.1/e463/lib/5.39.1/x86_64-linux-thread-multi-ld
    /home/sand/src/perl/repoperls/installed-perls/host/k93focal/v5.39.1/e463/lib/5.39.1
    .